BEGIN:VCALENDAR
VERSION:2.0
PRODID:-//Events Calendar - ECPv6.15.20//NONSGML v1.0//EN
CALSCALE:GREGORIAN
METHOD:PUBLISH
X-ORIGINAL-URL:https://calendar.brainerd.com
X-WR-CALDESC:Events for Events Calendar
REFRESH-INTERVAL;VALUE=DURATION:PT1H
X-Robots-Tag:noindex
X-PUBLISHED-TTL:PT1H
BEGIN:VTIMEZONE
TZID:America/Chicago
BEGIN:DAYLIGHT
TZOFFSETFROM:-0600
TZOFFSETTO:-0500
TZNAME:CDT
DTSTART:20190310T080000
END:DAYLIGHT
BEGIN:STANDARD
TZOFFSETFROM:-0500
TZOFFSETTO:-0600
TZNAME:CST
DTSTART:20191103T070000
END:STANDARD
BEGIN:DAYLIGHT
TZOFFSETFROM:-0600
TZOFFSETTO:-0500
TZNAME:CDT
DTSTART:20200308T080000
END:DAYLIGHT
BEGIN:STANDARD
TZOFFSETFROM:-0500
TZOFFSETTO:-0600
TZNAME:CST
DTSTART:20201101T070000
END:STANDARD
BEGIN:DAYLIGHT
TZOFFSETFROM:-0600
TZOFFSETTO:-0500
TZNAME:CDT
DTSTART:20210314T080000
END:DAYLIGHT
BEGIN:STANDARD
TZOFFSETFROM:-0500
TZOFFSETTO:-0600
TZNAME:CST
DTSTART:20211107T070000
END:STANDARD
BEGIN:DAYLIGHT
TZOFFSETFROM:-0600
TZOFFSETTO:-0500
TZNAME:CDT
DTSTART:20220313T080000
END:DAYLIGHT
BEGIN:STANDARD
TZOFFSETFROM:-0500
TZOFFSETTO:-0600
TZNAME:CST
DTSTART:20221106T070000
END:STANDARD
BEGIN:DAYLIGHT
TZOFFSETFROM:-0600
TZOFFSETTO:-0500
TZNAME:CDT
DTSTART:20230312T080000
END:DAYLIGHT
BEGIN:STANDARD
TZOFFSETFROM:-0500
TZOFFSETTO:-0600
TZNAME:CST
DTSTART:20231105T070000
END:STANDARD
END:VTIMEZONE
BEGIN:VEVENT
DTSTART;TZID=America/Chicago:20220402T160000
DTEND;TZID=America/Chicago:20220402T200000
DTSTAMP:20260419T193713
CREATED:20220303T210701Z
LAST-MODIFIED:20220303T210701Z
UID:25650-1648915200-1648929600@calendar.brainerd.com
SUMMARY:Lightning Purse Bingo
DESCRIPTION:Get your tickets early to this years Purse Bingo for your chance to win one of ten designer Purses. In addition there will be on-site raffles for a chance to win Coolers filled with booze\, beer\, and wine. \nWhen: Saturday\, April 2nd at 4:00 p.m. \nLocation: Whitefish Lodge & Suites in Crosslake \nPricing: Pre-Pay Online $20.00 At the door $ $25.00 \nGame Packs sold at event $50 for 10 games. $5 raffle tickets to WIN one of 3 Boozie Coolers. \nCash Bar & Food will be available. \nSponsors: \nWhitefish Lodge & Suites \nNorthern Lakes Lightning Youth Hockey \nPleasureland RV center \nBar Stock Liquors \nGlacier Ice Houses \nTraveling for this event? Find Brainerd Lakes Area Lodging
URL:https://calendar.brainerd.com/event/lightning-purse-bingo/
LOCATION:Whitefish Lodge\, 14150 Swann Dr\, Crosslake\, MN\, 56442\, United States
GEO:46.6718789;-94.104765
X-APPLE-STRUCTURED-LOCATION;VALUE=URI;X-ADDRESS=Whitefish Lodge 14150 Swann Dr Crosslake MN 56442 United States;X-APPLE-RADIUS=500;X-TITLE=14150 Swann Dr:geo:-94.104765,46.6718789
END:VEVENT
BEGIN:VEVENT
DTSTART;TZID=America/Chicago:20220319T120000
DTEND;TZID=America/Chicago:20220319T120000
DTSTAMP:20260419T193713
CREATED:20220316T192556Z
LAST-MODIFIED:20220316T192556Z
UID:25716-1647691200-1647691200@calendar.brainerd.com
SUMMARY:St. Patrick's Parking Lot Party
DESCRIPTION:Full Bar & Food Garden\nOpen at 12 pm\nLive Music by Shane Martin: 12 pm\nLive Music by Pandemic: 3 pm \nTraveling for this event? Find Brainerd Lakes Area Lodging
URL:https://calendar.brainerd.com/event/st-patricks-parking-lot-party/
LOCATION:Whitefish Lodge\, 14150 Swann Dr\, Crosslake\, MN\, 56442\, United States
GEO:46.6718789;-94.104765
X-APPLE-STRUCTURED-LOCATION;VALUE=URI;X-ADDRESS=Whitefish Lodge 14150 Swann Dr Crosslake MN 56442 United States;X-APPLE-RADIUS=500;X-TITLE=14150 Swann Dr:geo:-94.104765,46.6718789
END:VEVENT
BEGIN:VEVENT
DTSTART;TZID=America/Chicago:20200314T090000
DTEND;TZID=America/Chicago:20200314T140000
DTSTAMP:20260419T193713
CREATED:20200128T235109Z
LAST-MODIFIED:20200313T155401Z
UID:22603-1584176400-1584194400@calendar.brainerd.com
SUMMARY:St. Patrick's Vendor & Craft Fair - CANCELLED
DESCRIPTION:This event has been cancelled. \nView more Brainerd MN Events & Activities | Find Brainerd Resorts | Book your Brainerd Hotel
URL:https://calendar.brainerd.com/event/whitefish-lodge-st-patricks-vendor-craft-fair/
LOCATION:Whitefish Lodge\, 14150 Swann Dr\, Crosslake\, MN\, 56442\, United States
GEO:46.6718789;-94.104765
X-APPLE-STRUCTURED-LOCATION;VALUE=URI;X-ADDRESS=Whitefish Lodge 14150 Swann Dr Crosslake MN 56442 United States;X-APPLE-RADIUS=500;X-TITLE=14150 Swann Dr:geo:-94.104765,46.6718789
END:VEVENT
END:VCALENDAR