BEGIN:VCALENDAR
VERSION:2.0
PRODID:-//Events Calendar - ECPv6.15.20//NONSGML v1.0//EN
CALSCALE:GREGORIAN
METHOD:PUBLISH
X-ORIGINAL-URL:https://calendar.brainerd.com
X-WR-CALDESC:Events for Events Calendar
REFRESH-INTERVAL;VALUE=DURATION:PT1H
X-Robots-Tag:noindex
X-PUBLISHED-TTL:PT1H
BEGIN:VTIMEZONE
TZID:America/Chicago
BEGIN:DAYLIGHT
TZOFFSETFROM:-0600
TZOFFSETTO:-0500
TZNAME:CDT
DTSTART:20190310T080000
END:DAYLIGHT
BEGIN:STANDARD
TZOFFSETFROM:-0500
TZOFFSETTO:-0600
TZNAME:CST
DTSTART:20191103T070000
END:STANDARD
BEGIN:DAYLIGHT
TZOFFSETFROM:-0600
TZOFFSETTO:-0500
TZNAME:CDT
DTSTART:20200308T080000
END:DAYLIGHT
BEGIN:STANDARD
TZOFFSETFROM:-0500
TZOFFSETTO:-0600
TZNAME:CST
DTSTART:20201101T070000
END:STANDARD
BEGIN:DAYLIGHT
TZOFFSETFROM:-0600
TZOFFSETTO:-0500
TZNAME:CDT
DTSTART:20210314T080000
END:DAYLIGHT
BEGIN:STANDARD
TZOFFSETFROM:-0500
TZOFFSETTO:-0600
TZNAME:CST
DTSTART:20211107T070000
END:STANDARD
END:VTIMEZONE
BEGIN:VEVENT
DTSTART;TZID=America/Chicago:20200214T180000
DTEND;TZID=America/Chicago:20200214T210000
DTSTAMP:20260420T102544
CREATED:20200121T164856Z
LAST-MODIFIED:20200121T164856Z
UID:22521-1581703200-1581714000@calendar.brainerd.com
SUMMARY:Valentine's Day Parents Night Out!
DESCRIPTION:Drop off your kid(s) for THREE HOURS of staff-organized games\, crafts\, snacks and of course supervised Open Play at the Kid’s Gym! Ages 3-13\, potty-trained only please. \nEnjoy a HUGE DISCOUNT off our normal We Rock Care/Break-Time rate of $15/hr/child — only $35 for your first child and just $7 for each additional sibling for the evening to save you money for your Valentine date night! \nView more Brainerd MN Events & Activities | Find Brainerd Resorts | Book your Brainerd Hotel
URL:https://calendar.brainerd.com/event/valentines-day-parents-night-out/
LOCATION:We Rock the Spectrum Kids Gym\, 13495 Elder Dr S #160\, Baxter\, MN\, 56425\, United States
GEO:46.3472284;-94.249982
X-APPLE-STRUCTURED-LOCATION;VALUE=URI;X-ADDRESS=We Rock the Spectrum Kids Gym 13495 Elder Dr S #160 Baxter MN 56425 United States;X-APPLE-RADIUS=500;X-TITLE=13495 Elder Dr S #160:geo:-94.249982,46.3472284
END:VEVENT
END:VCALENDAR