BEGIN:VCALENDAR
VERSION:2.0
PRODID:-//Events Calendar - ECPv6.15.20//NONSGML v1.0//EN
CALSCALE:GREGORIAN
METHOD:PUBLISH
X-WR-CALNAME:Events Calendar
X-ORIGINAL-URL:https://calendar.brainerd.com
X-WR-CALDESC:Events for Events Calendar
REFRESH-INTERVAL;VALUE=DURATION:PT1H
X-Robots-Tag:noindex
X-PUBLISHED-TTL:PT1H
BEGIN:VTIMEZONE
TZID:America/Chicago
BEGIN:DAYLIGHT
TZOFFSETFROM:-0600
TZOFFSETTO:-0500
TZNAME:CDT
DTSTART:20200308T080000
END:DAYLIGHT
BEGIN:STANDARD
TZOFFSETFROM:-0500
TZOFFSETTO:-0600
TZNAME:CST
DTSTART:20201101T070000
END:STANDARD
BEGIN:DAYLIGHT
TZOFFSETFROM:-0600
TZOFFSETTO:-0500
TZNAME:CDT
DTSTART:20210314T080000
END:DAYLIGHT
BEGIN:STANDARD
TZOFFSETFROM:-0500
TZOFFSETTO:-0600
TZNAME:CST
DTSTART:20211107T070000
END:STANDARD
BEGIN:DAYLIGHT
TZOFFSETFROM:-0600
TZOFFSETTO:-0500
TZNAME:CDT
DTSTART:20220313T080000
END:DAYLIGHT
BEGIN:STANDARD
TZOFFSETFROM:-0500
TZOFFSETTO:-0600
TZNAME:CST
DTSTART:20221106T070000
END:STANDARD
BEGIN:DAYLIGHT
TZOFFSETFROM:-0600
TZOFFSETTO:-0500
TZNAME:CDT
DTSTART:20230312T080000
END:DAYLIGHT
BEGIN:STANDARD
TZOFFSETFROM:-0500
TZOFFSETTO:-0600
TZNAME:CST
DTSTART:20231105T070000
END:STANDARD
END:VTIMEZONE
BEGIN:VEVENT
DTSTART;TZID=America/Chicago:20220813T170000
DTEND;TZID=America/Chicago:20220813T210000
DTSTAMP:20260420T083202
CREATED:20220727T171924Z
LAST-MODIFIED:20220727T171924Z
UID:26625-1660410000-1660424400@calendar.brainerd.com
SUMMARY:Pints for a Purpose: Celebration of 70
DESCRIPTION:Second annual Pints for a Purpose: Celebration of 70 miles fundraiser on behalf of the Cuyuna Lakes\nMountain Bike Crew (CREW) on Saturday\, August 13\, 2022\, from 5p to 9p at Trailside Tavern on Main Street\,\nCrosby. \nThis summer marks the Cuyuna Lakes Mountain Bike Trails expanding to 70 miles of purpose-built\, one-way\, one-direction\, singletrack mountain bicycling trails.\nTo celebrate this historic milestone\, Trailside Tavern of Crosby\, MN\, and Fat Tire of Fort Collins\, CO\, are joining\nforces to host the second annual Pints for a Purpose: Celebration of 70 fundraiser on behalf of the Cuyuna Lakes\nMountain Bike Crew (CREW) \nTo properly recognize this feat\, there is going to be a raffle where one lucky winner will ride away on a limited-edition\, 30th Anniversary Fat Tire Specialized Stumpjumper valued at well over $3\,000. \nThe Cuyuna Lakes Mountain Bike Crew will sell raffle tickets at the event for $5 per ticket\, or\, as many tickets as\nyour arm is long for $20. (Yup\, let’s have some fun!) Every dollar from the raffle ticket sales will be donated to the\nCREW on behalf of their ongoing volunteer trail maintenance. The winning ticket will be selected by a CREW\nrepresentative at the end of the fundraiser\, around 9p. You must be present to win. \nTrailside Tavern will feature live music by Tony Williams from 6p to 9p and will offer a backyard picnic complete\nwith pulled pork sandwiches\, chips\, beans\, and coleslaw for $15.95 per person. In addition\, Fat Tire will donate $1 from every can of Fat Tire or VooDoo Ranger beer purchased during the Pints for a Purpose fundraiser (and all\nweekend long) at Trailside Tavern. \nTraveling for this event? Find Brainerd Lakes Area Lodging
URL:https://calendar.brainerd.com/event/pints-for-a-purpose-celebration-of-70/
LOCATION:Trailside Tavern\, 212 W Main St\, Crosby\, MN\, 56441\, United States
GEO:46.4822629;-93.956735
X-APPLE-STRUCTURED-LOCATION;VALUE=URI;X-ADDRESS=Trailside Tavern 212 W Main St Crosby MN 56441 United States;X-APPLE-RADIUS=500;X-TITLE=212 W Main St:geo:-93.956735,46.4822629
END:VEVENT
BEGIN:VEVENT
DTSTART;TZID=America/Chicago:20211208T080000
DTEND;TZID=America/Chicago:20211208T170000
DTSTAMP:20260420T083202
CREATED:20211208T151326Z
LAST-MODIFIED:20211208T151326Z
UID:24999-1638950400-1638982800@calendar.brainerd.com
SUMMARY:New Year Party - Trailside Tavern
DESCRIPTION:Join us New Years Eve from 10pm-2am as we ring in the new year! Shot & Drink specials. Kitchen open. DJ playing all your requests. Fun Fun Fun!!\n$3 Captain Coke\n$3 Fireball Shots\nFree Champagne Toast @ Midnight\nAppetizer Menu till 1am \nTraveling for this event? Find Brainerd Lakes Area Lodging
URL:https://calendar.brainerd.com/event/new-year-party-trailside-tavern/
LOCATION:Trailside Tavern\, 212 W Main St\, Crosby\, MN\, 56441\, United States
GEO:46.4822629;-93.956735
X-APPLE-STRUCTURED-LOCATION;VALUE=URI;X-ADDRESS=Trailside Tavern 212 W Main St Crosby MN 56441 United States;X-APPLE-RADIUS=500;X-TITLE=212 W Main St:geo:-93.956735,46.4822629
END:VEVENT
END:VCALENDAR