BEGIN:VCALENDAR
VERSION:2.0
PRODID:-//Events Calendar - ECPv6.15.20//NONSGML v1.0//EN
CALSCALE:GREGORIAN
METHOD:PUBLISH
X-ORIGINAL-URL:https://calendar.brainerd.com
X-WR-CALDESC:Events for Events Calendar
REFRESH-INTERVAL;VALUE=DURATION:PT1H
X-Robots-Tag:noindex
X-PUBLISHED-TTL:PT1H
BEGIN:VTIMEZONE
TZID:America/Chicago
BEGIN:DAYLIGHT
TZOFFSETFROM:-0600
TZOFFSETTO:-0500
TZNAME:CDT
DTSTART:20240310T080000
END:DAYLIGHT
BEGIN:STANDARD
TZOFFSETFROM:-0500
TZOFFSETTO:-0600
TZNAME:CST
DTSTART:20241103T070000
END:STANDARD
BEGIN:DAYLIGHT
TZOFFSETFROM:-0600
TZOFFSETTO:-0500
TZNAME:CDT
DTSTART:20250309T080000
END:DAYLIGHT
BEGIN:STANDARD
TZOFFSETFROM:-0500
TZOFFSETTO:-0600
TZNAME:CST
DTSTART:20251102T070000
END:STANDARD
BEGIN:DAYLIGHT
TZOFFSETFROM:-0600
TZOFFSETTO:-0500
TZNAME:CDT
DTSTART:20260308T080000
END:DAYLIGHT
BEGIN:STANDARD
TZOFFSETFROM:-0500
TZOFFSETTO:-0600
TZNAME:CST
DTSTART:20261101T070000
END:STANDARD
END:VTIMEZONE
BEGIN:VEVENT
DTSTART;TZID=America/Chicago:20251016T180000
DTEND;TZID=America/Chicago:20251016T210000
DTSTAMP:20260424T100811
CREATED:20250915T180409Z
LAST-MODIFIED:20250915T180409Z
UID:42993-1760637600-1760648400@calendar.brainerd.com
SUMMARY:Beer vs Bourbon Dinner at The Preserve Smokehouse
DESCRIPTION:Get ready for a culinary showdown at The Preserve Smokehouse. For one night only\, smoky barbecue meets bold pours in a five-course dinner that pairs each dish with craft beer from Jack Pine Brewery and premium bourbon from Tattersall Distilling Co. \nWhether you’re a beer enthusiast\, a bourbon connoisseur or simply love great food\, this interactive dinner is your chance to taste\, compare and cast your vote: What pairs better—beer or bourbon? \nSeats are limited\, and this exclusive event will sell out fast. \nView Menu\n$100/person\nReservations required: 218-963-8756 \nView more Brainerd MN Events & Activities | Find Brainerd Resorts | Book your Brainerd Hotel
URL:https://calendar.brainerd.com/event/beer-vs-bourbon-dinner-at-the-preserve-smokehouse/
LOCATION:The Preserve Smokehouse\, 5505 Preserve Blvd\, Pequot Lakes\, 56472\, United States
END:VEVENT
END:VCALENDAR