BEGIN:VCALENDAR
VERSION:2.0
PRODID:-//Events Calendar - ECPv6.15.20//NONSGML v1.0//EN
CALSCALE:GREGORIAN
METHOD:PUBLISH
X-ORIGINAL-URL:https://calendar.brainerd.com
X-WR-CALDESC:Events for Events Calendar
REFRESH-INTERVAL;VALUE=DURATION:PT1H
X-Robots-Tag:noindex
X-PUBLISHED-TTL:PT1H
BEGIN:VTIMEZONE
TZID:America/Chicago
BEGIN:DAYLIGHT
TZOFFSETFROM:-0600
TZOFFSETTO:-0500
TZNAME:CDT
DTSTART:20220313T080000
END:DAYLIGHT
BEGIN:STANDARD
TZOFFSETFROM:-0500
TZOFFSETTO:-0600
TZNAME:CST
DTSTART:20221106T070000
END:STANDARD
BEGIN:DAYLIGHT
TZOFFSETFROM:-0600
TZOFFSETTO:-0500
TZNAME:CDT
DTSTART:20230312T080000
END:DAYLIGHT
BEGIN:STANDARD
TZOFFSETFROM:-0500
TZOFFSETTO:-0600
TZNAME:CST
DTSTART:20231105T070000
END:STANDARD
BEGIN:DAYLIGHT
TZOFFSETFROM:-0600
TZOFFSETTO:-0500
TZNAME:CDT
DTSTART:20240310T080000
END:DAYLIGHT
BEGIN:STANDARD
TZOFFSETFROM:-0500
TZOFFSETTO:-0600
TZNAME:CST
DTSTART:20241103T070000
END:STANDARD
END:VTIMEZONE
BEGIN:VEVENT
DTSTART;TZID=America/Chicago:20230512T180000
DTEND;TZID=America/Chicago:20230512T210000
DTSTAMP:20260419T222510
CREATED:20230510T182956Z
LAST-MODIFIED:20230510T182956Z
UID:29333-1683914400-1683925200@calendar.brainerd.com
SUMMARY:Lakes Jam Pre-Jam Party at the Pitstop
DESCRIPTION:Join us on May 12th from 6-9 pm at Pitstop for a live performance by Kelly Peterson\, and get ready to dance the night away. This event is the perfect way to get pumped for the upcoming Lakes Jam festival\, so don’t miss out. See you there! \nTraveling for this event? Find Brainerd Lakes Area Lodging
URL:https://calendar.brainerd.com/event/lakes-jam-pre-jam-party-at-the-pitstop/
LOCATION:The Pitstop\, 723 Laurel Street\, Brainerd\, MN\, 56401\, United States
GEO:46.3559403;-94.197873
X-APPLE-STRUCTURED-LOCATION;VALUE=URI;X-ADDRESS=The Pitstop 723 Laurel Street Brainerd MN 56401 United States;X-APPLE-RADIUS=500;X-TITLE=723 Laurel Street:geo:-94.197873,46.3559403
END:VEVENT
END:VCALENDAR