BEGIN:VCALENDAR
VERSION:2.0
PRODID:-//Events Calendar - ECPv6.15.20//NONSGML v1.0//EN
CALSCALE:GREGORIAN
METHOD:PUBLISH
X-ORIGINAL-URL:https://calendar.brainerd.com
X-WR-CALDESC:Events for Events Calendar
REFRESH-INTERVAL;VALUE=DURATION:PT1H
X-Robots-Tag:noindex
X-PUBLISHED-TTL:PT1H
BEGIN:VTIMEZONE
TZID:America/Chicago
BEGIN:DAYLIGHT
TZOFFSETFROM:-0600
TZOFFSETTO:-0500
TZNAME:CDT
DTSTART:20230312T080000
END:DAYLIGHT
BEGIN:STANDARD
TZOFFSETFROM:-0500
TZOFFSETTO:-0600
TZNAME:CST
DTSTART:20231105T070000
END:STANDARD
BEGIN:DAYLIGHT
TZOFFSETFROM:-0600
TZOFFSETTO:-0500
TZNAME:CDT
DTSTART:20240310T080000
END:DAYLIGHT
BEGIN:STANDARD
TZOFFSETFROM:-0500
TZOFFSETTO:-0600
TZNAME:CST
DTSTART:20241103T070000
END:STANDARD
BEGIN:DAYLIGHT
TZOFFSETFROM:-0600
TZOFFSETTO:-0500
TZNAME:CDT
DTSTART:20250309T080000
END:DAYLIGHT
BEGIN:STANDARD
TZOFFSETFROM:-0500
TZOFFSETTO:-0600
TZNAME:CST
DTSTART:20251102T070000
END:STANDARD
END:VTIMEZONE
BEGIN:VEVENT
DTSTART;TZID=America/Chicago:20241109T090000
DTEND;TZID=America/Chicago:20241109T140000
DTSTAMP:20260420T111223
CREATED:20241104T213349Z
LAST-MODIFIED:20241104T213349Z
UID:39533-1731142800-1731160800@calendar.brainerd.com
SUMMARY:Hunter’s Widow Weekend Vendor Event
DESCRIPTION:Join us for a craft and vendor event on Saturday\, November 9th from 9 am – 2 pm at The Burn Nutrition in Baxter!\nWe will have a variety of vendors and crafters available\, so bring your friends and support some amazing local small business owners. Shop for items for yourself and find some great gifts for the upcoming Holiday season! \n✨Teas and Shakes will be available for purchase during the event✨ \nView more Brainerd MN Events & Activities | Find Brainerd Resorts | Book your Brainerd Hotel
URL:https://calendar.brainerd.com/event/hunters-widow-weekend-vendor-event/
LOCATION:The Burn\, 514 Washington Street\, Brainerd\, MN\, 56401\, United States
GEO:46.3580869;-94.2014856
X-APPLE-STRUCTURED-LOCATION;VALUE=URI;X-ADDRESS=The Burn 514 Washington Street Brainerd MN 56401 United States;X-APPLE-RADIUS=500;X-TITLE=514 Washington Street:geo:-94.2014856,46.3580869
END:VEVENT
END:VCALENDAR