BEGIN:VCALENDAR
VERSION:2.0
PRODID:-//Events Calendar - ECPv6.15.20//NONSGML v1.0//EN
CALSCALE:GREGORIAN
METHOD:PUBLISH
X-WR-CALNAME:Events Calendar
X-ORIGINAL-URL:https://calendar.brainerd.com
X-WR-CALDESC:Events for Events Calendar
REFRESH-INTERVAL;VALUE=DURATION:PT1H
X-Robots-Tag:noindex
X-PUBLISHED-TTL:PT1H
BEGIN:VTIMEZONE
TZID:America/Chicago
BEGIN:DAYLIGHT
TZOFFSETFROM:-0600
TZOFFSETTO:-0500
TZNAME:CDT
DTSTART:20210314T080000
END:DAYLIGHT
BEGIN:STANDARD
TZOFFSETFROM:-0500
TZOFFSETTO:-0600
TZNAME:CST
DTSTART:20211107T070000
END:STANDARD
BEGIN:DAYLIGHT
TZOFFSETFROM:-0600
TZOFFSETTO:-0500
TZNAME:CDT
DTSTART:20220313T080000
END:DAYLIGHT
BEGIN:STANDARD
TZOFFSETFROM:-0500
TZOFFSETTO:-0600
TZNAME:CST
DTSTART:20221106T070000
END:STANDARD
BEGIN:DAYLIGHT
TZOFFSETFROM:-0600
TZOFFSETTO:-0500
TZNAME:CDT
DTSTART:20230312T080000
END:DAYLIGHT
BEGIN:STANDARD
TZOFFSETFROM:-0500
TZOFFSETTO:-0600
TZNAME:CST
DTSTART:20231105T070000
END:STANDARD
BEGIN:DAYLIGHT
TZOFFSETFROM:-0600
TZOFFSETTO:-0500
TZNAME:CDT
DTSTART:20240310T080000
END:DAYLIGHT
BEGIN:STANDARD
TZOFFSETFROM:-0500
TZOFFSETTO:-0600
TZNAME:CST
DTSTART:20241103T070000
END:STANDARD
BEGIN:DAYLIGHT
TZOFFSETFROM:-0600
TZOFFSETTO:-0500
TZNAME:CDT
DTSTART:20250309T080000
END:DAYLIGHT
BEGIN:STANDARD
TZOFFSETFROM:-0500
TZOFFSETTO:-0600
TZNAME:CST
DTSTART:20251102T070000
END:STANDARD
END:VTIMEZONE
BEGIN:VEVENT
DTSTART;TZID=America/Chicago:20240210T090000
DTEND;TZID=America/Chicago:20240210T170000
DTSTAMP:20260420T150528
CREATED:20231117T212317Z
LAST-MODIFIED:20231117T212317Z
UID:31080-1707555600-1707584400@calendar.brainerd.com
SUMMARY:2024 Bobber Bocce on Ice
DESCRIPTION:On February 10\, the temps may be cool\, but the competition will be hot! Bobber Bocce on Ice will have you embracing winter like a seasoned Minnesotan. This event is a hybrid of bocce ball and curling played on the ice of Sibley Lake in Pequot Lakes. Here\, you and your co-ed team of 4 (no more than two males on a team) will work together to see if you can be a top team. But it’s not all about winning. The day includes a hammer/nail game\, limbo contest\, bonfires\, food and drink sales\, music\, raffle drawing\, and lots of excitement. Sign your team up now — it’ll be the ‘coolest’ event you’ll ever attend! \nTraveling for this event? Find Brainerd Lakes Area Lodging
URL:https://calendar.brainerd.com/event/2024-bobber-bocce-on-ice/
LOCATION:Sibley Lake/Shuttle from TDS\, 30625 2nd St\, Pequot Lakes\, MN\, 56472\, United States
GEO:46.601006;-94.3145315
X-APPLE-STRUCTURED-LOCATION;VALUE=URI;X-ADDRESS=Sibley Lake/Shuttle from TDS 30625 2nd St Pequot Lakes MN 56472 United States;X-APPLE-RADIUS=500;X-TITLE=30625 2nd St:geo:-94.3145315,46.601006
END:VEVENT
BEGIN:VEVENT
DTSTART;TZID=America/Chicago:20230211T080000
DTEND;TZID=America/Chicago:20230211T170000
DTSTAMP:20260420T150528
CREATED:20221222T201147Z
LAST-MODIFIED:20221222T201147Z
UID:28125-1676102400-1676134800@calendar.brainerd.com
SUMMARY:Bobber Bocce on Ice 2023
DESCRIPTION:SAVE THE DATE! \nOn February 11\, the temps may be cool\, but the competition will be hot! Bobber Bocce on Ice will have you embracing winter like a seasoned Minnesotan. This event is a hybrid of bocce ball and curling played on the ice of Sibley Lake in Pequot Lakes. Here\, you and your co-ed team of 4 (2 males and 2 females) will work together to see if you can be a top team (prizes awarded for 1st\, 2nd\, and 3rd place teams!). But it’s not all about winning. The day includes ice games\, bonfires\, food and drink sales\, music\, raffle drawing\, and plenty of laughs. Sign your team up now — it’ll be the ‘coolest’ event you’ll ever attend! \nhttps://pequotlakes.com/bobber-bocce-on-ice \nMore information and registration COMING SOON! \nTraveling for this event? Find Brainerd Lakes Area Lodging
URL:https://calendar.brainerd.com/event/bobber-bocce-on-ice-2023/
LOCATION:Sibley Lake/Shuttle from TDS\, 30625 2nd St\, Pequot Lakes\, MN\, 56472\, United States
GEO:46.601006;-94.3145315
X-APPLE-STRUCTURED-LOCATION;VALUE=URI;X-ADDRESS=Sibley Lake/Shuttle from TDS 30625 2nd St Pequot Lakes MN 56472 United States;X-APPLE-RADIUS=500;X-TITLE=30625 2nd St:geo:-94.3145315,46.601006
END:VEVENT
BEGIN:VEVENT
DTSTART;TZID=America/Chicago:20220212T080000
DTEND;TZID=America/Chicago:20220212T160000
DTSTAMP:20260420T150528
CREATED:20211122T204134Z
LAST-MODIFIED:20211122T204134Z
UID:24965-1644652800-1644681600@calendar.brainerd.com
SUMMARY:Bobber Bocce on Ice
DESCRIPTION:On February 12\, the temps may be cool\, but the competition will be hot! Bobber Bocce on Ice will have you embracing the winter season like a seasoned Minnesotan. Bobber Bocce is a hybrid of bocce ball and curling played on plowed lanes on the ice. Gather your group of 4 co-eds and head to Sibley Lake in Pequot Lakes. Here\, you and your team will work together to see if you can be a top team. But it’s not all about winning. The day will be laid-back and full of laughs. It’ll be the ‘coolest’ event you’ll ever attend. After the event\, head to MN Traders Co. in Pequot Lakes to warm up with food and beverages. \nWe’ll see you on the ice! \nWhat You Need to Know: \nShuttle service will begin at TDS Telecom in Pequot Lakes at 8AM and is FREE for all attending the event. If you have a team participating\, please arrive to the lake as soon as possible to complete your check-in. Games will begin at 9AM. There will be no parking on the ice near the event. You may park at TDS Telecom or along Government Drive\, the Pequot Lakes Chamber building\, or St. Alice Catholic Church. Shuttle service will run from 8AM-4PM. The after party will take place at MN Traders Co. in Pequot Lakes! \nPricing Per Team: $100/ team of four. Register Now\nTeams must consist of two females and two males.\nPrizes will be awarded for 1st\, 2nd\, and 3rd place teams.\nThere will be a prize for best team name\, so get your creative minds thinking (name must be provided when signing up).\nBring Cash for food and alcohol purchases\, Bobber Bocce on Ice merchandise\, 50/50 Raffle\, and more! \nSpectators: Free to attend! \nSchedule of Events: \n8AM: Team Check-In \n9AM-4PM: Bobber Bocce on Ice & 50/50 Raffle \n11AM-3PM: My Famous Friends LIVE band \n9AM-3PM Brainerd Jaycees will be serving alcohol \n3PM: 50/50 Raffle Drawing (Don’t forget to bring cash to play!) \n8AM-4PM: Shuttle Service to and from TDS in Pequot Lakes \nAll Day: Fire on Ice \nAll Day: Ice Games \nAfter Party: MN Traders Co.Traveling for this event? Find Brainerd Lakes Area Lodging
URL:https://calendar.brainerd.com/event/bobber-bocce-on-ice/
LOCATION:Sibley Lake/Shuttle from TDS\, 30625 2nd St\, Pequot Lakes\, MN\, 56472\, United States
GEO:46.601006;-94.3145315
X-APPLE-STRUCTURED-LOCATION;VALUE=URI;X-ADDRESS=Sibley Lake/Shuttle from TDS 30625 2nd St Pequot Lakes MN 56472 United States;X-APPLE-RADIUS=500;X-TITLE=30625 2nd St:geo:-94.3145315,46.601006
END:VEVENT
END:VCALENDAR