BEGIN:VCALENDAR
VERSION:2.0
PRODID:-//Events Calendar - ECPv6.15.20//NONSGML v1.0//EN
CALSCALE:GREGORIAN
METHOD:PUBLISH
X-ORIGINAL-URL:https://calendar.brainerd.com
X-WR-CALDESC:Events for Events Calendar
REFRESH-INTERVAL;VALUE=DURATION:PT1H
X-Robots-Tag:noindex
X-PUBLISHED-TTL:PT1H
BEGIN:VTIMEZONE
TZID:America/Chicago
BEGIN:DAYLIGHT
TZOFFSETFROM:-0600
TZOFFSETTO:-0500
TZNAME:CDT
DTSTART:20240310T080000
END:DAYLIGHT
BEGIN:STANDARD
TZOFFSETFROM:-0500
TZOFFSETTO:-0600
TZNAME:CST
DTSTART:20241103T070000
END:STANDARD
BEGIN:DAYLIGHT
TZOFFSETFROM:-0600
TZOFFSETTO:-0500
TZNAME:CDT
DTSTART:20250309T080000
END:DAYLIGHT
BEGIN:STANDARD
TZOFFSETFROM:-0500
TZOFFSETTO:-0600
TZNAME:CST
DTSTART:20251102T070000
END:STANDARD
BEGIN:DAYLIGHT
TZOFFSETFROM:-0600
TZOFFSETTO:-0500
TZNAME:CDT
DTSTART:20260308T080000
END:DAYLIGHT
BEGIN:STANDARD
TZOFFSETFROM:-0500
TZOFFSETTO:-0600
TZNAME:CST
DTSTART:20261101T070000
END:STANDARD
END:VTIMEZONE
BEGIN:VEVENT
DTSTART;TZID=America/Chicago:20251021T090000
DTEND;TZID=America/Chicago:20251021T120000
DTSTAMP:20260420T230437
CREATED:20251009T204116Z
LAST-MODIFIED:20251009T204116Z
UID:43328-1761037200-1761048000@calendar.brainerd.com
SUMMARY:Toddler Tuesday at Rapid River Lodge
DESCRIPTION:Toddler Tuesday is back! 9am-noon today! \nView more Brainerd MN Events & Activities | Find Brainerd Resorts | Book your Brainerd Hotel
URL:https://calendar.brainerd.com/event/toddler-tuesday-at-rapid-river-lodge-2/
LOCATION:Rapid River Lodge & Waterpark\, 7376 Wioda Rd\, Baxter\, 56425\, United States
END:VEVENT
BEGIN:VEVENT
DTSTART;TZID=America/Chicago:20251007T090000
DTEND;TZID=America/Chicago:20251007T120000
DTSTAMP:20260420T230437
CREATED:20251006T202644Z
LAST-MODIFIED:20251006T205057Z
UID:43275-1759827600-1759838400@calendar.brainerd.com
SUMMARY:Toddler Tuesday at Rapid River Lodge
DESCRIPTION:Toddler Tuesday is back! 9am-noon today! \nView more Brainerd MN Events & Activities | Find Brainerd Resorts | Book your Brainerd Hotel
URL:https://calendar.brainerd.com/event/toddler-tuesday-at-rapid-river-lodge/
LOCATION:Rapid River Lodge & Waterpark\, 7376 Wioda Rd\, Baxter\, 56425\, United States
END:VEVENT
BEGIN:VEVENT
DTSTART;TZID=America/Chicago:20250318T090000
DTEND;TZID=America/Chicago:20250318T120000
DTSTAMP:20260420T230437
CREATED:20250317T174139Z
LAST-MODIFIED:20250317T174139Z
UID:40940-1742288400-1742299200@calendar.brainerd.com
SUMMARY:Toddler Tuesday at Rapid River Lodge & Waterpark
DESCRIPTION:Bring your little ones to Rapid River Lodge & Waterpark for some splash-tastic fun! ☀️\nFrom 9 AM to Noon\, we’ll turn off the slides to create a calmer pool environment\, perfect for our youngest guests. Begin your day with a peaceful morning at the kiddie pool and lazy river! \nView more Brainerd MN Events & Activities | Find Brainerd Resorts | Book your Brainerd Hotel
URL:https://calendar.brainerd.com/event/toddler-tuesday-at-rapid-river-lodge-waterpark-5/
LOCATION:Rapid River Lodge & Waterpark\, 7376 Wioda Rd\, Baxter\, 56425\, United States
END:VEVENT
BEGIN:VEVENT
DTSTART;TZID=America/Chicago:20250225T090000
DTEND;TZID=America/Chicago:20250225T120000
DTSTAMP:20260420T230437
CREATED:20250224T211355Z
LAST-MODIFIED:20250224T211355Z
UID:40737-1740474000-1740484800@calendar.brainerd.com
SUMMARY:Toddler Tuesday at Rapid River Lodge & Waterpark
DESCRIPTION:Bring your little ones to Rapid River Lodge & Waterpark for some splash-tastic fun! ☀️\nFrom 9 AM to Noon\, we’ll turn off the slides to create a calmer pool environment\, perfect for our youngest guests. Begin your day with a peaceful morning at the kiddie pool and lazy river! \nView more Brainerd MN Events & Activities | Find Brainerd Resorts | Book your Brainerd Hotel
URL:https://calendar.brainerd.com/event/toddler-tuesday-at-rapid-river-lodge-waterpark-4/
LOCATION:Rapid River Lodge & Waterpark\, 7376 Wioda Rd\, Baxter\, 56425\, United States
END:VEVENT
BEGIN:VEVENT
DTSTART;TZID=America/Chicago:20250218T090000
DTEND;TZID=America/Chicago:20250218T120000
DTSTAMP:20260420T230437
CREATED:20250214T222211Z
LAST-MODIFIED:20250214T222211Z
UID:40642-1739869200-1739880000@calendar.brainerd.com
SUMMARY:Toddler Tuesday at Rapid River Lodge & Waterpark
DESCRIPTION:Bring your little ones to Rapid River Lodge & Waterpark for some splash-tastic fun! ☀️\nFrom 9 AM to Noon\, we’ll turn off the slides to create a calmer pool environment\, perfect for our youngest guests. Begin your day with a peaceful morning at the kiddie pool and lazy river!\nGet your tickets here. \nView more Brainerd MN Events & Activities | Find Brainerd Resorts | Book your Brainerd Hotel
URL:https://calendar.brainerd.com/event/toddler-tuesday-at-rapid-river-lodge-waterpark-3/
LOCATION:Rapid River Lodge & Waterpark\, 7376 Wioda Rd\, Baxter\, 56425\, United States
END:VEVENT
BEGIN:VEVENT
DTSTART;TZID=America/Chicago:20250114T090000
DTEND;TZID=America/Chicago:20250114T120000
DTSTAMP:20260420T230437
CREATED:20250110T223007Z
LAST-MODIFIED:20250110T223007Z
UID:40219-1736845200-1736856000@calendar.brainerd.com
SUMMARY:Toddler Tuesday at Rapid River Lodge & Waterpark
DESCRIPTION:Bring your little ones to Rapid River Lodge & Waterpark on January 7\, 14 & 28 for some splash-tastic fun! ☀️\nFrom 9 AM to Noon\, we’ll turn off the slides to create a calmer pool environment\, perfect for our youngest guests. Begin your day with a peaceful morning at the kiddie pool and lazy river!\nGet your tickets here. \nView more Brainerd MN Events & Activities | Find Brainerd Resorts | Book your Brainerd Hotel
URL:https://calendar.brainerd.com/event/toddler-tuesday-at-rapid-river-lodge-waterpark-2/
LOCATION:Rapid River Lodge & Waterpark\, 7376 Wioda Rd\, Baxter\, 56425\, United States
END:VEVENT
BEGIN:VEVENT
DTSTART;TZID=America/Chicago:20250107T090000
DTEND;TZID=America/Chicago:20250107T120000
DTSTAMP:20260420T230437
CREATED:20241230T224930Z
LAST-MODIFIED:20241230T224930Z
UID:40116-1736240400-1736251200@calendar.brainerd.com
SUMMARY:Toddler Tuesday at Rapid River Lodge & Waterpark
DESCRIPTION:Bring your little ones to Rapid River Lodge & Waterpark on January 7\, 14 & 28 for some splash-tastic fun! ☀️\nFrom 9 AM to Noon\, we’ll turn off the slides to create a calmer pool environment\, perfect for our youngest guests. Begin your day with a peaceful morning at the kiddie pool and lazy river!\nGet your tickets here. \nView more Brainerd MN Events & Activities | Find Brainerd Resorts | Book your Brainerd Hotel
URL:https://calendar.brainerd.com/event/toddler-tuesday-at-rapid-river-lodge-waterpark/
LOCATION:Rapid River Lodge & Waterpark\, 7376 Wioda Rd\, Baxter\, 56425\, United States
END:VEVENT
END:VCALENDAR