BEGIN:VCALENDAR
VERSION:2.0
PRODID:-//Events Calendar - ECPv6.15.20//NONSGML v1.0//EN
CALSCALE:GREGORIAN
METHOD:PUBLISH
X-WR-CALNAME:Events Calendar
X-ORIGINAL-URL:https://calendar.brainerd.com
X-WR-CALDESC:Events for Events Calendar
REFRESH-INTERVAL;VALUE=DURATION:PT1H
X-Robots-Tag:noindex
X-PUBLISHED-TTL:PT1H
BEGIN:VTIMEZONE
TZID:America/Chicago
BEGIN:DAYLIGHT
TZOFFSETFROM:-0600
TZOFFSETTO:-0500
TZNAME:CDT
DTSTART:20190310T080000
END:DAYLIGHT
BEGIN:STANDARD
TZOFFSETFROM:-0500
TZOFFSETTO:-0600
TZNAME:CST
DTSTART:20191103T070000
END:STANDARD
BEGIN:DAYLIGHT
TZOFFSETFROM:-0600
TZOFFSETTO:-0500
TZNAME:CDT
DTSTART:20200308T080000
END:DAYLIGHT
BEGIN:STANDARD
TZOFFSETFROM:-0500
TZOFFSETTO:-0600
TZNAME:CST
DTSTART:20201101T070000
END:STANDARD
BEGIN:DAYLIGHT
TZOFFSETFROM:-0600
TZOFFSETTO:-0500
TZNAME:CDT
DTSTART:20210314T080000
END:DAYLIGHT
BEGIN:STANDARD
TZOFFSETFROM:-0500
TZOFFSETTO:-0600
TZNAME:CST
DTSTART:20211107T070000
END:STANDARD
BEGIN:DAYLIGHT
TZOFFSETFROM:-0600
TZOFFSETTO:-0500
TZNAME:CDT
DTSTART:20220313T080000
END:DAYLIGHT
BEGIN:STANDARD
TZOFFSETFROM:-0500
TZOFFSETTO:-0600
TZNAME:CST
DTSTART:20221106T070000
END:STANDARD
END:VTIMEZONE
BEGIN:VEVENT
DTSTART;VALUE=DATE:20210509
DTEND;VALUE=DATE:20210511
DTSTAMP:20260419T225250
CREATED:20210430T142407Z
LAST-MODIFIED:20210430T142407Z
UID:24242-1620529200-1620615599@calendar.brainerd.com
SUMMARY:Mother's Day Brunch - Pine Ridge Golf Club
DESCRIPTION:Mother’s Day is coming up don’t forget to call us at 218-575-3300 or visit our event tab to reserve your table for brunch online.\nhttps://pineridgegolfclubmn.square.site/our-events \nWe WILL NOT be accepting walk-ins this year advanced reservations are required. \nTraveling for this event? Find Brainerd Lakes Area Lodging
URL:https://calendar.brainerd.com/event/mothers-day-brunch-pine-ridge-golf-club/
LOCATION:Pine Ridge Golf Club\, 34500 Hillcrest Rd\, Motley\, MN\, 56466\, United States
GEO:46.2641401;-94.6392485
X-APPLE-STRUCTURED-LOCATION;VALUE=URI;X-ADDRESS=Pine Ridge Golf Club 34500 Hillcrest Rd Motley MN 56466 United States;X-APPLE-RADIUS=500;X-TITLE=34500 Hillcrest Rd:geo:-94.6392485,46.2641401
END:VEVENT
BEGIN:VEVENT
DTSTART;TZID=America/Chicago:20200912T100000
DTEND;TZID=America/Chicago:20200912T150000
DTSTAMP:20260419T225250
CREATED:20200903T160551Z
LAST-MODIFIED:20200903T160551Z
UID:23424-1599904800-1599922800@calendar.brainerd.com
SUMMARY:Outdoor Vendor Sale
DESCRIPTION:Traveling for this event? Find Brainerd Lakes Area Lodging
URL:https://calendar.brainerd.com/event/outdoor-vendor-sale/
LOCATION:Pine Ridge Golf Club\, 34500 Hillcrest Rd\, Motley\, MN\, 56466\, United States
GEO:46.2641401;-94.6392485
X-APPLE-STRUCTURED-LOCATION;VALUE=URI;X-ADDRESS=Pine Ridge Golf Club 34500 Hillcrest Rd Motley MN 56466 United States;X-APPLE-RADIUS=500;X-TITLE=34500 Hillcrest Rd:geo:-94.6392485,46.2641401
END:VEVENT
END:VCALENDAR