BEGIN:VCALENDAR
VERSION:2.0
PRODID:-//Events Calendar - ECPv6.15.20//NONSGML v1.0//EN
CALSCALE:GREGORIAN
METHOD:PUBLISH
X-ORIGINAL-URL:https://calendar.brainerd.com
X-WR-CALDESC:Events for Events Calendar
REFRESH-INTERVAL;VALUE=DURATION:PT1H
X-Robots-Tag:noindex
X-PUBLISHED-TTL:PT1H
BEGIN:VTIMEZONE
TZID:America/Chicago
BEGIN:DAYLIGHT
TZOFFSETFROM:-0600
TZOFFSETTO:-0500
TZNAME:CDT
DTSTART:20210314T080000
END:DAYLIGHT
BEGIN:STANDARD
TZOFFSETFROM:-0500
TZOFFSETTO:-0600
TZNAME:CST
DTSTART:20211107T070000
END:STANDARD
BEGIN:DAYLIGHT
TZOFFSETFROM:-0600
TZOFFSETTO:-0500
TZNAME:CDT
DTSTART:20220313T080000
END:DAYLIGHT
BEGIN:STANDARD
TZOFFSETFROM:-0500
TZOFFSETTO:-0600
TZNAME:CST
DTSTART:20221106T070000
END:STANDARD
BEGIN:DAYLIGHT
TZOFFSETFROM:-0600
TZOFFSETTO:-0500
TZNAME:CDT
DTSTART:20230312T080000
END:DAYLIGHT
BEGIN:STANDARD
TZOFFSETFROM:-0500
TZOFFSETTO:-0600
TZNAME:CST
DTSTART:20231105T070000
END:STANDARD
END:VTIMEZONE
BEGIN:VEVENT
DTSTART;TZID=America/Chicago:20221031T173000
DTEND;TZID=America/Chicago:20221031T183000
DTSTAMP:20260419T131512
CREATED:20221026T144818Z
LAST-MODIFIED:20221026T144818Z
UID:27652-1667237400-1667241000@calendar.brainerd.com
SUMMARY:Halloween Drive Thru -  Pillager Fair
DESCRIPTION:Traveling for this event? Find Brainerd Lakes Area Lodging
URL:https://calendar.brainerd.com/event/halloween-drive-thru-pillager-fair/
LOCATION:Pillager Fair\, 207 East Second St S\, Pillager\, MN\, 56473\, United States
GEO:46.32886;-94.470607
X-APPLE-STRUCTURED-LOCATION;VALUE=URI;X-ADDRESS=Pillager Fair 207 East Second St S Pillager MN 56473 United States;X-APPLE-RADIUS=500;X-TITLE=207 East Second St S:geo:-94.470607,46.32886
END:VEVENT
BEGIN:VEVENT
DTSTART;VALUE=DATE:20220707
DTEND;VALUE=DATE:20220711
DTSTAMP:20260419T131512
CREATED:20220707T170611Z
LAST-MODIFIED:20220707T170611Z
UID:26542-1657162800-1657421999@calendar.brainerd.com
SUMMARY:Pillager Fair
DESCRIPTION:The Oldest Fair in Cass County\n\nJuly 7th to the 9th 2022 \nMark your calendars for the 2022 Cass County Fair!!! \n\nTraveling for this event? Find Brainerd Lakes Area Lodging
URL:https://calendar.brainerd.com/event/pillager-fair/
LOCATION:Pillager Fair\, 207 East Second St S\, Pillager\, MN\, 56473\, United States
GEO:46.32886;-94.470607
X-APPLE-STRUCTURED-LOCATION;VALUE=URI;X-ADDRESS=Pillager Fair 207 East Second St S Pillager MN 56473 United States;X-APPLE-RADIUS=500;X-TITLE=207 East Second St S:geo:-94.470607,46.32886
END:VEVENT
END:VCALENDAR