BEGIN:VCALENDAR
VERSION:2.0
PRODID:-//Events Calendar - ECPv6.15.20//NONSGML v1.0//EN
CALSCALE:GREGORIAN
METHOD:PUBLISH
X-WR-CALNAME:Events Calendar
X-ORIGINAL-URL:https://calendar.brainerd.com
X-WR-CALDESC:Events for Events Calendar
REFRESH-INTERVAL;VALUE=DURATION:PT1H
X-Robots-Tag:noindex
X-PUBLISHED-TTL:PT1H
BEGIN:VTIMEZONE
TZID:America/Chicago
BEGIN:DAYLIGHT
TZOFFSETFROM:-0600
TZOFFSETTO:-0500
TZNAME:CDT
DTSTART:20220313T080000
END:DAYLIGHT
BEGIN:STANDARD
TZOFFSETFROM:-0500
TZOFFSETTO:-0600
TZNAME:CST
DTSTART:20221106T070000
END:STANDARD
BEGIN:DAYLIGHT
TZOFFSETFROM:-0600
TZOFFSETTO:-0500
TZNAME:CDT
DTSTART:20230312T080000
END:DAYLIGHT
BEGIN:STANDARD
TZOFFSETFROM:-0500
TZOFFSETTO:-0600
TZNAME:CST
DTSTART:20231105T070000
END:STANDARD
BEGIN:DAYLIGHT
TZOFFSETFROM:-0600
TZOFFSETTO:-0500
TZNAME:CDT
DTSTART:20240310T080000
END:DAYLIGHT
BEGIN:STANDARD
TZOFFSETFROM:-0500
TZOFFSETTO:-0600
TZNAME:CST
DTSTART:20241103T070000
END:STANDARD
BEGIN:DAYLIGHT
TZOFFSETFROM:-0600
TZOFFSETTO:-0500
TZNAME:CDT
DTSTART:20250309T080000
END:DAYLIGHT
BEGIN:STANDARD
TZOFFSETFROM:-0500
TZOFFSETTO:-0600
TZNAME:CST
DTSTART:20251102T070000
END:STANDARD
END:VTIMEZONE
BEGIN:VEVENT
DTSTART;TZID=America/Chicago:20241221T100000
DTEND;TZID=America/Chicago:20241221T140000
DTSTAMP:20260421T015321
CREATED:20241025T195232Z
LAST-MODIFIED:20241025T195232Z
UID:39435-1734775200-1734789600@calendar.brainerd.com
SUMMARY:Northern MN Railroad Trackers
DESCRIPTION:The NMRHA operates as a 501(c)(3) non-profit organization dedicated to the discovery\, preservation\, and presentation of the rich heritage and importance of the railroad industry in Northern Minnesota. \nThere are O Scale\, HO Scale and G Scale layouts and running trains on display. There is also a small layout that children can operate. A 1/10 scale replica of the Wm Crooks steam engine sits outdoors in the train club yard. Children love to climb in and pretend they are the engineer. It’s a great photo opportunity. Do you want to learn how to build a model train? You can watch/help club members work on building the exhibits. \nView more Brainerd MN Events & Activities | Find Brainerd Resorts | Book your Brainerd Hotel
URL:https://calendar.brainerd.com/event/northern-mn-railroad-trackers-3/
LOCATION:Northern MN Railroad Heritage Assocation (NMRHA)\, 36184 County Road 66\, Crosslake\, Minnesota\, 56442\, United States
END:VEVENT
BEGIN:VEVENT
DTSTART;TZID=America/Chicago:20240518T100000
DTEND;TZID=America/Chicago:20240518T140000
DTSTAMP:20260421T015321
CREATED:20240513T210013Z
LAST-MODIFIED:20240513T210013Z
UID:32665-1716026400-1716040800@calendar.brainerd.com
SUMMARY:Northern MN Railroad Trackers
DESCRIPTION:The NMRHA operates as a 501(c)(3) non-profit organization dedicated to the discovery\, preservation\, and presentation of the rich heritage and importance of the railroad industry in Northern Minnesota. \nThere are O Scale\, HO Scale and G Scale layouts and running trains on display. There is also a small layout that children can operate. A 1/10 scale replica of the Wm Crooks steam engine sits outdoors in the train club yard. Children love to climb in and pretend they are the engineer. It’s a great photo opportunity. Do you want to learn how to build a model train? You can watch/help club members work on building the exhibits. \nTraveling for this event? Find Brainerd Lakes Area Lodging
URL:https://calendar.brainerd.com/event/northern-mn-railroad-trackers-2/
LOCATION:Northern MN Railroad Heritage Assocation (NMRHA)\, 36184 County Road 66\, Crosslake\, Minnesota\, 56442\, United States
END:VEVENT
BEGIN:VEVENT
DTSTART;TZID=America/Chicago:20231223T100000
DTEND;TZID=America/Chicago:20231223T140000
DTSTAMP:20260421T015321
CREATED:20230908T193102Z
LAST-MODIFIED:20230908T193102Z
UID:30511-1703325600-1703340000@calendar.brainerd.com
SUMMARY:Northern MN Railroad Trackers
DESCRIPTION:The NMRHA operates as a 501(c)(3) non-profit organization dedicated to the discovery\, preservation\, and presentation of the rich heritage and importance of the railroad industry in Northern Minnesota. \nThere are O Scale\, HO Scale and G Scale layouts and running trains on display. There is also a small layout that children can operate. A 1/10 scale replica of the Wm Crooks steam engine sits outdoors in the train club yard. Children love to climb in and pretend they are the engineer. It’s a great photo opportunity. Do you want to learn how to build a model train? You can watch/help club members work on building the exhibits. \nTraveling for this event? Find Brainerd Lakes Area Lodging
URL:https://calendar.brainerd.com/event/northern-mn-railroad-trackers/
LOCATION:Northern MN Railroad Heritage Assocation (NMRHA)\, 36184 County Road 66\, Crosslake\, Minnesota\, 56442\, United States
END:VEVENT
END:VCALENDAR