BEGIN:VCALENDAR
VERSION:2.0
PRODID:-//Events Calendar - ECPv6.15.20//NONSGML v1.0//EN
CALSCALE:GREGORIAN
METHOD:PUBLISH
X-WR-CALNAME:Events Calendar
X-ORIGINAL-URL:https://calendar.brainerd.com
X-WR-CALDESC:Events for Events Calendar
REFRESH-INTERVAL;VALUE=DURATION:PT1H
X-Robots-Tag:noindex
X-PUBLISHED-TTL:PT1H
BEGIN:VTIMEZONE
TZID:America/Chicago
BEGIN:DAYLIGHT
TZOFFSETFROM:-0600
TZOFFSETTO:-0500
TZNAME:CDT
DTSTART:20190310T080000
END:DAYLIGHT
BEGIN:STANDARD
TZOFFSETFROM:-0500
TZOFFSETTO:-0600
TZNAME:CST
DTSTART:20191103T070000
END:STANDARD
BEGIN:DAYLIGHT
TZOFFSETFROM:-0600
TZOFFSETTO:-0500
TZNAME:CDT
DTSTART:20200308T080000
END:DAYLIGHT
BEGIN:STANDARD
TZOFFSETFROM:-0500
TZOFFSETTO:-0600
TZNAME:CST
DTSTART:20201101T070000
END:STANDARD
BEGIN:DAYLIGHT
TZOFFSETFROM:-0600
TZOFFSETTO:-0500
TZNAME:CDT
DTSTART:20210314T080000
END:DAYLIGHT
BEGIN:STANDARD
TZOFFSETFROM:-0500
TZOFFSETTO:-0600
TZNAME:CST
DTSTART:20211107T070000
END:STANDARD
END:VTIMEZONE
BEGIN:VEVENT
DTSTART;TZID=America/Chicago:20200215T200000
DTEND;TZID=America/Chicago:20200215T220000
DTSTAMP:20260420T065718
CREATED:20200115T164012Z
LAST-MODIFIED:20200115T164012Z
UID:22473-1581796800-1581804000@calendar.brainerd.com
SUMMARY:Comedian Adrian Washington at The Northern Cowboy
DESCRIPTION:Comedy is finally coming to The Northern Cowboy!\nNational comedian Adrian Washington will be your headliner\, featuring the hilarious Shed G!\nAdrian\, originally from Greenville\, MS\, was quiet growing up\, that is\, until he discovered he could make people laugh… \nAdrian first hit the stage\, in February 2004. His improv style of comedy makes him one of a kind\, and a crowd favorite. He doesn’t write any material\, which makes every show he does\, different from the last. \nAdrian’s extensive resume includes\, hitting the stages at the world famous Comedy Store\, and Laugh Factory on Sunset\, in Los Angeles. He’s worked with Steve-o from Jack Ass many times\, Tyler Craig\, Donnell Rawlings\, Paul Rodriguez\, and Chris Porter to name a few. He also cohosts the 8 o’clock hour of the Steel Toe Radio Show on Rockin 101.7\, and headlines their Steel Toe Comedy Shows. \nHe performs a lot in the Midwest\, he has a room at the Red Carpet where he holds a show once a month\, and also performs regularly at the House of Comedy\, in the Mall of America. But his talents aren’t limited to just the Midwest\, having recently filmed a special for Roku in El Paso\, TX. \nAdrian’s charismatic personality\, hard work\, and drive to succeed makes him a pleasure to work with. \nFor show and booking info check out his website www.funnymanadrian.com \n \nView more Brainerd MN Events & Activities | Find Brainerd Resorts | Book your Brainerd Hotel
URL:https://calendar.brainerd.com/event/comedian-adrian-washington-at-the-northern-cowboy/
LOCATION:Northern Cowboy Flame N’ Brew\, 19090 MN-371\, Brainerd\, MN\, 56401\, United States
GEO:46.4291369;-94.3032673
X-APPLE-STRUCTURED-LOCATION;VALUE=URI;X-ADDRESS=Northern Cowboy Flame N’ Brew 19090 MN-371 Brainerd MN 56401 United States;X-APPLE-RADIUS=500;X-TITLE=19090 MN-371:geo:-94.3032673,46.4291369
END:VEVENT
END:VCALENDAR