BEGIN:VCALENDAR
VERSION:2.0
PRODID:-//Events Calendar - ECPv6.15.20//NONSGML v1.0//EN
CALSCALE:GREGORIAN
METHOD:PUBLISH
X-WR-CALNAME:Events Calendar
X-ORIGINAL-URL:https://calendar.brainerd.com
X-WR-CALDESC:Events for Events Calendar
REFRESH-INTERVAL;VALUE=DURATION:PT1H
X-Robots-Tag:noindex
X-PUBLISHED-TTL:PT1H
BEGIN:VTIMEZONE
TZID:America/Chicago
BEGIN:DAYLIGHT
TZOFFSETFROM:-0600
TZOFFSETTO:-0500
TZNAME:CDT
DTSTART:20240310T080000
END:DAYLIGHT
BEGIN:STANDARD
TZOFFSETFROM:-0500
TZOFFSETTO:-0600
TZNAME:CST
DTSTART:20241103T070000
END:STANDARD
BEGIN:DAYLIGHT
TZOFFSETFROM:-0600
TZOFFSETTO:-0500
TZNAME:CDT
DTSTART:20250309T080000
END:DAYLIGHT
BEGIN:STANDARD
TZOFFSETFROM:-0500
TZOFFSETTO:-0600
TZNAME:CST
DTSTART:20251102T070000
END:STANDARD
BEGIN:DAYLIGHT
TZOFFSETFROM:-0600
TZOFFSETTO:-0500
TZNAME:CDT
DTSTART:20260308T080000
END:DAYLIGHT
BEGIN:STANDARD
TZOFFSETFROM:-0500
TZOFFSETTO:-0600
TZNAME:CST
DTSTART:20261101T070000
END:STANDARD
END:VTIMEZONE
BEGIN:VEVENT
DTSTART;TZID=America/Chicago:20250503T063000
DTEND;TZID=America/Chicago:20250503T130000
DTSTAMP:20260420T122558
CREATED:20250424T202111Z
LAST-MODIFIED:20250424T202111Z
UID:41443-1746253800-1746277200@calendar.brainerd.com
SUMMARY:Run for the Lakes 2025
DESCRIPTION:Join us for this years Run for the Lakes! Register NOW at www.runforthelakes.com \nRaces will start on May 2nd and go through May 3rd! We can’t wait to see you all there! \nProceeds will be going to a local non-profit\, Youth for Christ. \nMore details to follow! \nView more Brainerd MN Events & Activities | Find Brainerd Resorts | Book your Brainerd Hotel
URL:https://calendar.brainerd.com/event/run-for-the-lakes-2025/2025-05-03/
LOCATION:Nisswa City Park\, 25628 Main Street\, Nisswa\, MN\, 56468\, United States
GEO:46.523795;-94.289754
X-APPLE-STRUCTURED-LOCATION;VALUE=URI;X-ADDRESS=Nisswa City Park 25628 Main Street Nisswa MN 56468 United States;X-APPLE-RADIUS=500;X-TITLE=25628 Main Street:geo:-94.289754,46.523795
END:VEVENT
BEGIN:VEVENT
DTSTART;TZID=America/Chicago:20250502T140000
DTEND;TZID=America/Chicago:20250502T200000
DTSTAMP:20260420T122558
CREATED:20250424T202111Z
LAST-MODIFIED:20250424T202111Z
UID:41442-1746194400-1746216000@calendar.brainerd.com
SUMMARY:Run for the Lakes 2025
DESCRIPTION:Join us for this years Run for the Lakes! Register NOW at www.runforthelakes.com \nRaces will start on May 2nd and go through May 3rd! We can’t wait to see you all there! \nProceeds will be going to a local non-profit\, Youth for Christ. \nMore details to follow! \nView more Brainerd MN Events & Activities | Find Brainerd Resorts | Book your Brainerd Hotel
URL:https://calendar.brainerd.com/event/run-for-the-lakes-2025/2025-05-02/
LOCATION:Nisswa City Park\, 25628 Main Street\, Nisswa\, MN\, 56468\, United States
GEO:46.523795;-94.289754
X-APPLE-STRUCTURED-LOCATION;VALUE=URI;X-ADDRESS=Nisswa City Park 25628 Main Street Nisswa MN 56468 United States;X-APPLE-RADIUS=500;X-TITLE=25628 Main Street:geo:-94.289754,46.523795
END:VEVENT
END:VCALENDAR