BEGIN:VCALENDAR
VERSION:2.0
PRODID:-//Events Calendar - ECPv6.15.20//NONSGML v1.0//EN
CALSCALE:GREGORIAN
METHOD:PUBLISH
X-ORIGINAL-URL:https://calendar.brainerd.com
X-WR-CALDESC:Events for Events Calendar
REFRESH-INTERVAL;VALUE=DURATION:PT1H
X-Robots-Tag:noindex
X-PUBLISHED-TTL:PT1H
BEGIN:VTIMEZONE
TZID:America/Chicago
BEGIN:DAYLIGHT
TZOFFSETFROM:-0600
TZOFFSETTO:-0500
TZNAME:CDT
DTSTART:20210314T080000
END:DAYLIGHT
BEGIN:STANDARD
TZOFFSETFROM:-0500
TZOFFSETTO:-0600
TZNAME:CST
DTSTART:20211107T070000
END:STANDARD
BEGIN:DAYLIGHT
TZOFFSETFROM:-0600
TZOFFSETTO:-0500
TZNAME:CDT
DTSTART:20220313T080000
END:DAYLIGHT
BEGIN:STANDARD
TZOFFSETFROM:-0500
TZOFFSETTO:-0600
TZNAME:CST
DTSTART:20221106T070000
END:STANDARD
BEGIN:DAYLIGHT
TZOFFSETFROM:-0600
TZOFFSETTO:-0500
TZNAME:CDT
DTSTART:20230312T080000
END:DAYLIGHT
BEGIN:STANDARD
TZOFFSETFROM:-0500
TZOFFSETTO:-0600
TZNAME:CST
DTSTART:20231105T070000
END:STANDARD
BEGIN:DAYLIGHT
TZOFFSETFROM:-0600
TZOFFSETTO:-0500
TZNAME:CDT
DTSTART:20240310T080000
END:DAYLIGHT
BEGIN:STANDARD
TZOFFSETFROM:-0500
TZOFFSETTO:-0600
TZNAME:CST
DTSTART:20241103T070000
END:STANDARD
END:VTIMEZONE
BEGIN:VEVENT
DTSTART;TZID=America/Chicago:20231226T170000
DTEND;TZID=America/Chicago:20231226T200000
DTSTAMP:20260420T061738
CREATED:20230913T194137Z
LAST-MODIFIED:20230913T194137Z
UID:30545-1703610000-1703620800@calendar.brainerd.com
SUMMARY:Taco Tuesday at The Nisswa Legion
DESCRIPTION:Stop in for a soft or hard shell taco at The Nisswa Legion on Tuesday Night. We have a great homemade Chimichanga and Nachos too! Stop in and try one Tuesdays. \nTraveling for this event? Find Brainerd Lakes Area Lodging
URL:https://calendar.brainerd.com/event/taco-tuesday-at-the-nisswa-legion/
LOCATION:Nisswa American Legion Post 627\, 25807 Main Street\, Nisswa\, MN\, 56468\, United States
GEO:46.526113;-94.293713
X-APPLE-STRUCTURED-LOCATION;VALUE=URI;X-ADDRESS=Nisswa American Legion Post 627 25807 Main Street Nisswa MN 56468 United States;X-APPLE-RADIUS=500;X-TITLE=25807 Main Street:geo:-94.293713,46.526113
END:VEVENT
BEGIN:VEVENT
DTSTART;TZID=America/Chicago:20230507T153000
DTEND;TZID=America/Chicago:20230507T180000
DTSTAMP:20260420T061738
CREATED:20230310T205614Z
LAST-MODIFIED:20230310T205614Z
UID:28865-1683473400-1683482400@calendar.brainerd.com
SUMMARY:BINGO at Nisswa American Legion
DESCRIPTION:BINGO Every Sunday starting at 3:30pm \nTraveling for this event? Find Brainerd Lakes Area Lodging
URL:https://calendar.brainerd.com/event/bingo-at-nisswa-american-legion-11/
LOCATION:Nisswa American Legion Post 627\, 25807 Main Street\, Nisswa\, MN\, 56468\, United States
GEO:46.526113;-94.293713
X-APPLE-STRUCTURED-LOCATION;VALUE=URI;X-ADDRESS=Nisswa American Legion Post 627 25807 Main Street Nisswa MN 56468 United States;X-APPLE-RADIUS=500;X-TITLE=25807 Main Street:geo:-94.293713,46.526113
END:VEVENT
BEGIN:VEVENT
DTSTART;TZID=America/Chicago:20230430T153000
DTEND;TZID=America/Chicago:20230430T180000
DTSTAMP:20260420T061738
CREATED:20230306T194355Z
LAST-MODIFIED:20230306T194355Z
UID:28783-1682868600-1682877600@calendar.brainerd.com
SUMMARY:BINGO at Nisswa American Legion
DESCRIPTION:BINGO Every Sunday starting at 3:30pm \nTraveling for this event? Find Brainerd Lakes Area Lodging
URL:https://calendar.brainerd.com/event/bingo-at-nisswa-american-legion-10/
LOCATION:Nisswa American Legion Post 627\, 25807 Main Street\, Nisswa\, MN\, 56468\, United States
GEO:46.526113;-94.293713
X-APPLE-STRUCTURED-LOCATION;VALUE=URI;X-ADDRESS=Nisswa American Legion Post 627 25807 Main Street Nisswa MN 56468 United States;X-APPLE-RADIUS=500;X-TITLE=25807 Main Street:geo:-94.293713,46.526113
END:VEVENT
BEGIN:VEVENT
DTSTART;TZID=America/Chicago:20230409T153000
DTEND;TZID=America/Chicago:20230409T180000
DTSTAMP:20260420T061738
CREATED:20230303T174721Z
LAST-MODIFIED:20230303T174721Z
UID:28775-1681054200-1681063200@calendar.brainerd.com
SUMMARY:BINGO at Nisswa American Legion
DESCRIPTION:BINGO Every Sunday starting at 3:30pm \nTraveling for this event? Find Brainerd Lakes Area Lodging
URL:https://calendar.brainerd.com/event/bingo-at-nisswa-american-legion-9/
LOCATION:Nisswa American Legion Post 627\, 25807 Main Street\, Nisswa\, MN\, 56468\, United States
GEO:46.526113;-94.293713
X-APPLE-STRUCTURED-LOCATION;VALUE=URI;X-ADDRESS=Nisswa American Legion Post 627 25807 Main Street Nisswa MN 56468 United States;X-APPLE-RADIUS=500;X-TITLE=25807 Main Street:geo:-94.293713,46.526113
END:VEVENT
BEGIN:VEVENT
DTSTART;TZID=America/Chicago:20230402T153000
DTEND;TZID=America/Chicago:20230402T180000
DTSTAMP:20260420T061738
CREATED:20230110T203433Z
LAST-MODIFIED:20230110T203433Z
UID:28355-1680449400-1680458400@calendar.brainerd.com
SUMMARY:BINGO at Nisswa American Legion
DESCRIPTION:BINGO Every Sunday starting at 3:30pm \nTraveling for this event? Find Brainerd Lakes Area Lodging
URL:https://calendar.brainerd.com/event/bingo-at-nisswa-american-legion-7/
LOCATION:Nisswa American Legion Post 627\, 25807 Main Street\, Nisswa\, MN\, 56468\, United States
GEO:46.526113;-94.293713
X-APPLE-STRUCTURED-LOCATION;VALUE=URI;X-ADDRESS=Nisswa American Legion Post 627 25807 Main Street Nisswa MN 56468 United States;X-APPLE-RADIUS=500;X-TITLE=25807 Main Street:geo:-94.293713,46.526113
END:VEVENT
BEGIN:VEVENT
DTSTART;TZID=America/Chicago:20230326T153000
DTEND;TZID=America/Chicago:20230326T180000
DTSTAMP:20260420T061738
CREATED:20221229T173912Z
LAST-MODIFIED:20221229T173912Z
UID:28291-1679844600-1679853600@calendar.brainerd.com
SUMMARY:BINGO at Nisswa American Legion
DESCRIPTION:BINGO Every Sunday starting at 3:30pm \nTraveling for this event? Find Brainerd Lakes Area Lodging
URL:https://calendar.brainerd.com/event/bingo-at-nisswa-american-legion-6/
LOCATION:Nisswa American Legion Post 627\, 25807 Main Street\, Nisswa\, MN\, 56468\, United States
GEO:46.526113;-94.293713
X-APPLE-STRUCTURED-LOCATION;VALUE=URI;X-ADDRESS=Nisswa American Legion Post 627 25807 Main Street Nisswa MN 56468 United States;X-APPLE-RADIUS=500;X-TITLE=25807 Main Street:geo:-94.293713,46.526113
END:VEVENT
BEGIN:VEVENT
DTSTART;TZID=America/Chicago:20230305T153000
DTEND;TZID=America/Chicago:20230305T180000
DTSTAMP:20260420T061738
CREATED:20221227T204651Z
LAST-MODIFIED:20221227T204651Z
UID:28271-1678030200-1678039200@calendar.brainerd.com
SUMMARY:BINGO at Nisswa American Legion
DESCRIPTION:BINGO Every Sunday starting at 3:30pm \nTraveling for this event? Find Brainerd Lakes Area Lodging
URL:https://calendar.brainerd.com/event/bingo-at-nisswa-american-legion-5/
LOCATION:Nisswa American Legion Post 627\, 25807 Main Street\, Nisswa\, MN\, 56468\, United States
GEO:46.526113;-94.293713
X-APPLE-STRUCTURED-LOCATION;VALUE=URI;X-ADDRESS=Nisswa American Legion Post 627 25807 Main Street Nisswa MN 56468 United States;X-APPLE-RADIUS=500;X-TITLE=25807 Main Street:geo:-94.293713,46.526113
END:VEVENT
BEGIN:VEVENT
DTSTART;TZID=America/Chicago:20230205T153000
DTEND;TZID=America/Chicago:20230205T180000
DTSTAMP:20260420T061738
CREATED:20221222T200615Z
LAST-MODIFIED:20221222T200615Z
UID:28123-1675611000-1675620000@calendar.brainerd.com
SUMMARY:BINGO at Nisswa American Legion
DESCRIPTION:BINGO Every Sunday starting at 3:30pm \nTraveling for this event? Find Brainerd Lakes Area Lodging
URL:https://calendar.brainerd.com/event/bingo-at-nisswa-american-legion-4/
LOCATION:Nisswa American Legion Post 627\, 25807 Main Street\, Nisswa\, MN\, 56468\, United States
GEO:46.526113;-94.293713
X-APPLE-STRUCTURED-LOCATION;VALUE=URI;X-ADDRESS=Nisswa American Legion Post 627 25807 Main Street Nisswa MN 56468 United States;X-APPLE-RADIUS=500;X-TITLE=25807 Main Street:geo:-94.293713,46.526113
END:VEVENT
BEGIN:VEVENT
DTSTART;TZID=America/Chicago:20230129T153000
DTEND;TZID=America/Chicago:20230129T180000
DTSTAMP:20260420T061738
CREATED:20221219T185754Z
LAST-MODIFIED:20221219T185754Z
UID:28093-1675006200-1675015200@calendar.brainerd.com
SUMMARY:BINGO at Nisswa American Legion
DESCRIPTION:BINGO Every Sunday starting at 3:30pm \nTraveling for this event? Find Brainerd Lakes Area Lodging
URL:https://calendar.brainerd.com/event/bingo-at-nisswa-american-legion-3/
LOCATION:Nisswa American Legion Post 627\, 25807 Main Street\, Nisswa\, MN\, 56468\, United States
GEO:46.526113;-94.293713
X-APPLE-STRUCTURED-LOCATION;VALUE=URI;X-ADDRESS=Nisswa American Legion Post 627 25807 Main Street Nisswa MN 56468 United States;X-APPLE-RADIUS=500;X-TITLE=25807 Main Street:geo:-94.293713,46.526113
END:VEVENT
BEGIN:VEVENT
DTSTART;TZID=America/Chicago:20230108T153000
DTEND;TZID=America/Chicago:20230108T180000
DTSTAMP:20260420T061738
CREATED:20221215T185317Z
LAST-MODIFIED:20221215T185317Z
UID:28067-1673191800-1673200800@calendar.brainerd.com
SUMMARY:BINGO at Nisswa American Legion
DESCRIPTION:BINGO Every Sunday starting at 3:30pm \nTraveling for this event? Find Brainerd Lakes Area Lodging
URL:https://calendar.brainerd.com/event/bingo-at-nisswa-american-legion-2/
LOCATION:Nisswa American Legion Post 627\, 25807 Main Street\, Nisswa\, MN\, 56468\, United States
GEO:46.526113;-94.293713
X-APPLE-STRUCTURED-LOCATION;VALUE=URI;X-ADDRESS=Nisswa American Legion Post 627 25807 Main Street Nisswa MN 56468 United States;X-APPLE-RADIUS=500;X-TITLE=25807 Main Street:geo:-94.293713,46.526113
END:VEVENT
BEGIN:VEVENT
DTSTART;TZID=America/Chicago:20230101T153000
DTEND;TZID=America/Chicago:20230101T180000
DTSTAMP:20260420T061738
CREATED:20221214T195940Z
LAST-MODIFIED:20221214T195940Z
UID:28060-1672587000-1672596000@calendar.brainerd.com
SUMMARY:BINGO at Nisswa American Legion
DESCRIPTION:BINGO Every Sunday starting at 3:30pm \nTraveling for this event? Find Brainerd Lakes Area Lodging
URL:https://calendar.brainerd.com/event/bingo-at-nisswa-american-legion/
LOCATION:Nisswa American Legion Post 627\, 25807 Main Street\, Nisswa\, MN\, 56468\, United States
GEO:46.526113;-94.293713
X-APPLE-STRUCTURED-LOCATION;VALUE=URI;X-ADDRESS=Nisswa American Legion Post 627 25807 Main Street Nisswa MN 56468 United States;X-APPLE-RADIUS=500;X-TITLE=25807 Main Street:geo:-94.293713,46.526113
END:VEVENT
BEGIN:VEVENT
DTSTART;TZID=America/Chicago:20220218T180000
DTEND;TZID=America/Chicago:20220218T200000
DTSTAMP:20260420T061738
CREATED:20220216T211227Z
LAST-MODIFIED:20220216T211227Z
UID:25487-1645207200-1645214400@calendar.brainerd.com
SUMMARY:GunApalooza in Nisswa
DESCRIPTION:Join us for a Gun-A-Palooza Raffle at the American Legion in Nisswa! \nThis is a lively and quick event\, where the Mule Deer Foundation will be hosting a large raffle with Browning\, Weatherby\, Winchester\, Ruger and more\, as well as a few other single raffles and a silent auction in a period of two hours! It is free to attend this event and open to the public\, just buy your raffle tickets\, bid on silent auction items and have a good time! The American Legion will have food and drink specials.\nThis event will be at the American Legion in Nisswa. Pre-register online ( https://muledeer.myeventscenter.com/…/Nisswa-Mn… ) and you will be entered into a drawing for a $100 Raffle Package. Additionally you can reserve your packages online and earn additional tickets!!! Reserved raffle ticket packages will be paid at the event\, as per Minnesota gaming laws.\nCan’t make the evening event\, we will offer a remote opportunity where you can come in and purchase your tickets in advance (anytime after 4pm) and drop them in the buckets for the items you like and you will not need to be present. Tickets and raffle packs will be available starting at 4pm for your convenience. We will live feed the drawings and will provide you with that information when you purchase your tickets \nTraveling for this event? Find Brainerd Lakes Area Lodging
URL:https://calendar.brainerd.com/event/gunapalooza-in-nisswa/
LOCATION:Nisswa American Legion Post 627\, 25807 Main Street\, Nisswa\, MN\, 56468\, United States
GEO:46.526113;-94.293713
X-APPLE-STRUCTURED-LOCATION;VALUE=URI;X-ADDRESS=Nisswa American Legion Post 627 25807 Main Street Nisswa MN 56468 United States;X-APPLE-RADIUS=500;X-TITLE=25807 Main Street:geo:-94.293713,46.526113
END:VEVENT
END:VCALENDAR