BEGIN:VCALENDAR
VERSION:2.0
PRODID:-//Events Calendar - ECPv6.15.20//NONSGML v1.0//EN
CALSCALE:GREGORIAN
METHOD:PUBLISH
X-ORIGINAL-URL:https://calendar.brainerd.com
X-WR-CALDESC:Events for Events Calendar
REFRESH-INTERVAL;VALUE=DURATION:PT1H
X-Robots-Tag:noindex
X-PUBLISHED-TTL:PT1H
BEGIN:VTIMEZONE
TZID:America/Chicago
BEGIN:DAYLIGHT
TZOFFSETFROM:-0600
TZOFFSETTO:-0500
TZNAME:CDT
DTSTART:20190310T080000
END:DAYLIGHT
BEGIN:STANDARD
TZOFFSETFROM:-0500
TZOFFSETTO:-0600
TZNAME:CST
DTSTART:20191103T070000
END:STANDARD
BEGIN:DAYLIGHT
TZOFFSETFROM:-0600
TZOFFSETTO:-0500
TZNAME:CDT
DTSTART:20200308T080000
END:DAYLIGHT
BEGIN:STANDARD
TZOFFSETFROM:-0500
TZOFFSETTO:-0600
TZNAME:CST
DTSTART:20201101T070000
END:STANDARD
BEGIN:DAYLIGHT
TZOFFSETFROM:-0600
TZOFFSETTO:-0500
TZNAME:CDT
DTSTART:20210314T080000
END:DAYLIGHT
BEGIN:STANDARD
TZOFFSETFROM:-0500
TZOFFSETTO:-0600
TZNAME:CST
DTSTART:20211107T070000
END:STANDARD
BEGIN:DAYLIGHT
TZOFFSETFROM:-0600
TZOFFSETTO:-0500
TZNAME:CDT
DTSTART:20220313T080000
END:DAYLIGHT
BEGIN:STANDARD
TZOFFSETFROM:-0500
TZOFFSETTO:-0600
TZNAME:CST
DTSTART:20221106T070000
END:STANDARD
BEGIN:DAYLIGHT
TZOFFSETFROM:-0600
TZOFFSETTO:-0500
TZNAME:CDT
DTSTART:20230312T080000
END:DAYLIGHT
BEGIN:STANDARD
TZOFFSETFROM:-0500
TZOFFSETTO:-0600
TZNAME:CST
DTSTART:20231105T070000
END:STANDARD
BEGIN:DAYLIGHT
TZOFFSETFROM:-0600
TZOFFSETTO:-0500
TZNAME:CDT
DTSTART:20240310T080000
END:DAYLIGHT
BEGIN:STANDARD
TZOFFSETFROM:-0500
TZOFFSETTO:-0600
TZNAME:CST
DTSTART:20241103T070000
END:STANDARD
BEGIN:DAYLIGHT
TZOFFSETFROM:-0600
TZOFFSETTO:-0500
TZNAME:CDT
DTSTART:20250309T080000
END:DAYLIGHT
BEGIN:STANDARD
TZOFFSETFROM:-0500
TZOFFSETTO:-0600
TZNAME:CST
DTSTART:20251102T070000
END:STANDARD
BEGIN:DAYLIGHT
TZOFFSETFROM:-0600
TZOFFSETTO:-0500
TZNAME:CDT
DTSTART:20260308T080000
END:DAYLIGHT
BEGIN:STANDARD
TZOFFSETFROM:-0500
TZOFFSETTO:-0600
TZNAME:CST
DTSTART:20261101T070000
END:STANDARD
END:VTIMEZONE
BEGIN:VEVENT
DTSTART;TZID=America/Chicago:20250419T110000
DTEND;TZID=America/Chicago:20250419T150000
DTSTAMP:20260419T170744
CREATED:20250410T184359Z
LAST-MODIFIED:20250410T184359Z
UID:41236-1745060400-1745074800@calendar.brainerd.com
SUMMARY:Easter Egg Hunt - Nisswa Legion
DESCRIPTION:The Nisswa Legion Easter Egg Hunt will take place on Saturday\, April 19\, 2025\, from 11 AM to 3 PM at the Nisswa American Legion. Kids ages 1–11 can enjoy an Easter Egg Hunt with the Easter Bunny starting at 1 PM. Attendees are encouraged to arrive early for lunch\, with sloppy joes and hot dogs available starting at 11 AM. \nView more Brainerd MN Events & Activities | Find Brainerd Resorts | Book your Brainerd Hotel
URL:https://calendar.brainerd.com/event/easter-egg-hunt-nisswa-legion/
LOCATION:Nisswa American Legion\, 25807 Main St\, Nisswa\, MN\, 56468\, United States
GEO:46.526113;-94.293713
X-APPLE-STRUCTURED-LOCATION;VALUE=URI;X-ADDRESS=Nisswa American Legion 25807 Main St Nisswa MN 56468 United States;X-APPLE-RADIUS=500;X-TITLE=25807 Main St:geo:-94.293713,46.526113
END:VEVENT
BEGIN:VEVENT
DTSTART;TZID=America/Chicago:20231005T080000
DTEND;TZID=America/Chicago:20231005T123000
DTSTAMP:20260419T170744
CREATED:20230622T205110Z
LAST-MODIFIED:20230622T205110Z
UID:29804-1696492800-1696509000@calendar.brainerd.com
SUMMARY:Nisswa Farmers Market
DESCRIPTION:Come joi n us in the beautiful lakes area for the weekly Nisswa Farmers Market! We are conveniently located just off of the downtown shopping area in the American Legion parking lot. Visit us Thursdays starting mid-May through October for fresh produce and other locally sourced food and goods. \nTraveling for this event? Find Brainerd Lakes Area Lodging
URL:https://calendar.brainerd.com/event/nisswa-farmers-market/
LOCATION:Nisswa American Legion\, 25807 Main St\, Nisswa\, MN\, 56468\, United States
GEO:46.526113;-94.293713
X-APPLE-STRUCTURED-LOCATION;VALUE=URI;X-ADDRESS=Nisswa American Legion 25807 Main St Nisswa MN 56468 United States;X-APPLE-RADIUS=500;X-TITLE=25807 Main St:geo:-94.293713,46.526113
END:VEVENT
BEGIN:VEVENT
DTSTART;TZID=America/Chicago:20230512T183000
DTEND;TZID=America/Chicago:20230512T200000
DTSTAMP:20260419T170744
CREATED:20230320T201517Z
LAST-MODIFIED:20230320T201517Z
UID:28956-1683916200-1683921600@calendar.brainerd.com
SUMMARY:BlueEyes Karaoke
DESCRIPTION:Enjoy Karaoke with Mitch at the Nisswa Legion \nTraveling for this event? Find Brainerd Lakes Area Lodging
URL:https://calendar.brainerd.com/event/blueeyes-karaoke-4/
LOCATION:Nisswa American Legion\, 25807 Main St\, Nisswa\, MN\, 56468\, United States
GEO:46.526113;-94.293713
X-APPLE-STRUCTURED-LOCATION;VALUE=URI;X-ADDRESS=Nisswa American Legion 25807 Main St Nisswa MN 56468 United States;X-APPLE-RADIUS=500;X-TITLE=25807 Main St:geo:-94.293713,46.526113
END:VEVENT
BEGIN:VEVENT
DTSTART;TZID=America/Chicago:20230423T153000
DTEND;TZID=America/Chicago:20230423T180000
DTSTAMP:20260419T170744
CREATED:20230203T212520Z
LAST-MODIFIED:20230203T212520Z
UID:28557-1682263800-1682272800@calendar.brainerd.com
SUMMARY:BINGO at Nisswa American Legion
DESCRIPTION:BINGO Every Sunday starting at 3:30pm \nTraveling for this event? Find Brainerd Lakes Area Lodging
URL:https://calendar.brainerd.com/event/bingo-at-nisswa-american-legion-8/
LOCATION:Nisswa American Legion\, 25807 Main St\, Nisswa\, MN\, 56468\, United States
GEO:46.526113;-94.293713
X-APPLE-STRUCTURED-LOCATION;VALUE=URI;X-ADDRESS=Nisswa American Legion 25807 Main St Nisswa MN 56468 United States;X-APPLE-RADIUS=500;X-TITLE=25807 Main St:geo:-94.293713,46.526113
END:VEVENT
BEGIN:VEVENT
DTSTART;TZID=America/Chicago:20230421T183000
DTEND;TZID=America/Chicago:20230421T200000
DTSTAMP:20260419T170744
CREATED:20230203T211313Z
LAST-MODIFIED:20230203T211313Z
UID:28555-1682101800-1682107200@calendar.brainerd.com
SUMMARY:BlueEyes Karaoke
DESCRIPTION:Enjoy Karaoke with Mitch at the Nisswa Legion \nTraveling for this event? Find Brainerd Lakes Area Lodging
URL:https://calendar.brainerd.com/event/blueeyes-karaoke-3/
LOCATION:Nisswa American Legion\, 25807 Main St\, Nisswa\, MN\, 56468\, United States
GEO:46.526113;-94.293713
X-APPLE-STRUCTURED-LOCATION;VALUE=URI;X-ADDRESS=Nisswa American Legion 25807 Main St Nisswa MN 56468 United States;X-APPLE-RADIUS=500;X-TITLE=25807 Main St:geo:-94.293713,46.526113
END:VEVENT
BEGIN:VEVENT
DTSTART;TZID=America/Chicago:20230407T183000
DTEND;TZID=America/Chicago:20230407T200000
DTSTAMP:20260419T170744
CREATED:20230110T205335Z
LAST-MODIFIED:20230110T205335Z
UID:28361-1680892200-1680897600@calendar.brainerd.com
SUMMARY:BlueEyes Karaoke
DESCRIPTION:Enjoy Karaoke with Mitch at the Nisswa Legion \nTraveling for this event? Find Brainerd Lakes Area Lodging
URL:https://calendar.brainerd.com/event/blueeyes-karaoke-2/
LOCATION:Nisswa American Legion\, 25807 Main St\, Nisswa\, MN\, 56468\, United States
GEO:46.526113;-94.293713
X-APPLE-STRUCTURED-LOCATION;VALUE=URI;X-ADDRESS=Nisswa American Legion 25807 Main St Nisswa MN 56468 United States;X-APPLE-RADIUS=500;X-TITLE=25807 Main St:geo:-94.293713,46.526113
END:VEVENT
BEGIN:VEVENT
DTSTART;TZID=America/Chicago:20230331T183000
DTEND;TZID=America/Chicago:20230331T200000
DTSTAMP:20260419T170744
CREATED:20230104T195057Z
LAST-MODIFIED:20230104T195057Z
UID:28313-1680287400-1680292800@calendar.brainerd.com
SUMMARY:BlueEyes Karaoke
DESCRIPTION:Enjoy Karaoke with Mitch at the Nisswa Legion \nTraveling for this event? Find Brainerd Lakes Area Lodging
URL:https://calendar.brainerd.com/event/blueeyes-karaoke/
LOCATION:Nisswa American Legion\, 25807 Main St\, Nisswa\, MN\, 56468\, United States
GEO:46.526113;-94.293713
X-APPLE-STRUCTURED-LOCATION;VALUE=URI;X-ADDRESS=Nisswa American Legion 25807 Main St Nisswa MN 56468 United States;X-APPLE-RADIUS=500;X-TITLE=25807 Main St:geo:-94.293713,46.526113
END:VEVENT
BEGIN:VEVENT
DTSTART;TZID=America/Chicago:20230120T183000
DTEND;TZID=America/Chicago:20230120T200000
DTSTAMP:20260419T170744
CREATED:20221215T191224Z
LAST-MODIFIED:20221215T191224Z
UID:28074-1674239400-1674244800@calendar.brainerd.com
SUMMARY:BlueEyes Karaoke at Nisswa Legion
DESCRIPTION:Enjoy Karaoke with Mitch at the Nisswa Legion \nTraveling for this event? Find Brainerd Lakes Area Lodging
URL:https://calendar.brainerd.com/event/blueeyes-karaoke-at-nisswa-legion/
LOCATION:Nisswa American Legion\, 25807 Main St\, Nisswa\, MN\, 56468\, United States
GEO:46.526113;-94.293713
X-APPLE-STRUCTURED-LOCATION;VALUE=URI;X-ADDRESS=Nisswa American Legion 25807 Main St Nisswa MN 56468 United States;X-APPLE-RADIUS=500;X-TITLE=25807 Main St:geo:-94.293713,46.526113
END:VEVENT
BEGIN:VEVENT
DTSTART;TZID=America/Chicago:20220521T163000
DTEND;TZID=America/Chicago:20220521T210000
DTSTAMP:20260419T170744
CREATED:20211122T162452Z
LAST-MODIFIED:20211122T162452Z
UID:24950-1653150600-1653166800@calendar.brainerd.com
SUMMARY:2nd Annual Purse & Tool Belt Bingo
DESCRIPTION:Please join us for our 2nd Annual Purse and Tool Belt Bingo\, supporting a Lions Pillar – DIABETES…\nWe hosted this event in 2020 with a SELL OUT. Unfortunately for 2021 we couldn’t host the event due to COVID…\nBut we are back! BIGGER and BETTER than before..\nStay tuned for more details – tickets will go on sale early March\, 2022. \nTraveling for this event? Find Brainerd Lakes Area Lodging
URL:https://calendar.brainerd.com/event/2nd-annual-purse-tool-belt-bingo/
LOCATION:Nisswa American Legion\, 25807 Main St\, Nisswa\, MN\, 56468\, United States
GEO:46.526113;-94.293713
X-APPLE-STRUCTURED-LOCATION;VALUE=URI;X-ADDRESS=Nisswa American Legion 25807 Main St Nisswa MN 56468 United States;X-APPLE-RADIUS=500;X-TITLE=25807 Main St:geo:-94.293713,46.526113
END:VEVENT
BEGIN:VEVENT
DTSTART;TZID=America/Chicago:20220416T100000
DTEND;TZID=America/Chicago:20220416T100000
DTSTAMP:20260419T170744
CREATED:20220323T201038Z
LAST-MODIFIED:20220331T210508Z
UID:25753-1650103200-1650103200@calendar.brainerd.com
SUMMARY:Nisswa Annual Children's Easter Egg Hunt
DESCRIPTION:Bring your kids out to visit with the Easter Bunny and hunt for Easter eggs! This annual event has brought smiles to our faces as we see the joy in the children’s faces! Open to all kids aged 11 and under! \nTraveling for this event? Find Brainerd Lakes Area Lodging
URL:https://calendar.brainerd.com/event/annual-childrens-easter-egg-hunt/
LOCATION:Nisswa American Legion\, 25807 Main St\, Nisswa\, MN\, 56468\, United States
GEO:46.526113;-94.293713
X-APPLE-STRUCTURED-LOCATION;VALUE=URI;X-ADDRESS=Nisswa American Legion 25807 Main St Nisswa MN 56468 United States;X-APPLE-RADIUS=500;X-TITLE=25807 Main St:geo:-94.293713,46.526113
END:VEVENT
BEGIN:VEVENT
DTSTART;TZID=America/Chicago:20220409T183000
DTEND;TZID=America/Chicago:20220409T183000
DTSTAMP:20260419T170744
CREATED:20220405T193704Z
LAST-MODIFIED:20220405T193704Z
UID:25838-1649529000-1649529000@calendar.brainerd.com
SUMMARY:Annual Easter Ham/Turkey Bingo
DESCRIPTION:Join us on Saturday April 9th to play Bingo for hams and turkeys! 13 chances to win big!\n\n\n\n\n\n\nTraveling for this event? Find Brainerd Lakes Area Lodging
URL:https://calendar.brainerd.com/event/annual-easter-ham-turkey-bingo/
LOCATION:Nisswa American Legion\, 25807 Main St\, Nisswa\, MN\, 56468\, United States
GEO:46.526113;-94.293713
X-APPLE-STRUCTURED-LOCATION;VALUE=URI;X-ADDRESS=Nisswa American Legion 25807 Main St Nisswa MN 56468 United States;X-APPLE-RADIUS=500;X-TITLE=25807 Main St:geo:-94.293713,46.526113
END:VEVENT
BEGIN:VEVENT
DTSTART;TZID=America/Chicago:20220319T200000
DTEND;TZID=America/Chicago:20220319T200000
DTSTAMP:20260419T170744
CREATED:20220316T195852Z
LAST-MODIFIED:20220316T195852Z
UID:25720-1647720000-1647720000@calendar.brainerd.com
SUMMARY:Comedy Night! at the Nisswa Legion
DESCRIPTION:We had so much fun laughing at the last show in January that we are doing it again! Comedy Night at the Nisswa Legion! Tickets are $20 in Advance or $25 at the Door. We had a full house and had to turn people away at the last show\, so get your tickets early to get your seats! Buy your tickets at the bar or online at peakmn.com. \nTraveling for this event? Find Brainerd Lakes Area Lodging
URL:https://calendar.brainerd.com/event/comedy-night-at-the-nisswa-legion/
LOCATION:Nisswa American Legion\, 25807 Main St\, Nisswa\, MN\, 56468\, United States
GEO:46.526113;-94.293713
X-APPLE-STRUCTURED-LOCATION;VALUE=URI;X-ADDRESS=Nisswa American Legion 25807 Main St Nisswa MN 56468 United States;X-APPLE-RADIUS=500;X-TITLE=25807 Main St:geo:-94.293713,46.526113
END:VEVENT
BEGIN:VEVENT
DTSTART;TZID=America/Chicago:20220115T200000
DTEND;TZID=America/Chicago:20220115T220000
DTSTAMP:20260419T170744
CREATED:20220112T174042Z
LAST-MODIFIED:20220112T174042Z
UID:25054-1642276800-1642284000@calendar.brainerd.com
SUMMARY:Comedy Night at the Legion
DESCRIPTION:Join us for a night of laughs! Headliner comedian – Dan Mogol – as seen at the World Famous Comedy Store\, House of Comedy and ACME Comedy Club!\n\nOpening Comedian – Randy Ankarlo\n\n$20 in advance or $25 at the door! We will start selling tickets on December 30th!\n\nBuy your tickets at the bar or go online to https://peakmn.com/product/dan-mogol-tickets/ to purchase online.\nTraveling for this event? Find Brainerd Lakes Area Lodging
URL:https://calendar.brainerd.com/event/comedy-night-at-the-legion/
LOCATION:Nisswa American Legion\, 25807 Main St\, Nisswa\, MN\, 56468\, United States
GEO:46.526113;-94.293713
X-APPLE-STRUCTURED-LOCATION;VALUE=URI;X-ADDRESS=Nisswa American Legion 25807 Main St Nisswa MN 56468 United States;X-APPLE-RADIUS=500;X-TITLE=25807 Main St:geo:-94.293713,46.526113
END:VEVENT
BEGIN:VEVENT
DTSTART;TZID=America/Chicago:20211031T130000
DTEND;TZID=America/Chicago:20211031T150000
DTSTAMP:20260419T170744
CREATED:20211008T143114Z
LAST-MODIFIED:20211008T143114Z
UID:24774-1635685200-1635692400@calendar.brainerd.com
SUMMARY:Annual Children's Halloween Party - Nisswa American Legion
DESCRIPTION:Get your little Goblins together and bring them out to the Nisswa Legion on Halloween to get their Trick or Treat bags and a Free Hot Dog!\nWe will be holding the event in the lower level of the parking lot on the north side of the building. \nTraveling for this event? Find Brainerd Lakes Area Lodging
URL:https://calendar.brainerd.com/event/annual-childrens-halloween-party-nisswa-american-legion/
LOCATION:Nisswa American Legion\, 25807 Main St\, Nisswa\, MN\, 56468\, United States
GEO:46.526113;-94.293713
X-APPLE-STRUCTURED-LOCATION;VALUE=URI;X-ADDRESS=Nisswa American Legion 25807 Main St Nisswa MN 56468 United States;X-APPLE-RADIUS=500;X-TITLE=25807 Main St:geo:-94.293713,46.526113
END:VEVENT
BEGIN:VEVENT
DTSTART;TZID=America/Chicago:20210313T110000
DTEND;TZID=America/Chicago:20210313T230000
DTSTAMP:20260419T170744
CREATED:20210308T155841Z
LAST-MODIFIED:20210308T155918Z
UID:24015-1615633200-1615676400@calendar.brainerd.com
SUMMARY:St. Paddy's Party - Nisswa American Legion
DESCRIPTION:Eat Drink and Be Irish! Join in on the shenanigan’s at the Nisswa Legion! We’ll be eating corned beef hash in the day and homemade corned beef & cabbage into the night and toasting with lucky leprechaun jello shots! You might hear some Irish folk music\, too!\nDue to the mandated restrictions – masks and social distancing will be required\, but we can still celebrate one of our favorite days! \nTraveling for this event? Find Brainerd Lakes Area Lodging
URL:https://calendar.brainerd.com/event/st-paddys-party-nisswa-american-legion/
LOCATION:Nisswa American Legion\, 25807 Main St\, Nisswa\, MN\, 56468\, United States
GEO:46.526113;-94.293713
X-APPLE-STRUCTURED-LOCATION;VALUE=URI;X-ADDRESS=Nisswa American Legion 25807 Main St Nisswa MN 56468 United States;X-APPLE-RADIUS=500;X-TITLE=25807 Main St:geo:-94.293713,46.526113
END:VEVENT
BEGIN:VEVENT
DTSTART;TZID=America/Chicago:20200507T080000
DTEND;TZID=America/Chicago:20200507T123000
DTSTAMP:20260419T170744
CREATED:20200501T132034Z
LAST-MODIFIED:20200501T132217Z
UID:23214-1588838400-1588854600@calendar.brainerd.com
SUMMARY:BLA Growers' Market Season Opener: Nisswa American Legion
DESCRIPTION:One of the perks of visiting or living in the Brainerd Lakes Area is the food…especially the locally grown produce and meats. The best place to pick up fresh groceries is at the Brainerd/Baxter Lakes Area Growers’ Market. \n\n\n\n\n\n\nHere you will find everything you need for your cooking and grilling plans. You can get high quality fresh food right off the farm. There are vegetables\, flowers\, herbs\, spices\, meats and fruits that you can choose from. The selection depends on the season and weather\, so if you stop by more than once\, you’ll find new fruits and vegetables that may not have been there the week before. \n\n\n\n\n\n\nAll the products are grown within a 50 mile radius and there is a vast variety of vegetables\, meat and herbs to choose from. \nView Farmer’s Market Vendors \n\n\n\nTraveling for this event? Find Brainerd Lakes Area Lodging
URL:https://calendar.brainerd.com/event/bla-growers-market-season-opener-nisswa-american-legion/
LOCATION:Nisswa American Legion\, 25807 Main St\, Nisswa\, MN\, 56468\, United States
GEO:46.526113;-94.293713
X-APPLE-STRUCTURED-LOCATION;VALUE=URI;X-ADDRESS=Nisswa American Legion 25807 Main St Nisswa MN 56468 United States;X-APPLE-RADIUS=500;X-TITLE=25807 Main St:geo:-94.293713,46.526113
END:VEVENT
BEGIN:VEVENT
DTSTART;TZID=America/Chicago:20200307T173000
DTEND;TZID=America/Chicago:20200307T220000
DTSTAMP:20260419T170744
CREATED:20200211T133724Z
LAST-MODIFIED:20200211T133724Z
UID:22886-1583602200-1583618400@calendar.brainerd.com
SUMMARY:NWTF 24th Annual Banquet
DESCRIPTION:The Central MN Gobblers Annual NWTF Banquet at the Nisswa American Legion.\nPurchase tickets at:\nhttps://events.nwtf.org/230050-2020/tickets \nTraveling for this event? Find Brainerd Lakes Area Lodging
URL:https://calendar.brainerd.com/event/nwtf-24th-annual-banquet/
LOCATION:Nisswa American Legion\, 25807 Main St\, Nisswa\, MN\, 56468\, United States
GEO:46.526113;-94.293713
X-APPLE-STRUCTURED-LOCATION;VALUE=URI;X-ADDRESS=Nisswa American Legion 25807 Main St Nisswa MN 56468 United States;X-APPLE-RADIUS=500;X-TITLE=25807 Main St:geo:-94.293713,46.526113
END:VEVENT
BEGIN:VEVENT
DTSTART;TZID=America/Chicago:20200229T180000
DTEND;TZID=America/Chicago:20200229T210000
DTSTAMP:20260419T170744
CREATED:20200218T134821Z
LAST-MODIFIED:20200218T134821Z
UID:22918-1582999200-1583010000@calendar.brainerd.com
SUMMARY:Dinner & A Show at the Nisswa Legion
DESCRIPTION:Another First of its Kind at the Nisswa Legion! BlueEyes is coming back to wow you on Saturday\, February 29th at 6:30pm! Back by Popular Demand and it’s going to be even more elegant with a lovely prime rib dinner! We are excited to bring in the Leap Year with this special show. Reserve your spots by clicking on the button below – or – give us a call and we will write it down for you. If you reserve your spot/s by February 21st your cost for the dinner and show will only be $18. If your reservations are not made by February 21st your cost will be $20. You only need to make reservations prior to the show – you will be charged on the day of the show with your meals and beverages! \nTraveling for this event? Find Brainerd Lakes Area Lodging
URL:https://calendar.brainerd.com/event/dinner-a-show-at-the-nisswa-legion/
LOCATION:Nisswa American Legion\, 25807 Main St\, Nisswa\, MN\, 56468\, United States
GEO:46.526113;-94.293713
X-APPLE-STRUCTURED-LOCATION;VALUE=URI;X-ADDRESS=Nisswa American Legion 25807 Main St Nisswa MN 56468 United States;X-APPLE-RADIUS=500;X-TITLE=25807 Main St:geo:-94.293713,46.526113
END:VEVENT
BEGIN:VEVENT
DTSTART;TZID=America/Chicago:20200208T190000
DTEND;TZID=America/Chicago:20200208T230000
DTSTAMP:20260419T170744
CREATED:20200121T173503Z
LAST-MODIFIED:20200121T173503Z
UID:22545-1581188400-1581202800@calendar.brainerd.com
SUMMARY:Sock Hop Dance for a Cause
DESCRIPTION:The Nisswa Legion Auxiliary is putting on a party and you are all invited! Dance the night away to the 1950’s rock ‘n roll! You know we have the best dance floor in town…And it’s all for a cause!! \nView more Brainerd MN Events & Activities | Find Brainerd Resorts | Book your Brainerd Hotel
URL:https://calendar.brainerd.com/event/sock-hop-dance-for-a-cause/
LOCATION:Nisswa American Legion\, 25807 Main St\, Nisswa\, MN\, 56468\, United States
GEO:46.526113;-94.293713
X-APPLE-STRUCTURED-LOCATION;VALUE=URI;X-ADDRESS=Nisswa American Legion 25807 Main St Nisswa MN 56468 United States;X-APPLE-RADIUS=500;X-TITLE=25807 Main St:geo:-94.293713,46.526113
END:VEVENT
BEGIN:VEVENT
DTSTART;TZID=America/Chicago:20200125T160000
DTEND;TZID=America/Chicago:20200125T180000
DTSTAMP:20260419T170744
CREATED:20200111T020011Z
LAST-MODIFIED:20200111T020011Z
UID:22438-1579968000-1579975200@calendar.brainerd.com
SUMMARY:Annual Hot Dish Cook-Off at the Nisswa Legion
DESCRIPTION:Get out your favorite Hot Dish recipe and get entered into one of the toughest cook-off competitions in town! We take our hot dishes seriously and there are always some great recipes! If you love hot dishes\, but don’t want to compete\, no problem\, come out and give them all a try and put you vote in for the People’s Choice Hot Dish! \nView more Brainerd MN Events & Activities | Find Brainerd Resorts | Book your Brainerd Hotel
URL:https://calendar.brainerd.com/event/annual-hot-dish-cook-off-at-the-nisswa-legion-2/
LOCATION:Nisswa American Legion\, 25807 Main St\, Nisswa\, MN\, 56468\, United States
GEO:46.526113;-94.293713
X-APPLE-STRUCTURED-LOCATION;VALUE=URI;X-ADDRESS=Nisswa American Legion 25807 Main St Nisswa MN 56468 United States;X-APPLE-RADIUS=500;X-TITLE=25807 Main St:geo:-94.293713,46.526113
END:VEVENT
END:VCALENDAR