BEGIN:VCALENDAR
VERSION:2.0
PRODID:-//Events Calendar - ECPv6.15.20//NONSGML v1.0//EN
CALSCALE:GREGORIAN
METHOD:PUBLISH
X-WR-CALNAME:Events Calendar
X-ORIGINAL-URL:https://calendar.brainerd.com
X-WR-CALDESC:Events for Events Calendar
REFRESH-INTERVAL;VALUE=DURATION:PT1H
X-Robots-Tag:noindex
X-PUBLISHED-TTL:PT1H
BEGIN:VTIMEZONE
TZID:America/Chicago
BEGIN:DAYLIGHT
TZOFFSETFROM:-0600
TZOFFSETTO:-0500
TZNAME:CDT
DTSTART:20230312T080000
END:DAYLIGHT
BEGIN:STANDARD
TZOFFSETFROM:-0500
TZOFFSETTO:-0600
TZNAME:CST
DTSTART:20231105T070000
END:STANDARD
BEGIN:DAYLIGHT
TZOFFSETFROM:-0600
TZOFFSETTO:-0500
TZNAME:CDT
DTSTART:20240310T080000
END:DAYLIGHT
BEGIN:STANDARD
TZOFFSETFROM:-0500
TZOFFSETTO:-0600
TZNAME:CST
DTSTART:20241103T070000
END:STANDARD
BEGIN:DAYLIGHT
TZOFFSETFROM:-0600
TZOFFSETTO:-0500
TZNAME:CDT
DTSTART:20250309T080000
END:DAYLIGHT
BEGIN:STANDARD
TZOFFSETFROM:-0500
TZOFFSETTO:-0600
TZNAME:CST
DTSTART:20251102T070000
END:STANDARD
BEGIN:DAYLIGHT
TZOFFSETFROM:-0600
TZOFFSETTO:-0500
TZNAME:CDT
DTSTART:20260308T080000
END:DAYLIGHT
BEGIN:STANDARD
TZOFFSETFROM:-0500
TZOFFSETTO:-0600
TZNAME:CST
DTSTART:20261101T070000
END:STANDARD
END:VTIMEZONE
BEGIN:VEVENT
DTSTART;TZID=America/Chicago:20250829T110000
DTEND;TZID=America/Chicago:20250829T133000
DTSTAMP:20260420T094510
CREATED:20250826T190344Z
LAST-MODIFIED:20250826T190344Z
UID:42813-1756465200-1756474200@calendar.brainerd.com
SUMMARY:Mills Guest Appreciation Grill Out
DESCRIPTION:Valued Guests\, we are excited to invite you to our special Guest Appreciation Day Grilling Event Friday\, August 29th from 11am-1:30pm at Mills Honda! 🌭🎉 \nThis special event is our way of saying thank you for your continued support and loyalty. Come enjoy a fun-filled afternoon with delicious grilled favorites and great company! \nView more Brainerd MN Events & Activities | Find Brainerd Resorts | Book your Brainerd Hotel
URL:https://calendar.brainerd.com/event/mills-guest-appreciation-grill-out/
LOCATION:Mills Honda\, 8465 HWY 210\, Baxter\, MN\, 56425\, United States
GEO:46.3546802;-94.2240002
X-APPLE-STRUCTURED-LOCATION;VALUE=URI;X-ADDRESS=Mills Honda 8465 HWY 210 Baxter MN 56425 United States;X-APPLE-RADIUS=500;X-TITLE=8465 HWY 210:geo:-94.2240002,46.3546802
END:VEVENT
BEGIN:VEVENT
DTSTART;TZID=America/Chicago:20250619T150000
DTEND;TZID=America/Chicago:20250619T180000
DTSTAMP:20260420T094510
CREATED:20250612T210840Z
LAST-MODIFIED:20250612T210840Z
UID:42009-1750345200-1750356000@calendar.brainerd.com
SUMMARY:Mills Family Fun Day
DESCRIPTION:Bouncy Houses\, Face Painting\, James the Ventriloquist\, Huge Bike Giveaway for kids 10 and under\, & More! \nView more Brainerd MN Events & Activities | Find Brainerd Resorts | Book your Brainerd Hotel
URL:https://calendar.brainerd.com/event/mills-family-fun-day/
LOCATION:Mills Honda\, 8465 HWY 210\, Baxter\, MN\, 56425\, United States
GEO:46.3546802;-94.2240002
X-APPLE-STRUCTURED-LOCATION;VALUE=URI;X-ADDRESS=Mills Honda 8465 HWY 210 Baxter MN 56425 United States;X-APPLE-RADIUS=500;X-TITLE=8465 HWY 210:geo:-94.2240002,46.3546802
END:VEVENT
BEGIN:VEVENT
DTSTART;TZID=America/Chicago:20241031T150000
DTEND;TZID=America/Chicago:20241031T170000
DTSTAMP:20260420T094510
CREATED:20241029T210346Z
LAST-MODIFIED:20241029T210346Z
UID:39452-1730386800-1730394000@calendar.brainerd.com
SUMMARY:Mills Monster Mash
DESCRIPTION:Join us on Thursday\, October 31st\, from 3 PM – 5 PM at Mills Honda in Brainerd for some spooky fun! \nView more Brainerd MN Events & Activities | Find Brainerd Resorts | Book your Brainerd Hotel
URL:https://calendar.brainerd.com/event/mills-monster-mash/
LOCATION:Mills Honda\, 8465 HWY 210\, Baxter\, MN\, 56425\, United States
GEO:46.3546802;-94.2240002
X-APPLE-STRUCTURED-LOCATION;VALUE=URI;X-ADDRESS=Mills Honda 8465 HWY 210 Baxter MN 56425 United States;X-APPLE-RADIUS=500;X-TITLE=8465 HWY 210:geo:-94.2240002,46.3546802
END:VEVENT
END:VCALENDAR