BEGIN:VCALENDAR
VERSION:2.0
PRODID:-//Events Calendar - ECPv6.15.20//NONSGML v1.0//EN
CALSCALE:GREGORIAN
METHOD:PUBLISH
X-ORIGINAL-URL:https://calendar.brainerd.com
X-WR-CALDESC:Events for Events Calendar
REFRESH-INTERVAL;VALUE=DURATION:PT1H
X-Robots-Tag:noindex
X-PUBLISHED-TTL:PT1H
BEGIN:VTIMEZONE
TZID:America/Chicago
BEGIN:DAYLIGHT
TZOFFSETFROM:-0600
TZOFFSETTO:-0500
TZNAME:CDT
DTSTART:20210314T080000
END:DAYLIGHT
BEGIN:STANDARD
TZOFFSETFROM:-0500
TZOFFSETTO:-0600
TZNAME:CST
DTSTART:20211107T070000
END:STANDARD
BEGIN:DAYLIGHT
TZOFFSETFROM:-0600
TZOFFSETTO:-0500
TZNAME:CDT
DTSTART:20220313T080000
END:DAYLIGHT
BEGIN:STANDARD
TZOFFSETFROM:-0500
TZOFFSETTO:-0600
TZNAME:CST
DTSTART:20221106T070000
END:STANDARD
BEGIN:DAYLIGHT
TZOFFSETFROM:-0600
TZOFFSETTO:-0500
TZNAME:CDT
DTSTART:20230312T080000
END:DAYLIGHT
BEGIN:STANDARD
TZOFFSETFROM:-0500
TZOFFSETTO:-0600
TZNAME:CST
DTSTART:20231105T070000
END:STANDARD
BEGIN:DAYLIGHT
TZOFFSETFROM:-0600
TZOFFSETTO:-0500
TZNAME:CDT
DTSTART:20240310T080000
END:DAYLIGHT
BEGIN:STANDARD
TZOFFSETFROM:-0500
TZOFFSETTO:-0600
TZNAME:CST
DTSTART:20241103T070000
END:STANDARD
BEGIN:DAYLIGHT
TZOFFSETFROM:-0600
TZOFFSETTO:-0500
TZNAME:CDT
DTSTART:20250309T080000
END:DAYLIGHT
BEGIN:STANDARD
TZOFFSETFROM:-0500
TZOFFSETTO:-0600
TZNAME:CST
DTSTART:20251102T070000
END:STANDARD
BEGIN:DAYLIGHT
TZOFFSETFROM:-0600
TZOFFSETTO:-0500
TZNAME:CDT
DTSTART:20260308T080000
END:DAYLIGHT
BEGIN:STANDARD
TZOFFSETFROM:-0500
TZOFFSETTO:-0600
TZNAME:CST
DTSTART:20261101T070000
END:STANDARD
END:VTIMEZONE
BEGIN:VEVENT
DTSTART;TZID=America/Chicago:20250607T120000
DTEND;TZID=America/Chicago:20250607T150000
DTSTAMP:20260420T012910
CREATED:20250519T134010Z
LAST-MODIFIED:20250519T134010Z
UID:41676-1749297600-1749308400@calendar.brainerd.com
SUMMARY:8th Annual Hoppy Horse Rodeo Fundraiser
DESCRIPTION:This is a family-oriented fundraiser to fight cancer. \nWe have Bounce balls with horse coverings on them\, and we run arena events such as Barrel Races\, Hoop the Steer\, Create A Clown\, and straight races. We have four age groups for each race. \n4-7\, 8-11\, 12-15 and 16 and up. 1st\, 2nd and 3rd medals are awarded for each age group\, per event. We also have a few carnival games\, a bounce house\, a XP step thru EBIKE\, four wooden fold up Adirondak chairs\, 12 V Kids Licensed Lamborghini Car\, 10×10 EZ pop up canopy with weights\, 4 hour guided fishing package\, Handmade Round topped Cedar Trunk\, Bobb Bag Combo\, and Utility Wagon. Tickets are $5.00 each\, you can reach us on Facebook by searching for arena where little tykes can bounce around on smaller bounce horses\,\nface painting\, photo op prop\, concessions. \nThere are Raffle tickets available for sale prior to the event until 12:00\, Raffle Ticket Prizes: $1\,000.00 CASH\, XP Step Thru 3.0 This is a fun filled day\, while supporting the fight against CANCER. ALL PROCEEDS GO TO THE AMERICAN CANCER SOCIETY \nView more Brainerd MN Events & Activities | Find Brainerd Resorts | Book your Brainerd Hotel
URL:https://calendar.brainerd.com/event/8th-annual-hoppy-horse-rodeo-fundraiser/
LOCATION:Merrifield Lions Park\, 21318 County Road 3\, Merrifield\, MN\, 56465\, United States
ORGANIZER;CN="Loni Burnard":MAILTO:lonirae214@gmail.com
GEO:46.4611659;-94.1716457
X-APPLE-STRUCTURED-LOCATION;VALUE=URI;X-ADDRESS=Merrifield Lions Park 21318 County Road 3 Merrifield MN 56465 United States;X-APPLE-RADIUS=500;X-TITLE=21318 County Road 3:geo:-94.1716457,46.4611659
END:VEVENT
BEGIN:VEVENT
DTSTART;TZID=America/Chicago:20250419T140000
DTEND;TZID=America/Chicago:20250419T140000
DTSTAMP:20260420T012910
CREATED:20250402T193316Z
LAST-MODIFIED:20250402T193316Z
UID:41145-1745071200-1745071200@calendar.brainerd.com
SUMMARY:Easter Egg Hunt - Merrifield Lions Park
DESCRIPTION:Easter egg hunt at Merrifield Lions Park. \nView more Brainerd MN Events & Activities | Find Brainerd Resorts | Book your Brainerd Hotel
URL:https://calendar.brainerd.com/event/easter-egg-hunt-merrifield-lions-park/
LOCATION:Merrifield Lions Park\, 21318 County Road 3\, Merrifield\, MN\, 56465\, United States
GEO:46.4611659;-94.1716457
X-APPLE-STRUCTURED-LOCATION;VALUE=URI;X-ADDRESS=Merrifield Lions Park 21318 County Road 3 Merrifield MN 56465 United States;X-APPLE-RADIUS=500;X-TITLE=21318 County Road 3:geo:-94.1716457,46.4611659
END:VEVENT
BEGIN:VEVENT
DTSTART;TZID=America/Chicago:20220604T110000
DTEND;TZID=America/Chicago:20220604T170000
DTSTAMP:20260420T012910
CREATED:20220404T194910Z
LAST-MODIFIED:20220404T194910Z
UID:25835-1654340400-1654362000@calendar.brainerd.com
SUMMARY:5th Annual “Hoppy Horse Rodeo” fundraiser
DESCRIPTION:This is a family fun event with all proceeds going to the fight against Cancer. ALL PROCEEDS go to the American Cancer Society via Crow Wing County Relay for Life Team “Branden’s Cancer Crusaders”. \nThese are exercise balls with a Horse covering\, and participants ride them on a timed obstacle course\, barrel races\, Pole Bending\, a straight race\, and a new event\, timed single jousting. There are four age groups in each event. Entry includes all five events. Do one or do them all. There are 1st\, 2nd\, and 3rd place ribbons in each event\, and each age group. There is also carnival games\, and food available on site. \nThis is a FUN family event\, and supports many aspects of the Cancer fight. There are also Raffle tickets being sold and will be drawn for at 3:00 pm during this event. We host this event each year as it was my son’s vision… to keep the research going as if it weren’t for research\, he would not have had the extra time that he was able to have\, a couple extra quality years to spend with his wife and daughters\, and helping in our community. \n$10.00 includes entry into all five arena events. Registration is required\, and registration opens on site at 11:00 a.m. June 4th\, 2022. Events start at Noon. Raffle drawing will be held at 3:00 pm. Food is available on Site. Come and enjoy some family fun and support a great cause. \nTraveling for this event? Find Brainerd Lakes Area Lodging
URL:https://calendar.brainerd.com/event/5th-annual-hoppy-horse-rodeo-fundraiser/
LOCATION:Merrifield Lions Park\, 21318 County Road 3\, Merrifield\, MN\, 56465\, United States
GEO:46.4611659;-94.1716457
X-APPLE-STRUCTURED-LOCATION;VALUE=URI;X-ADDRESS=Merrifield Lions Park 21318 County Road 3 Merrifield MN 56465 United States;X-APPLE-RADIUS=500;X-TITLE=21318 County Road 3:geo:-94.1716457,46.4611659
END:VEVENT
END:VCALENDAR