BEGIN:VCALENDAR
VERSION:2.0
PRODID:-//Events Calendar - ECPv6.15.20//NONSGML v1.0//EN
CALSCALE:GREGORIAN
METHOD:PUBLISH
X-ORIGINAL-URL:https://calendar.brainerd.com
X-WR-CALDESC:Events for Events Calendar
REFRESH-INTERVAL;VALUE=DURATION:PT1H
X-Robots-Tag:noindex
X-PUBLISHED-TTL:PT1H
BEGIN:VTIMEZONE
TZID:America/Chicago
BEGIN:DAYLIGHT
TZOFFSETFROM:-0600
TZOFFSETTO:-0500
TZNAME:CDT
DTSTART:20240310T080000
END:DAYLIGHT
BEGIN:STANDARD
TZOFFSETFROM:-0500
TZOFFSETTO:-0600
TZNAME:CST
DTSTART:20241103T070000
END:STANDARD
BEGIN:DAYLIGHT
TZOFFSETFROM:-0600
TZOFFSETTO:-0500
TZNAME:CDT
DTSTART:20250309T080000
END:DAYLIGHT
BEGIN:STANDARD
TZOFFSETFROM:-0500
TZOFFSETTO:-0600
TZNAME:CST
DTSTART:20251102T070000
END:STANDARD
BEGIN:DAYLIGHT
TZOFFSETFROM:-0600
TZOFFSETTO:-0500
TZNAME:CDT
DTSTART:20260308T080000
END:DAYLIGHT
BEGIN:STANDARD
TZOFFSETFROM:-0500
TZOFFSETTO:-0600
TZNAME:CST
DTSTART:20261101T070000
END:STANDARD
END:VTIMEZONE
BEGIN:VEVENT
DTSTART;TZID=America/Chicago:20250301T170000
DTEND;TZID=America/Chicago:20250301T220000
DTSTAMP:20260419T183640
CREATED:20250224T144535Z
LAST-MODIFIED:20250224T144535Z
UID:40717-1740848400-1740866400@calendar.brainerd.com
SUMMARY:One Bright Star Celebration of Life Gala 2025
DESCRIPTION:Maschka\, Riedy\, Ries & Frentz is proud to support the One Bright Star Celebration of Life Gala\, an event dedicated to honoring the memories of lost children and providing comfort to grieving families. As a bronze sponsor\, we stand with this incredible organization in its mission to bring hope and healing to those facing unimaginable loss. Join us in creating a supportive community for families who need it most. \nView more Brainerd MN Events & Activities | Find Brainerd Resorts | Book your Brainerd Hotel
URL:https://calendar.brainerd.com/event/one-bright-star-celebration-of-life-gala-2025/
LOCATION:Mayo Clinic Health System Event Center\, 1 Civic Center Plaza\, Mankato\, 56001\, United States
END:VEVENT
END:VCALENDAR