BEGIN:VCALENDAR
VERSION:2.0
PRODID:-//Events Calendar - ECPv6.15.20//NONSGML v1.0//EN
CALSCALE:GREGORIAN
METHOD:PUBLISH
X-WR-CALNAME:Events Calendar
X-ORIGINAL-URL:https://calendar.brainerd.com
X-WR-CALDESC:Events for Events Calendar
REFRESH-INTERVAL;VALUE=DURATION:PT1H
X-Robots-Tag:noindex
X-PUBLISHED-TTL:PT1H
BEGIN:VTIMEZONE
TZID:America/Chicago
BEGIN:DAYLIGHT
TZOFFSETFROM:-0600
TZOFFSETTO:-0500
TZNAME:CDT
DTSTART:20190310T080000
END:DAYLIGHT
BEGIN:STANDARD
TZOFFSETFROM:-0500
TZOFFSETTO:-0600
TZNAME:CST
DTSTART:20191103T070000
END:STANDARD
BEGIN:DAYLIGHT
TZOFFSETFROM:-0600
TZOFFSETTO:-0500
TZNAME:CDT
DTSTART:20200308T080000
END:DAYLIGHT
BEGIN:STANDARD
TZOFFSETFROM:-0500
TZOFFSETTO:-0600
TZNAME:CST
DTSTART:20201101T070000
END:STANDARD
BEGIN:DAYLIGHT
TZOFFSETFROM:-0600
TZOFFSETTO:-0500
TZNAME:CDT
DTSTART:20210314T080000
END:DAYLIGHT
BEGIN:STANDARD
TZOFFSETFROM:-0500
TZOFFSETTO:-0600
TZNAME:CST
DTSTART:20211107T070000
END:STANDARD
BEGIN:DAYLIGHT
TZOFFSETFROM:-0600
TZOFFSETTO:-0500
TZNAME:CDT
DTSTART:20220313T080000
END:DAYLIGHT
BEGIN:STANDARD
TZOFFSETFROM:-0500
TZOFFSETTO:-0600
TZNAME:CST
DTSTART:20221106T070000
END:STANDARD
BEGIN:DAYLIGHT
TZOFFSETFROM:-0600
TZOFFSETTO:-0500
TZNAME:CDT
DTSTART:20230312T080000
END:DAYLIGHT
BEGIN:STANDARD
TZOFFSETFROM:-0500
TZOFFSETTO:-0600
TZNAME:CST
DTSTART:20231105T070000
END:STANDARD
END:VTIMEZONE
BEGIN:VEVENT
DTSTART;TZID=America/Chicago:20220319T160000
DTEND;TZID=America/Chicago:20220319T160000
DTSTAMP:20260419T171651
CREATED:20220316T192841Z
LAST-MODIFIED:20220316T192841Z
UID:25718-1647705600-1647705600@calendar.brainerd.com
SUMMARY:St Patrick's Weekend with Drunk N Stupid
DESCRIPTION:Follow the Parade to Manhattan’s for Live Music by Drunk N Stupid\n4 pm \nTraveling for this event? Find Brainerd Lakes Area Lodging
URL:https://calendar.brainerd.com/event/st-patricks-weekend-with-drunk-n-stupid/
LOCATION:Manhattan Beach Lodge\, 39051 County Road 66\, Manhattan Beach\, MN\, 56442\, United States
GEO:46.7185162;-94.1279164
X-APPLE-STRUCTURED-LOCATION;VALUE=URI;X-ADDRESS=Manhattan Beach Lodge 39051 County Road 66 Manhattan Beach MN 56442 United States;X-APPLE-RADIUS=500;X-TITLE=39051 County Road 66:geo:-94.1279164,46.7185162
END:VEVENT
BEGIN:VEVENT
DTSTART;TZID=America/Chicago:20210214T160000
DTEND;TZID=America/Chicago:20210214T210000
DTSTAMP:20260419T171651
CREATED:20210208T163314Z
LAST-MODIFIED:20210208T163314Z
UID:23909-1613318400-1613336400@calendar.brainerd.com
SUMMARY:Valentine's Dinner - Manhattan's
DESCRIPTION:Traveling for this event? Find Brainerd Lakes Area Lodging
URL:https://calendar.brainerd.com/event/valentines-dinner-manhattans/
LOCATION:Manhattan Beach Lodge\, 39051 County Road 66\, Manhattan Beach\, MN\, 56442\, United States
GEO:46.7185162;-94.1279164
X-APPLE-STRUCTURED-LOCATION;VALUE=URI;X-ADDRESS=Manhattan Beach Lodge 39051 County Road 66 Manhattan Beach MN 56442 United States;X-APPLE-RADIUS=500;X-TITLE=39051 County Road 66:geo:-94.1279164,46.7185162
END:VEVENT
BEGIN:VEVENT
DTSTART;TZID=America/Chicago:20200306T200000
DTEND;TZID=America/Chicago:20200306T213000
DTSTAMP:20260419T171651
CREATED:20200211T134316Z
LAST-MODIFIED:20200211T134316Z
UID:22882-1583524800-1583530200@calendar.brainerd.com
SUMMARY:Ms. Blarney & Mr. Malarkey St. Patrick's Day Contest
DESCRIPTION:$600 Prize Package for EACH Winner\nEvery Contestant gets a $20 Gift Certificate \nAll Contestants must:\n~ Be 21 or older\n~ Be willing and able to participate in the 46th annual St. Patrick’s Day Parade on March 14\, 2020\n~ Be energetic and enthusiastic \nFor registration form call (218) 692-3381 or stop by Manhattan Beach Lodge or Whitefish Lodge & Suites \nTraveling for this event? Find Brainerd Lakes Area Lodging
URL:https://calendar.brainerd.com/event/ms-blarney-mr-malarkey-st-patricks-day-contest/
LOCATION:Manhattan Beach Lodge\, 39051 County Road 66\, Manhattan Beach\, MN\, 56442\, United States
GEO:46.7185162;-94.1279164
X-APPLE-STRUCTURED-LOCATION;VALUE=URI;X-ADDRESS=Manhattan Beach Lodge 39051 County Road 66 Manhattan Beach MN 56442 United States;X-APPLE-RADIUS=500;X-TITLE=39051 County Road 66:geo:-94.1279164,46.7185162
END:VEVENT
END:VCALENDAR