BEGIN:VCALENDAR
VERSION:2.0
PRODID:-//Events Calendar - ECPv6.15.20//NONSGML v1.0//EN
CALSCALE:GREGORIAN
METHOD:PUBLISH
X-ORIGINAL-URL:https://calendar.brainerd.com
X-WR-CALDESC:Events for Events Calendar
REFRESH-INTERVAL;VALUE=DURATION:PT1H
X-Robots-Tag:noindex
X-PUBLISHED-TTL:PT1H
BEGIN:VTIMEZONE
TZID:America/Chicago
BEGIN:DAYLIGHT
TZOFFSETFROM:-0600
TZOFFSETTO:-0500
TZNAME:CDT
DTSTART:20230312T080000
END:DAYLIGHT
BEGIN:STANDARD
TZOFFSETFROM:-0500
TZOFFSETTO:-0600
TZNAME:CST
DTSTART:20231105T070000
END:STANDARD
BEGIN:DAYLIGHT
TZOFFSETFROM:-0600
TZOFFSETTO:-0500
TZNAME:CDT
DTSTART:20240310T080000
END:DAYLIGHT
BEGIN:STANDARD
TZOFFSETFROM:-0500
TZOFFSETTO:-0600
TZNAME:CST
DTSTART:20241103T070000
END:STANDARD
BEGIN:DAYLIGHT
TZOFFSETFROM:-0600
TZOFFSETTO:-0500
TZNAME:CDT
DTSTART:20250309T080000
END:DAYLIGHT
BEGIN:STANDARD
TZOFFSETFROM:-0500
TZOFFSETTO:-0600
TZNAME:CST
DTSTART:20251102T070000
END:STANDARD
END:VTIMEZONE
BEGIN:VEVENT
DTSTART;TZID=America/Chicago:20241228T120000
DTEND;TZID=America/Chicago:20241228T210000
DTSTAMP:20260422T131319
CREATED:20241213T201406Z
LAST-MODIFIED:20241213T201406Z
UID:39974-1735387200-1735419600@calendar.brainerd.com
SUMMARY:Lonesome Pine Lake Festival
DESCRIPTION:Big heated tent\, food/bev\, skating/hockey\, dog sled rides\, huge bonfires\, TVs for football & hockey\, live music by The White Keys\, Amazing Fireworks\, Friends\, FUN!\, Shuttles. And so much more! \nView more Brainerd MN Events & Activities | Find Brainerd Resorts | Book your Brainerd Hotel
URL:https://calendar.brainerd.com/event/lonesome-pine-lake-festival/
LOCATION:Lonesome Pine Restaurant and Bar\, 13726 Katrine Dr\, Deerwood\, 56444\, United States
END:VEVENT
END:VCALENDAR