BEGIN:VCALENDAR
VERSION:2.0
PRODID:-//Events Calendar - ECPv6.15.20//NONSGML v1.0//EN
CALSCALE:GREGORIAN
METHOD:PUBLISH
X-ORIGINAL-URL:https://calendar.brainerd.com
X-WR-CALDESC:Events for Events Calendar
REFRESH-INTERVAL;VALUE=DURATION:PT1H
X-Robots-Tag:noindex
X-PUBLISHED-TTL:PT1H
BEGIN:VTIMEZONE
TZID:America/Chicago
BEGIN:DAYLIGHT
TZOFFSETFROM:-0600
TZOFFSETTO:-0500
TZNAME:CDT
DTSTART:20210314T080000
END:DAYLIGHT
BEGIN:STANDARD
TZOFFSETFROM:-0500
TZOFFSETTO:-0600
TZNAME:CST
DTSTART:20211107T070000
END:STANDARD
BEGIN:DAYLIGHT
TZOFFSETFROM:-0600
TZOFFSETTO:-0500
TZNAME:CDT
DTSTART:20220313T080000
END:DAYLIGHT
BEGIN:STANDARD
TZOFFSETFROM:-0500
TZOFFSETTO:-0600
TZNAME:CST
DTSTART:20221106T070000
END:STANDARD
BEGIN:DAYLIGHT
TZOFFSETFROM:-0600
TZOFFSETTO:-0500
TZNAME:CDT
DTSTART:20230312T080000
END:DAYLIGHT
BEGIN:STANDARD
TZOFFSETFROM:-0500
TZOFFSETTO:-0600
TZNAME:CST
DTSTART:20231105T070000
END:STANDARD
END:VTIMEZONE
BEGIN:VEVENT
DTSTART;VALUE=DATE:20220812
DTEND;VALUE=DATE:20220816
DTSTAMP:20260420T014634
CREATED:20220719T160549Z
LAST-MODIFIED:20220719T160549Z
UID:26593-1660273200-1660532399@calendar.brainerd.com
SUMMARY:Rotary Ends Human Trafficking Music Festival
DESCRIPTION:Join us at this family and music lover’s event and have a fantastic time as you support Rotary’s effort to end human trafficking! \n  \n\nLive music with popular regional bands\nChildren’s area available during weekend\nGreat presentations by knowledgeable speakers\nCamping – electrical hookup or primitive\nFood court\, food vendors & beer garden\n\n  \nAll profits will be used to bring awareness and education to Cass & Crow Wing Counties about human trafficking and to support survivors with their healing. \nTraveling for this event? Find Brainerd Lakes Area Lodging
URL:https://calendar.brainerd.com/event/rotary-ends-human-trafficking-music-festival/
LOCATION:Lakes Music & Events Park\, Pine River\, Pine River\, MN\, 56474\, United States
GEO:46.7180163;-94.4041625
END:VEVENT
BEGIN:VEVENT
DTSTART;TZID=America/Chicago:20220521T100000
DTEND;TZID=America/Chicago:20220521T150000
DTSTAMP:20260420T014634
CREATED:20220512T202410Z
LAST-MODIFIED:20220512T202410Z
UID:26134-1653127200-1653145200@calendar.brainerd.com
SUMMARY:Spring Fair
DESCRIPTION:Join us at the Spring Fair\, an event showcasing over 35 vendors\, mini-workshops\, and kids & family activities that highlight sustainable living! \n35+ Vendors \nMini-Workshops:\n11 AM – Ross Brink\, Rain Garden Design Using Native Plants\n12 PM – Jim Chamberlin\, Building Soil Health in Your Field or Garden\n1 PM – Natural Resource Conservation Service\, Rainfall Simulator/Conservation Assistance Opportunities\n2 PM – Kim Norman\, The Importance of Outside Play \nKids & Family Activities:\nNature Storytime – 10:30\, 11:30\, 12:30 & 1:30 with an accompanying craft!\nSoulful Horse – Meet a friend from the Soulful Horse Herd!\nBabinski’s Adoption Event 10am to 1pm – Find your fur-ever pal!\nWondertrek Children’s Museum – What can you create with oversized blocks? \nMeet our “Turtle” mascot\, enjoy games & more! \nTraveling for this event? Find Brainerd Lakes Area Lodging
URL:https://calendar.brainerd.com/event/spring-fair/
LOCATION:Lakes Music & Events Park\, Pine River\, Pine River\, MN\, 56474\, United States
GEO:46.7180163;-94.4041625
END:VEVENT
END:VCALENDAR