BEGIN:VCALENDAR
VERSION:2.0
PRODID:-//Events Calendar - ECPv6.15.20//NONSGML v1.0//EN
CALSCALE:GREGORIAN
METHOD:PUBLISH
X-ORIGINAL-URL:https://calendar.brainerd.com
X-WR-CALDESC:Events for Events Calendar
REFRESH-INTERVAL;VALUE=DURATION:PT1H
X-Robots-Tag:noindex
X-PUBLISHED-TTL:PT1H
BEGIN:VTIMEZONE
TZID:America/Chicago
BEGIN:DAYLIGHT
TZOFFSETFROM:-0600
TZOFFSETTO:-0500
TZNAME:CDT
DTSTART:20190310T080000
END:DAYLIGHT
BEGIN:STANDARD
TZOFFSETFROM:-0500
TZOFFSETTO:-0600
TZNAME:CST
DTSTART:20191103T070000
END:STANDARD
BEGIN:DAYLIGHT
TZOFFSETFROM:-0600
TZOFFSETTO:-0500
TZNAME:CDT
DTSTART:20200308T080000
END:DAYLIGHT
BEGIN:STANDARD
TZOFFSETFROM:-0500
TZOFFSETTO:-0600
TZNAME:CST
DTSTART:20201101T070000
END:STANDARD
BEGIN:DAYLIGHT
TZOFFSETFROM:-0600
TZOFFSETTO:-0500
TZNAME:CDT
DTSTART:20210314T080000
END:DAYLIGHT
BEGIN:STANDARD
TZOFFSETFROM:-0500
TZOFFSETTO:-0600
TZNAME:CST
DTSTART:20211107T070000
END:STANDARD
BEGIN:DAYLIGHT
TZOFFSETFROM:-0600
TZOFFSETTO:-0500
TZNAME:CDT
DTSTART:20220313T080000
END:DAYLIGHT
BEGIN:STANDARD
TZOFFSETFROM:-0500
TZOFFSETTO:-0600
TZNAME:CST
DTSTART:20221106T070000
END:STANDARD
BEGIN:DAYLIGHT
TZOFFSETFROM:-0600
TZOFFSETTO:-0500
TZNAME:CDT
DTSTART:20230312T080000
END:DAYLIGHT
BEGIN:STANDARD
TZOFFSETFROM:-0500
TZOFFSETTO:-0600
TZNAME:CST
DTSTART:20231105T070000
END:STANDARD
BEGIN:DAYLIGHT
TZOFFSETFROM:-0600
TZOFFSETTO:-0500
TZNAME:CDT
DTSTART:20240310T080000
END:DAYLIGHT
BEGIN:STANDARD
TZOFFSETFROM:-0500
TZOFFSETTO:-0600
TZNAME:CST
DTSTART:20241103T070000
END:STANDARD
END:VTIMEZONE
BEGIN:VEVENT
DTSTART;VALUE=DATE:20230810
DTEND;VALUE=DATE:20230812
DTSTAMP:20260422T074407
CREATED:20230407T175722Z
LAST-MODIFIED:20230407T175722Z
UID:29140-1691636400-1691722799@calendar.brainerd.com
SUMMARY:Lake Country Crafts & Cones Ice Cream Eating Contest
DESCRIPTION:For more than 14 years Lake Country Crafts & Cones has been hosting an annual ice cream eating contest!  With categories for all ages\, it’s not just the kids who dive into the bowls to compete. \nTraveling for this event? Find Brainerd Lakes Area Lodging
URL:https://calendar.brainerd.com/event/lake-country-crafts-cones-ice-cream-eating-contest-3/
LOCATION:Lake Country Crafts & Cones\, 36084 Cty Rd 66\, Crosslake\, MN\, 56442\, United States
GEO:46.676007;-94.108312
X-APPLE-STRUCTURED-LOCATION;VALUE=URI;X-ADDRESS=Lake Country Crafts & Cones 36084 Cty Rd 66 Crosslake MN 56442 United States;X-APPLE-RADIUS=500;X-TITLE=36084 Cty Rd 66:geo:-94.108312,46.676007
END:VEVENT
BEGIN:VEVENT
DTSTART;TZID=America/Chicago:20220811T150000
DTEND;TZID=America/Chicago:20220811T160000
DTSTAMP:20260422T074407
CREATED:20220805T182228Z
LAST-MODIFIED:20220805T182228Z
UID:26679-1660230000-1660233600@calendar.brainerd.com
SUMMARY:Lake Country Crafts & Cones Ice Cream Eating Contest
DESCRIPTION:For more than 14 years Lake Country Crafts & Cones has been hosting an annual ice cream eating contest!  With categories for all ages\, it’s not just the kids who dive into the bowls to compete. \nTraveling for this event? Find Brainerd Lakes Area Lodging
URL:https://calendar.brainerd.com/event/lake-country-crafts-cones-ice-cream-eating-contest-2/
LOCATION:Lake Country Crafts & Cones\, 36084 Cty Rd 66\, Crosslake\, MN\, 56442\, United States
GEO:46.676007;-94.108312
X-APPLE-STRUCTURED-LOCATION;VALUE=URI;X-ADDRESS=Lake Country Crafts & Cones 36084 Cty Rd 66 Crosslake MN 56442 United States;X-APPLE-RADIUS=500;X-TITLE=36084 Cty Rd 66:geo:-94.108312,46.676007
END:VEVENT
BEGIN:VEVENT
DTSTART;TZID=America/Chicago:20201013T163000
DTEND;TZID=America/Chicago:20201013T180000
DTSTAMP:20260422T074407
CREATED:20201007T150250Z
LAST-MODIFIED:20201007T150250Z
UID:23573-1602606600-1602612000@calendar.brainerd.com
SUMMARY:Business After Hours - Lake Country Craft & Cones
DESCRIPTION:Join Lake Country Crafts and Cones in Crosslake as they host Business After Hours next Tuesday\, October 13\, 2020 from 4:30 – 6:00 PM. Enjoy fresh\, individually wrapped sandwich samples (Canoe\, Cruiser Club and Catamaran) accompanied with beer\, wine coolers\, water and pop. Of course\, there will be ice cream as well! Guests will have the opportunity to win prizes (2- $50 gift cards provided by Lake Country Crafts and Cones) and learn why it’s been the hot spot of Crosslake since 1982! This event will be hosted outdoors under a tent. Indoor seating will also be available. \nAs a courtesy to the host\, advanced registration is recommended. To make your reservation\, call (218) 829-2838. If you’re not able to attend\, join us on Facebook for a live video interview with the host at 5:30 PM. \nTraveling for this event? Find Brainerd Lakes Area Lodging
URL:https://calendar.brainerd.com/event/business-after-hours-lake-country-craft-cones/
LOCATION:Lake Country Crafts & Cones\, 36084 Cty Rd 66\, Crosslake\, MN\, 56442\, United States
GEO:46.676007;-94.108312
X-APPLE-STRUCTURED-LOCATION;VALUE=URI;X-ADDRESS=Lake Country Crafts & Cones 36084 Cty Rd 66 Crosslake MN 56442 United States;X-APPLE-RADIUS=500;X-TITLE=36084 Cty Rd 66:geo:-94.108312,46.676007
END:VEVENT
END:VCALENDAR