BEGIN:VCALENDAR
VERSION:2.0
PRODID:-//Events Calendar - ECPv6.15.20//NONSGML v1.0//EN
CALSCALE:GREGORIAN
METHOD:PUBLISH
X-WR-CALNAME:Events Calendar
X-ORIGINAL-URL:https://calendar.brainerd.com
X-WR-CALDESC:Events for Events Calendar
REFRESH-INTERVAL;VALUE=DURATION:PT1H
X-Robots-Tag:noindex
X-PUBLISHED-TTL:PT1H
BEGIN:VTIMEZONE
TZID:America/Chicago
BEGIN:DAYLIGHT
TZOFFSETFROM:-0600
TZOFFSETTO:-0500
TZNAME:CDT
DTSTART:20230312T080000
END:DAYLIGHT
BEGIN:STANDARD
TZOFFSETFROM:-0500
TZOFFSETTO:-0600
TZNAME:CST
DTSTART:20231105T070000
END:STANDARD
BEGIN:DAYLIGHT
TZOFFSETFROM:-0600
TZOFFSETTO:-0500
TZNAME:CDT
DTSTART:20240310T080000
END:DAYLIGHT
BEGIN:STANDARD
TZOFFSETFROM:-0500
TZOFFSETTO:-0600
TZNAME:CST
DTSTART:20241103T070000
END:STANDARD
BEGIN:DAYLIGHT
TZOFFSETFROM:-0600
TZOFFSETTO:-0500
TZNAME:CDT
DTSTART:20250309T080000
END:DAYLIGHT
BEGIN:STANDARD
TZOFFSETFROM:-0500
TZOFFSETTO:-0600
TZNAME:CST
DTSTART:20251102T070000
END:STANDARD
END:VTIMEZONE
BEGIN:VEVENT
DTSTART;TZID=America/Chicago:20241020T123000
DTEND;TZID=America/Chicago:20241020T150000
DTSTAMP:20260421T014359
CREATED:20240926T184931Z
LAST-MODIFIED:20240926T184931Z
UID:39125-1729427400-1729436400@calendar.brainerd.com
SUMMARY:Tractor\, Truck\, & Treat
DESCRIPTION:Come trick or treat with tractors and trucks! Our first ever time hosting a tractors\, trucks\, and treats event brought to you by JJ Legacy Cattle Co. This is a FREE event for the community\, and also FREE for local businesses to participate in! There will be a limited concessions\, more info to come on that. We can’t wait to see everyone!\nPlease refer to the flyer for guidelines. Thank you! \nView more Brainerd MN Events & Activities | Find Brainerd Resorts | Book your Brainerd Hotel
URL:https://calendar.brainerd.com/event/tractor-truck-treat/
LOCATION:JJ Legacy Cattle Company\, 23552 295th Ave\, Pierz\, 56364\, United States
END:VEVENT
END:VCALENDAR