BEGIN:VCALENDAR
VERSION:2.0
PRODID:-//Events Calendar - ECPv6.15.20//NONSGML v1.0//EN
CALSCALE:GREGORIAN
METHOD:PUBLISH
X-ORIGINAL-URL:https://calendar.brainerd.com
X-WR-CALDESC:Events for Events Calendar
REFRESH-INTERVAL;VALUE=DURATION:PT1H
X-Robots-Tag:noindex
X-PUBLISHED-TTL:PT1H
BEGIN:VTIMEZONE
TZID:America/Chicago
BEGIN:DAYLIGHT
TZOFFSETFROM:-0600
TZOFFSETTO:-0500
TZNAME:CDT
DTSTART:20190310T080000
END:DAYLIGHT
BEGIN:STANDARD
TZOFFSETFROM:-0500
TZOFFSETTO:-0600
TZNAME:CST
DTSTART:20191103T070000
END:STANDARD
BEGIN:DAYLIGHT
TZOFFSETFROM:-0600
TZOFFSETTO:-0500
TZNAME:CDT
DTSTART:20200308T080000
END:DAYLIGHT
BEGIN:STANDARD
TZOFFSETFROM:-0500
TZOFFSETTO:-0600
TZNAME:CST
DTSTART:20201101T070000
END:STANDARD
BEGIN:DAYLIGHT
TZOFFSETFROM:-0600
TZOFFSETTO:-0500
TZNAME:CDT
DTSTART:20210314T080000
END:DAYLIGHT
BEGIN:STANDARD
TZOFFSETFROM:-0500
TZOFFSETTO:-0600
TZNAME:CST
DTSTART:20211107T070000
END:STANDARD
BEGIN:DAYLIGHT
TZOFFSETFROM:-0600
TZOFFSETTO:-0500
TZNAME:CDT
DTSTART:20220313T080000
END:DAYLIGHT
BEGIN:STANDARD
TZOFFSETFROM:-0500
TZOFFSETTO:-0600
TZNAME:CST
DTSTART:20221106T070000
END:STANDARD
BEGIN:DAYLIGHT
TZOFFSETFROM:-0600
TZOFFSETTO:-0500
TZNAME:CDT
DTSTART:20230312T080000
END:DAYLIGHT
BEGIN:STANDARD
TZOFFSETFROM:-0500
TZOFFSETTO:-0600
TZNAME:CST
DTSTART:20231105T070000
END:STANDARD
BEGIN:DAYLIGHT
TZOFFSETFROM:-0600
TZOFFSETTO:-0500
TZNAME:CDT
DTSTART:20240310T080000
END:DAYLIGHT
BEGIN:STANDARD
TZOFFSETFROM:-0500
TZOFFSETTO:-0600
TZNAME:CST
DTSTART:20241103T070000
END:STANDARD
BEGIN:DAYLIGHT
TZOFFSETFROM:-0600
TZOFFSETTO:-0500
TZNAME:CDT
DTSTART:20250309T080000
END:DAYLIGHT
BEGIN:STANDARD
TZOFFSETFROM:-0500
TZOFFSETTO:-0600
TZNAME:CST
DTSTART:20251102T070000
END:STANDARD
BEGIN:DAYLIGHT
TZOFFSETFROM:-0600
TZOFFSETTO:-0500
TZNAME:CDT
DTSTART:20260308T080000
END:DAYLIGHT
BEGIN:STANDARD
TZOFFSETFROM:-0500
TZOFFSETTO:-0600
TZNAME:CST
DTSTART:20261101T070000
END:STANDARD
END:VTIMEZONE
BEGIN:VEVENT
DTSTART;TZID=America/Chicago:20251101T200000
DTEND;TZID=America/Chicago:20251101T200000
DTSTAMP:20260419T165527
CREATED:20251015T211945Z
LAST-MODIFIED:20251015T211945Z
UID:43383-1762027200-1762027200@calendar.brainerd.com
SUMMARY:Jackpot Bowling & Costume Contest
DESCRIPTION:Jackpot Bowling & Costume Contest Join us at Jack’s House on Saturday\, November 1 for a fun night of bowling\, prizes\, and great costumes. Check-in: 8:00 PM Costume Contest: 8:30 PM Bowling Starts: 9:00 PM Entry Fee: $25 per bowler Bring your best costume and compete for prizes while enjoying a night of jackpot bowling with friends. \nView more Brainerd MN Events & Activities | Find Brainerd Resorts | Book your Brainerd Hotel
URL:https://calendar.brainerd.com/event/jackpot-bowling-costume-contest/
LOCATION:Jack’s House\, 300 Highway 25 South\, Brainerd\, MN\, 56401\, United States
GEO:46.3551375;-94.1618356
X-APPLE-STRUCTURED-LOCATION;VALUE=URI;X-ADDRESS=Jack’s House 300 Highway 25 South Brainerd MN 56401 United States;X-APPLE-RADIUS=500;X-TITLE=300 Highway 25 South:geo:-94.1618356,46.3551375
END:VEVENT
BEGIN:VEVENT
DTSTART;TZID=America/Chicago:20250711T170000
DTEND;TZID=America/Chicago:20250711T210000
DTSTAMP:20260419T165527
CREATED:20250707T171459Z
LAST-MODIFIED:20250707T171459Z
UID:42267-1752253200-1752267600@calendar.brainerd.com
SUMMARY:Recovery Night Bowling
DESCRIPTION:🎳 Recovery Night Bowling! 🌮\nFriday\, July 11th | 5:00 PM – 9:00 PM\n📍 Jack’s House – 300 MN-25\, Brainerd\, MN 56401 \nJoin us for a fun and supportive evening of strikes\, spares\, and community! Whether you’re in recovery\, supporting someone who is\, or just looking for a positive way to connect — this night is for YOU. \n✅ $12 per person – includes 2 games & shoe rental\n🌮 FREE Taco Bar – come hungry!\n🎉 Family-friendly\, sober fun\n🤝 All are welcome! \nCome as you are\, bring your friends\, and let’s roll into the weekend with connection and good vibes. 💙 \nQuestions? Drop us a message! \nView more Brainerd MN Events & Activities | Find Brainerd Resorts | Book your Brainerd Hotel
URL:https://calendar.brainerd.com/event/recovery-night-bowling/
LOCATION:Jack’s House\, 300 Highway 25 South\, Brainerd\, MN\, 56401\, United States
GEO:46.3551375;-94.1618356
X-APPLE-STRUCTURED-LOCATION;VALUE=URI;X-ADDRESS=Jack’s House 300 Highway 25 South Brainerd MN 56401 United States;X-APPLE-RADIUS=500;X-TITLE=300 Highway 25 South:geo:-94.1618356,46.3551375
END:VEVENT
BEGIN:VEVENT
DTSTART;TZID=America/Chicago:20200310T140000
DTEND;TZID=America/Chicago:20200310T143000
DTSTAMP:20260419T165527
CREATED:20200302T134242Z
LAST-MODIFIED:20200302T134242Z
UID:23020-1583848800-1583850600@calendar.brainerd.com
SUMMARY:Strawberry Fruit Truck Tour
DESCRIPTION:Taking reservations for the Fresh Strawberry Fruit Truck Tour 8-9LB box $27 reserve & pay at the truck or $25 if paid online at MyFruitTruck.com. \nPlease share this post & help us spread the word. \nJoin our Facebook group at:\nhttps://www.facebook.com/groups/SWMNFruitClub/ \nTraveling for this event? Find Brainerd Lakes Area Lodging
URL:https://calendar.brainerd.com/event/strawberry-fruit-truck-tour/
LOCATION:Jack’s House\, 300 Highway 25 South\, Brainerd\, MN\, 56401\, United States
GEO:46.3551375;-94.1618356
X-APPLE-STRUCTURED-LOCATION;VALUE=URI;X-ADDRESS=Jack’s House 300 Highway 25 South Brainerd MN 56401 United States;X-APPLE-RADIUS=500;X-TITLE=300 Highway 25 South:geo:-94.1618356,46.3551375
END:VEVENT
END:VCALENDAR