BEGIN:VCALENDAR
VERSION:2.0
PRODID:-//Events Calendar - ECPv6.15.20//NONSGML v1.0//EN
CALSCALE:GREGORIAN
METHOD:PUBLISH
X-WR-CALNAME:Events Calendar
X-ORIGINAL-URL:https://calendar.brainerd.com
X-WR-CALDESC:Events for Events Calendar
REFRESH-INTERVAL;VALUE=DURATION:PT1H
X-Robots-Tag:noindex
X-PUBLISHED-TTL:PT1H
BEGIN:VTIMEZONE
TZID:America/Chicago
BEGIN:DAYLIGHT
TZOFFSETFROM:-0600
TZOFFSETTO:-0500
TZNAME:CDT
DTSTART:20230312T080000
END:DAYLIGHT
BEGIN:STANDARD
TZOFFSETFROM:-0500
TZOFFSETTO:-0600
TZNAME:CST
DTSTART:20231105T070000
END:STANDARD
BEGIN:DAYLIGHT
TZOFFSETFROM:-0600
TZOFFSETTO:-0500
TZNAME:CDT
DTSTART:20240310T080000
END:DAYLIGHT
BEGIN:STANDARD
TZOFFSETFROM:-0500
TZOFFSETTO:-0600
TZNAME:CST
DTSTART:20241103T070000
END:STANDARD
BEGIN:DAYLIGHT
TZOFFSETFROM:-0600
TZOFFSETTO:-0500
TZNAME:CDT
DTSTART:20250309T080000
END:DAYLIGHT
BEGIN:STANDARD
TZOFFSETFROM:-0500
TZOFFSETTO:-0600
TZNAME:CST
DTSTART:20251102T070000
END:STANDARD
BEGIN:DAYLIGHT
TZOFFSETFROM:-0600
TZOFFSETTO:-0500
TZNAME:CDT
DTSTART:20260308T080000
END:DAYLIGHT
BEGIN:STANDARD
TZOFFSETFROM:-0500
TZOFFSETTO:-0600
TZNAME:CST
DTSTART:20261101T070000
END:STANDARD
END:VTIMEZONE
BEGIN:VEVENT
DTSTART;TZID=America/Chicago:20250308T120000
DTEND;TZID=America/Chicago:20250308T160000
DTSTAMP:20260420T130946
CREATED:20250228T194953Z
LAST-MODIFIED:20250228T194953Z
UID:40796-1741435200-1741449600@calendar.brainerd.com
SUMMARY:The Big Giveaway Event at Inner Reliance Massage & Wellness
DESCRIPTION:You could win a year of massages! Come and join us for a fun afternoon of spa services and giveaways!\nEvent details to come! \nView more Brainerd MN Events & Activities | Find Brainerd Resorts | Book your Brainerd Hotel
URL:https://calendar.brainerd.com/event/the-big-giveaway-event-at-inner-reliance-massage-wellness/
LOCATION:Inner Reliance Massage and Wellness\, 13021 Evergreen Dr\, Baxter\, 56425\, United States
END:VEVENT
BEGIN:VEVENT
DTSTART;TZID=America/Chicago:20241213T180000
DTEND;TZID=America/Chicago:20241213T203000
DTSTAMP:20260420T130946
CREATED:20241206T203855Z
LAST-MODIFIED:20241206T203855Z
UID:39906-1734112800-1734121800@calendar.brainerd.com
SUMMARY:DIY Christmas Gift Gathering
DESCRIPTION:Join us as Inner Reliance as we craft the night away with DIY projects! Just in time for Christmas!\nMake as many gifts as you would like! Your first gift is free!\nThe DIY Creations you can choose from are:\n-Sugar Scrub\n-Bath Salts\n-Roller Bottle Blends\n-Lava Bead Bracelets\n-Room Spray\nand more!\nGift bags and tissue paper included. We can’t wait to see you there!\n*$5 Dollars a gift for all additional gifts. \nView more Brainerd MN Events & Activities | Find Brainerd Resorts | Book your Brainerd Hotel
URL:https://calendar.brainerd.com/event/diy-christmas-gift-gathering/
LOCATION:Inner Reliance Massage and Wellness\, 13021 Evergreen Dr\, Baxter\, 56425\, United States
END:VEVENT
END:VCALENDAR