BEGIN:VCALENDAR
VERSION:2.0
PRODID:-//Events Calendar - ECPv6.15.20//NONSGML v1.0//EN
CALSCALE:GREGORIAN
METHOD:PUBLISH
X-WR-CALNAME:Events Calendar
X-ORIGINAL-URL:https://calendar.brainerd.com
X-WR-CALDESC:Events for Events Calendar
REFRESH-INTERVAL;VALUE=DURATION:PT1H
X-Robots-Tag:noindex
X-PUBLISHED-TTL:PT1H
BEGIN:VTIMEZONE
TZID:America/Chicago
BEGIN:DAYLIGHT
TZOFFSETFROM:-0600
TZOFFSETTO:-0500
TZNAME:CDT
DTSTART:20200308T080000
END:DAYLIGHT
BEGIN:STANDARD
TZOFFSETFROM:-0500
TZOFFSETTO:-0600
TZNAME:CST
DTSTART:20201101T070000
END:STANDARD
BEGIN:DAYLIGHT
TZOFFSETFROM:-0600
TZOFFSETTO:-0500
TZNAME:CDT
DTSTART:20210314T080000
END:DAYLIGHT
BEGIN:STANDARD
TZOFFSETFROM:-0500
TZOFFSETTO:-0600
TZNAME:CST
DTSTART:20211107T070000
END:STANDARD
BEGIN:DAYLIGHT
TZOFFSETFROM:-0600
TZOFFSETTO:-0500
TZNAME:CDT
DTSTART:20220313T080000
END:DAYLIGHT
BEGIN:STANDARD
TZOFFSETFROM:-0500
TZOFFSETTO:-0600
TZNAME:CST
DTSTART:20221106T070000
END:STANDARD
BEGIN:DAYLIGHT
TZOFFSETFROM:-0600
TZOFFSETTO:-0500
TZNAME:CDT
DTSTART:20230312T080000
END:DAYLIGHT
BEGIN:STANDARD
TZOFFSETFROM:-0500
TZOFFSETTO:-0600
TZNAME:CST
DTSTART:20231105T070000
END:STANDARD
BEGIN:DAYLIGHT
TZOFFSETFROM:-0600
TZOFFSETTO:-0500
TZNAME:CDT
DTSTART:20240310T080000
END:DAYLIGHT
BEGIN:STANDARD
TZOFFSETFROM:-0500
TZOFFSETTO:-0600
TZNAME:CST
DTSTART:20241103T070000
END:STANDARD
BEGIN:DAYLIGHT
TZOFFSETFROM:-0600
TZOFFSETTO:-0500
TZNAME:CDT
DTSTART:20250309T080000
END:DAYLIGHT
BEGIN:STANDARD
TZOFFSETFROM:-0500
TZOFFSETTO:-0600
TZNAME:CST
DTSTART:20251102T070000
END:STANDARD
END:VTIMEZONE
BEGIN:VEVENT
DTSTART;TZID=America/Chicago:20241109T083000
DTEND;TZID=America/Chicago:20241109T130000
DTSTAMP:20260420T060529
CREATED:20241104T214031Z
LAST-MODIFIED:20241104T214031Z
UID:39535-1731141000-1731157200@calendar.brainerd.com
SUMMARY:Spirit of Christmas Bazaar
DESCRIPTION:Quality Arts & Crafts. Fresh Baked Rolls. Wreaths & Swags. \nView more Brainerd MN Events & Activities | Find Brainerd Resorts | Book your Brainerd Hotel
URL:https://calendar.brainerd.com/event/spirit-of-christmas-bazaar-2/
LOCATION:Immanuel Lutheran Church Crosby\, 600 4th Street SW\, Crosby\, MN\, 56441\, United States
GEO:46.4786732;-93.9636829
X-APPLE-STRUCTURED-LOCATION;VALUE=URI;X-ADDRESS=Immanuel Lutheran Church Crosby 600 4th Street SW Crosby MN 56441 United States;X-APPLE-RADIUS=500;X-TITLE=600 4th Street SW:geo:-93.9636829,46.4786732
END:VEVENT
BEGIN:VEVENT
DTSTART;TZID=America/Chicago:20211113T083000
DTEND;TZID=America/Chicago:20211113T133000
DTSTAMP:20260420T060529
CREATED:20211102T144817Z
LAST-MODIFIED:20211102T144817Z
UID:24815-1636792200-1636810200@calendar.brainerd.com
SUMMARY:Spirit of Christmas Bazaar
DESCRIPTION:Crafts\, Baked Goods\, Candies\, Little Elves Gift Shop and Raffle. \nTraveling for this event? Find Brainerd Lakes Area Lodging
URL:https://calendar.brainerd.com/event/spirit-of-christmas-bazaar/
LOCATION:Immanuel Lutheran Church Crosby\, 600 4th Street SW\, Crosby\, MN\, 56441\, United States
GEO:46.4786732;-93.9636829
X-APPLE-STRUCTURED-LOCATION;VALUE=URI;X-ADDRESS=Immanuel Lutheran Church Crosby 600 4th Street SW Crosby MN 56441 United States;X-APPLE-RADIUS=500;X-TITLE=600 4th Street SW:geo:-93.9636829,46.4786732
END:VEVENT
END:VCALENDAR