BEGIN:VCALENDAR
VERSION:2.0
PRODID:-//Events Calendar - ECPv6.15.20//NONSGML v1.0//EN
CALSCALE:GREGORIAN
METHOD:PUBLISH
X-WR-CALNAME:Events Calendar
X-ORIGINAL-URL:https://calendar.brainerd.com
X-WR-CALDESC:Events for Events Calendar
REFRESH-INTERVAL;VALUE=DURATION:PT1H
X-Robots-Tag:noindex
X-PUBLISHED-TTL:PT1H
BEGIN:VTIMEZONE
TZID:America/Chicago
BEGIN:DAYLIGHT
TZOFFSETFROM:-0600
TZOFFSETTO:-0500
TZNAME:CDT
DTSTART:20240310T080000
END:DAYLIGHT
BEGIN:STANDARD
TZOFFSETFROM:-0500
TZOFFSETTO:-0600
TZNAME:CST
DTSTART:20241103T070000
END:STANDARD
BEGIN:DAYLIGHT
TZOFFSETFROM:-0600
TZOFFSETTO:-0500
TZNAME:CDT
DTSTART:20250309T080000
END:DAYLIGHT
BEGIN:STANDARD
TZOFFSETFROM:-0500
TZOFFSETTO:-0600
TZNAME:CST
DTSTART:20251102T070000
END:STANDARD
BEGIN:DAYLIGHT
TZOFFSETFROM:-0600
TZOFFSETTO:-0500
TZNAME:CDT
DTSTART:20260308T080000
END:DAYLIGHT
BEGIN:STANDARD
TZOFFSETFROM:-0500
TZOFFSETTO:-0600
TZNAME:CST
DTSTART:20261101T070000
END:STANDARD
END:VTIMEZONE
BEGIN:VEVENT
DTSTART;TZID=America/Chicago:20250125T110000
DTEND;TZID=America/Chicago:20250125T140000
DTSTAMP:20260420T214743
CREATED:20250109T211644Z
LAST-MODIFIED:20250109T211644Z
UID:40203-1737802800-1737813600@calendar.brainerd.com
SUMMARY:Gracewin Cooperative Open House
DESCRIPTION:Come join us at 7084 Glory Rd S for a fun-filled day of exploring our Active 55+ cooperative community. Meet our friendly residents\, tour our beautiful facilities\, and learn about the benefits of cooperative living. Whether you’re looking for a new home or just curious about cooperative living\, this event is perfect for you! \nDon’t miss out on this fantastic opportunity to see what Gracewin Living Cooperative has to offer right here in the heart of the Brainerd Lakes Area. Mark your calendars and we’ll see you there! \nView more Brainerd MN Events & Activities | Find Brainerd Resorts | Book your Brainerd Hotel
URL:https://calendar.brainerd.com/event/gracewin-cooperative-open-house/
LOCATION:Gracewin Living Cooperative\, 7084 Glory Road\, Baxter\, 56425\, United States
ORGANIZER;CN="Lisa Anteau":MAILTO:lisa@gracewinliving.com
END:VEVENT
END:VCALENDAR