BEGIN:VCALENDAR
VERSION:2.0
PRODID:-//Events Calendar - ECPv6.15.20//NONSGML v1.0//EN
CALSCALE:GREGORIAN
METHOD:PUBLISH
X-ORIGINAL-URL:https://calendar.brainerd.com
X-WR-CALDESC:Events for Events Calendar
REFRESH-INTERVAL;VALUE=DURATION:PT1H
X-Robots-Tag:noindex
X-PUBLISHED-TTL:PT1H
BEGIN:VTIMEZONE
TZID:America/Chicago
BEGIN:DAYLIGHT
TZOFFSETFROM:-0600
TZOFFSETTO:-0500
TZNAME:CDT
DTSTART:20200308T080000
END:DAYLIGHT
BEGIN:STANDARD
TZOFFSETFROM:-0500
TZOFFSETTO:-0600
TZNAME:CST
DTSTART:20201101T070000
END:STANDARD
BEGIN:DAYLIGHT
TZOFFSETFROM:-0600
TZOFFSETTO:-0500
TZNAME:CDT
DTSTART:20210314T080000
END:DAYLIGHT
BEGIN:STANDARD
TZOFFSETFROM:-0500
TZOFFSETTO:-0600
TZNAME:CST
DTSTART:20211107T070000
END:STANDARD
BEGIN:DAYLIGHT
TZOFFSETFROM:-0600
TZOFFSETTO:-0500
TZNAME:CDT
DTSTART:20220313T080000
END:DAYLIGHT
BEGIN:STANDARD
TZOFFSETFROM:-0500
TZOFFSETTO:-0600
TZNAME:CST
DTSTART:20221106T070000
END:STANDARD
BEGIN:DAYLIGHT
TZOFFSETFROM:-0600
TZOFFSETTO:-0500
TZNAME:CDT
DTSTART:20230312T080000
END:DAYLIGHT
BEGIN:STANDARD
TZOFFSETFROM:-0500
TZOFFSETTO:-0600
TZNAME:CST
DTSTART:20231105T070000
END:STANDARD
BEGIN:DAYLIGHT
TZOFFSETFROM:-0600
TZOFFSETTO:-0500
TZNAME:CDT
DTSTART:20240310T080000
END:DAYLIGHT
BEGIN:STANDARD
TZOFFSETFROM:-0500
TZOFFSETTO:-0600
TZNAME:CST
DTSTART:20241103T070000
END:STANDARD
BEGIN:DAYLIGHT
TZOFFSETFROM:-0600
TZOFFSETTO:-0500
TZNAME:CDT
DTSTART:20250309T080000
END:DAYLIGHT
BEGIN:STANDARD
TZOFFSETFROM:-0500
TZOFFSETTO:-0600
TZNAME:CST
DTSTART:20251102T070000
END:STANDARD
BEGIN:DAYLIGHT
TZOFFSETFROM:-0600
TZOFFSETTO:-0500
TZNAME:CDT
DTSTART:20260308T080000
END:DAYLIGHT
BEGIN:STANDARD
TZOFFSETFROM:-0500
TZOFFSETTO:-0600
TZNAME:CST
DTSTART:20261101T070000
END:STANDARD
END:VTIMEZONE
BEGIN:VEVENT
DTSTART;VALUE=DATE:20250222
DTEND;VALUE=DATE:20250224
DTSTAMP:20260420T023745
CREATED:20241107T163553Z
LAST-MODIFIED:20241107T163553Z
UID:39601-1740193200-1740279599@calendar.brainerd.com
SUMMARY:"Fishing for Ducks" Ice Fishing Contest
DESCRIPTION:Join us for the biggest Ducks Unlimited Event in the world! \nIce Fishing Contest\nMille Lacs Lake\, Garrison Bay\nTwo entry points: Garrison Sports and Myr Mar Marina. Watch for signs. \nTraveling for this event? Find Brainerd Lakes Area Lodging
URL:https://calendar.brainerd.com/event/fishing-for-ducks-ice-fishing-contest/
LOCATION:Mille Lacs Lake\, US-169\, Garrison\, MN\, 56450\, United States
GEO:46.2624729;-93.8241715
X-APPLE-STRUCTURED-LOCATION;VALUE=URI;X-ADDRESS=Mille Lacs Lake US-169 Garrison MN 56450 United States;X-APPLE-RADIUS=500;X-TITLE=US-169:geo:-93.8241715,46.2624729
END:VEVENT
BEGIN:VEVENT
DTSTART;VALUE=DATE:20240217
DTEND;VALUE=DATE:20240219
DTSTAMP:20260420T023745
CREATED:20230908T145319Z
LAST-MODIFIED:20230908T145319Z
UID:30499-1708138800-1708225199@calendar.brainerd.com
SUMMARY:"Fishing for Ducks" Ice Fishing Contest
DESCRIPTION:Join us for the biggest Ducks Unlimited Event in the world! \nIce Fishing Contest\nMille Lacs Lake\, Garrison Bay\nTwo entry points: Garrison Sports and Myr Mar Marina. Watch for signs. \nTraveling for this event? Find Brainerd Lakes Area Lodging
URL:https://calendar.brainerd.com/event/fishing-for-ducks-ice-fishing-contest-7/
LOCATION:Mille Lacs Lake\, US-169\, Garrison\, MN\, 56450\, United States
GEO:46.2624729;-93.8241715
X-APPLE-STRUCTURED-LOCATION;VALUE=URI;X-ADDRESS=Mille Lacs Lake US-169 Garrison MN 56450 United States;X-APPLE-RADIUS=500;X-TITLE=US-169:geo:-93.8241715,46.2624729
END:VEVENT
BEGIN:VEVENT
DTSTART;VALUE=DATE:20230218
DTEND;VALUE=DATE:20230220
DTSTAMP:20260420T023745
CREATED:20221013T152224Z
LAST-MODIFIED:20221013T152224Z
UID:27563-1676689200-1676775599@calendar.brainerd.com
SUMMARY:"Fishing for Ducks" Ice Fishing Contest
DESCRIPTION:Join us for the biggest Ducks Unlimited Event in the world! \nIce Fishing Contest\nMille Lacs Lake\, Garrison Bay\nTwo entry points: Garrison Sports and Myr Mar Marina. Watch for signs. \nPrice: $30.00\nPer person per hole until 11:59 PM Sunday Feb 13. $40 after that. \nTraveling for this event? Find Brainerd Lakes Area Lodging
URL:https://calendar.brainerd.com/event/fishing-for-ducks-ice-fishing-contest-6/
LOCATION:Mille Lacs Lake\, US-169\, Garrison\, MN\, 56450\, United States
GEO:46.2624729;-93.8241715
X-APPLE-STRUCTURED-LOCATION;VALUE=URI;X-ADDRESS=Mille Lacs Lake US-169 Garrison MN 56450 United States;X-APPLE-RADIUS=500;X-TITLE=US-169:geo:-93.8241715,46.2624729
END:VEVENT
BEGIN:VEVENT
DTSTART;VALUE=DATE:20220219
DTEND;VALUE=DATE:20220221
DTSTAMP:20260420T023745
CREATED:20211220T140653Z
LAST-MODIFIED:20211220T140653Z
UID:25027-1645239600-1645325999@calendar.brainerd.com
SUMMARY:"Fishing for Ducks" Ice Fishing Contest
DESCRIPTION:The annual Fishing For Ducks State ice fishing tournament is hosted by the Garrison Wildlife Chapter of Ducks Unlimited on Lake Mille Lacs. The contest is held in Garrison Bay and is open to Ducks Unlimited members and non-members. \nTraveling for this event? Find Brainerd Lakes Area Lodging
URL:https://calendar.brainerd.com/event/fishing-for-ducks-ice-fishing-contest-5/
LOCATION:Mille Lacs Lake\, US-169\, Garrison\, MN\, 56450\, United States
GEO:46.2624729;-93.8241715
X-APPLE-STRUCTURED-LOCATION;VALUE=URI;X-ADDRESS=Mille Lacs Lake US-169 Garrison MN 56450 United States;X-APPLE-RADIUS=500;X-TITLE=US-169:geo:-93.8241715,46.2624729
END:VEVENT
BEGIN:VEVENT
DTSTART;VALUE=DATE:20210219
DTEND;VALUE=DATE:20210223
DTSTAMP:20260420T023745
CREATED:20210122T154646Z
LAST-MODIFIED:20210122T154646Z
UID:23861-1613703600-1613962799@calendar.brainerd.com
SUMMARY:17th Annual Fishing for Ducks Contest
DESCRIPTION:Traveling for this event? Find Brainerd Lakes Area Lodging
URL:https://calendar.brainerd.com/event/17th-annual-fishing-for-ducks-contest/
LOCATION:Mille Lacs Lake\, US-169\, Garrison\, MN\, 56450\, United States
ORGANIZER;CN="Garrison Wildlife Ducks Unlimited Chapter":MAILTO:mndu@mtn.org
GEO:46.2624729;-93.8241715
X-APPLE-STRUCTURED-LOCATION;VALUE=URI;X-ADDRESS=Mille Lacs Lake US-169 Garrison MN 56450 United States;X-APPLE-RADIUS=500;X-TITLE=US-169:geo:-93.8241715,46.2624729
END:VEVENT
END:VCALENDAR