BEGIN:VCALENDAR
VERSION:2.0
PRODID:-//Events Calendar - ECPv6.15.20//NONSGML v1.0//EN
CALSCALE:GREGORIAN
METHOD:PUBLISH
X-WR-CALNAME:Events Calendar
X-ORIGINAL-URL:https://calendar.brainerd.com
X-WR-CALDESC:Events for Events Calendar
REFRESH-INTERVAL;VALUE=DURATION:PT1H
X-Robots-Tag:noindex
X-PUBLISHED-TTL:PT1H
BEGIN:VTIMEZONE
TZID:America/Chicago
BEGIN:DAYLIGHT
TZOFFSETFROM:-0600
TZOFFSETTO:-0500
TZNAME:CDT
DTSTART:20210314T080000
END:DAYLIGHT
BEGIN:STANDARD
TZOFFSETFROM:-0500
TZOFFSETTO:-0600
TZNAME:CST
DTSTART:20211107T070000
END:STANDARD
BEGIN:DAYLIGHT
TZOFFSETFROM:-0600
TZOFFSETTO:-0500
TZNAME:CDT
DTSTART:20220313T080000
END:DAYLIGHT
BEGIN:STANDARD
TZOFFSETFROM:-0500
TZOFFSETTO:-0600
TZNAME:CST
DTSTART:20221106T070000
END:STANDARD
BEGIN:DAYLIGHT
TZOFFSETFROM:-0600
TZOFFSETTO:-0500
TZNAME:CDT
DTSTART:20230312T080000
END:DAYLIGHT
BEGIN:STANDARD
TZOFFSETFROM:-0500
TZOFFSETTO:-0600
TZNAME:CST
DTSTART:20231105T070000
END:STANDARD
END:VTIMEZONE
BEGIN:VEVENT
DTSTART;TZID=America/Chicago:20220125T163000
DTEND;TZID=America/Chicago:20220125T180000
DTSTAMP:20260420T225433
CREATED:20220112T172700Z
LAST-MODIFIED:20220112T172700Z
UID:25056-1643128200-1643133600@calendar.brainerd.com
SUMMARY:Business After Hours - Firehouse Subs
DESCRIPTION:Join Firehouse Subs as they host Business After Hours on Tuesday\, January 25\, 2022\, from 4:30 – 6:00 pm at their location in Baxter. Guests will enjoy networking\, delicious variety of hot sub sandwiches\, assorted pop from the freestyle Coke machine and learning more about Firehouse Subs from Larissa and Bob Sullivan (owners) during their interview with Matt Kilian\, Brainerd Lakes Chamber President.\nAll attendees will receive a free medium sub coupon to be redeemed at their next visit. Stay until the end for a chance to win gift cards courtesy of Firehouse Subs: 3- $50 and 1- $50 catering.\n\nEvent Schedule:\n4:30 – 5:20PM Network\, appetizers and beverages\n5:20 – 5:30PM Introductions\n5:30 – 5:50PM Host interview\n5:50 – 6:00PM Drawing for door prizes (must be present to win)\n\nFirehouse Subs specializes in hot sub sandwiches made with premium meats and cheeses\, steamed to perfection. then piled high on a toasted private recipe sub roll. Their will surely satisfy your appetite! Proceeds from every meal help your local firefighters and EMS. Firehouse Subs also offers catering so keep them on your speed dial for future needs.\n\nEveryone is invited to learn more about the Chamber and gain exposure for their business by attending this free event. Business After Hours attendees pass the microphone and introduce themselves to the group\, so bring your business cards and get ready to network. Attendees are also encouraged to bring door prizes.\n\nAs a courtesy to the host\, advanced registration is recommended. To make your reservation\, click on the ‘Register’ button above right or call (218) 829-2838.\n\nIf you’re not able to attend\, join us on Facebook for a live video interview with the host at 5:20p.m.\nTraveling for this event? Find Brainerd Lakes Area Lodging
URL:https://calendar.brainerd.com/event/business-after-hours-firehouse-subs/
LOCATION:Firehouse Subs\, 15094 Dellwood Drive. Suite 102\, Baxter\, MN\, United States
GEO:46.3705783;-94.2432662
X-APPLE-STRUCTURED-LOCATION;VALUE=URI;X-ADDRESS=Firehouse Subs 15094 Dellwood Drive. Suite 102 Baxter MN United States;X-APPLE-RADIUS=500;X-TITLE=15094 Dellwood Drive. Suite 102:geo:-94.2432662,46.3705783
END:VEVENT
END:VCALENDAR