BEGIN:VCALENDAR
VERSION:2.0
PRODID:-//Events Calendar - ECPv6.15.20//NONSGML v1.0//EN
CALSCALE:GREGORIAN
METHOD:PUBLISH
X-WR-CALNAME:Events Calendar
X-ORIGINAL-URL:https://calendar.brainerd.com
X-WR-CALDESC:Events for Events Calendar
REFRESH-INTERVAL;VALUE=DURATION:PT1H
X-Robots-Tag:noindex
X-PUBLISHED-TTL:PT1H
BEGIN:VTIMEZONE
TZID:America/Chicago
BEGIN:DAYLIGHT
TZOFFSETFROM:-0600
TZOFFSETTO:-0500
TZNAME:CDT
DTSTART:20240310T080000
END:DAYLIGHT
BEGIN:STANDARD
TZOFFSETFROM:-0500
TZOFFSETTO:-0600
TZNAME:CST
DTSTART:20241103T070000
END:STANDARD
BEGIN:DAYLIGHT
TZOFFSETFROM:-0600
TZOFFSETTO:-0500
TZNAME:CDT
DTSTART:20250309T080000
END:DAYLIGHT
BEGIN:STANDARD
TZOFFSETFROM:-0500
TZOFFSETTO:-0600
TZNAME:CST
DTSTART:20251102T070000
END:STANDARD
BEGIN:DAYLIGHT
TZOFFSETFROM:-0600
TZOFFSETTO:-0500
TZNAME:CDT
DTSTART:20260308T080000
END:DAYLIGHT
BEGIN:STANDARD
TZOFFSETFROM:-0500
TZOFFSETTO:-0600
TZNAME:CST
DTSTART:20261101T070000
END:STANDARD
END:VTIMEZONE
BEGIN:VEVENT
DTSTART;TZID=America/Chicago:20250428T170000
DTEND;TZID=America/Chicago:20250428T190000
DTSTAMP:20260421T021636
CREATED:20250325T134637Z
LAST-MODIFIED:20250325T134637Z
UID:41039-1745859600-1745866800@calendar.brainerd.com
SUMMARY:First Aid Training & Seizure Recognition
DESCRIPTION:Epilepsy Advocates hosts a monthly training session to provide resources and knowledge for our local community. All are invited to attend and you may bring in your own laptop/tablet/smartphone to complete the learning course with us\, to receive your 2 yr certificate. Also available on demand. \nHave questions? Please\, call and leave a voicemail with your questions at (218) 833-2199. Thanks! \nView more Brainerd MN Events & Activities | Find Brainerd Resorts | Book your Brainerd Hotel
URL:https://calendar.brainerd.com/event/first-aid-training-seizure-recognition/
LOCATION:Essentia-St Joseph’s Medical Campus\, 523 N 3rd Street\, Brainerd\, 56401\, United States
ORGANIZER;CN="Jenifer Williams":MAILTO:contact@epilepsyadvocates.org
END:VEVENT
END:VCALENDAR