BEGIN:VCALENDAR
VERSION:2.0
PRODID:-//Events Calendar - ECPv6.15.20//NONSGML v1.0//EN
CALSCALE:GREGORIAN
METHOD:PUBLISH
X-WR-CALNAME:Events Calendar
X-ORIGINAL-URL:https://calendar.brainerd.com
X-WR-CALDESC:Events for Events Calendar
REFRESH-INTERVAL;VALUE=DURATION:PT1H
X-Robots-Tag:noindex
X-PUBLISHED-TTL:PT1H
BEGIN:VTIMEZONE
TZID:America/Chicago
BEGIN:DAYLIGHT
TZOFFSETFROM:-0600
TZOFFSETTO:-0500
TZNAME:CDT
DTSTART:20210314T080000
END:DAYLIGHT
BEGIN:STANDARD
TZOFFSETFROM:-0500
TZOFFSETTO:-0600
TZNAME:CST
DTSTART:20211107T070000
END:STANDARD
BEGIN:DAYLIGHT
TZOFFSETFROM:-0600
TZOFFSETTO:-0500
TZNAME:CDT
DTSTART:20220313T080000
END:DAYLIGHT
BEGIN:STANDARD
TZOFFSETFROM:-0500
TZOFFSETTO:-0600
TZNAME:CST
DTSTART:20221106T070000
END:STANDARD
BEGIN:DAYLIGHT
TZOFFSETFROM:-0600
TZOFFSETTO:-0500
TZNAME:CDT
DTSTART:20230312T080000
END:DAYLIGHT
BEGIN:STANDARD
TZOFFSETFROM:-0500
TZOFFSETTO:-0600
TZNAME:CST
DTSTART:20231105T070000
END:STANDARD
BEGIN:DAYLIGHT
TZOFFSETFROM:-0600
TZOFFSETTO:-0500
TZNAME:CDT
DTSTART:20240310T080000
END:DAYLIGHT
BEGIN:STANDARD
TZOFFSETFROM:-0500
TZOFFSETTO:-0600
TZNAME:CST
DTSTART:20241103T070000
END:STANDARD
BEGIN:DAYLIGHT
TZOFFSETFROM:-0600
TZOFFSETTO:-0500
TZNAME:CDT
DTSTART:20250309T080000
END:DAYLIGHT
BEGIN:STANDARD
TZOFFSETFROM:-0500
TZOFFSETTO:-0600
TZNAME:CST
DTSTART:20251102T070000
END:STANDARD
END:VTIMEZONE
BEGIN:VEVENT
DTSTART;TZID=America/Chicago:20241031T160000
DTEND;TZID=America/Chicago:20241031T190000
DTSTAMP:20260420T040745
CREATED:20241029T211402Z
LAST-MODIFIED:20241029T211402Z
UID:39455-1730390400-1730401200@calendar.brainerd.com
SUMMARY:Trick or Treat at Essentia-St. Joseph’s Hospital
DESCRIPTION:Come grab a glow stick and candy bar – as well as a high five from Cricket and volunteers from Sunrise Sertoma on Halloween night!\nEvent runs from 4-7pm in front of Essentia Health-St Joseph’s Medical Center.\nBrought to you by Essentia Health\, Vision Electrical Services and Smiles for Jake. \nView more Brainerd MN Events & Activities | Find Brainerd Resorts | Book your Brainerd Hotel
URL:https://calendar.brainerd.com/event/trick-or-treat-at-essentia-st-josephs-hospital/
LOCATION:Essentia Health’s St. Joseph’s Medical Center\, 523 N. 3rd Street\, Brainerd\, MN\, 56401\, United States
GEO:46.361656;-94.205733
X-APPLE-STRUCTURED-LOCATION;VALUE=URI;X-ADDRESS=Essentia Health’s St. Joseph’s Medical Center 523 N. 3rd Street Brainerd MN 56401 United States;X-APPLE-RADIUS=500;X-TITLE=523 N. 3rd Street:geo:-94.205733,46.361656
END:VEVENT
BEGIN:VEVENT
DTSTART;TZID=America/Chicago:20240420T100000
DTEND;TZID=America/Chicago:20240420T140000
DTSTAMP:20260420T040745
CREATED:20240412T195717Z
LAST-MODIFIED:20240412T195717Z
UID:32416-1713607200-1713621600@calendar.brainerd.com
SUMMARY:Women’s Health Day Event
DESCRIPTION:Essentia Health is raising awareness of women’s health and enhancing access to important services by holding a Women’s Health Day in Baxter\, Minnesota\, on Saturday\, April 20.\nThe event will be held from 10 a.m. to 2 p.m. at the Essentia Health-Baxter Clinic\, located at 13060 Isle Dr.\nAttendees are able to receive mammograms and cervical screenings as well as learn about other women’s health topics.\n“Health screenings for women are a vital component of proactive health care\, enabling early detection and prevention of potential health issues\,” says Shawna Reed\, operations director for the Essentia Health-Baxter Clinic. “By prioritizing regular screenings\, women can take charge of their well-being\, ensuring timely interventions and promoting overall health and longevity.”\nWalk-ins are welcome\, but appointments are preferred. They can be made by calling (218) 828-7100 or by using Essentia’s MyChart patient portal. \nTraveling for this event? Find Brainerd Lakes Area Lodging
URL:https://calendar.brainerd.com/event/womens-health-day-event/
LOCATION:Essentia Health’s St. Joseph’s Medical Center\, 523 N. 3rd Street\, Brainerd\, MN\, 56401\, United States
GEO:46.361656;-94.205733
X-APPLE-STRUCTURED-LOCATION;VALUE=URI;X-ADDRESS=Essentia Health’s St. Joseph’s Medical Center 523 N. 3rd Street Brainerd MN 56401 United States;X-APPLE-RADIUS=500;X-TITLE=523 N. 3rd Street:geo:-94.205733,46.361656
END:VEVENT
BEGIN:VEVENT
DTSTART;TZID=America/Chicago:20240325T170000
DTEND;TZID=America/Chicago:20240325T190000
DTSTAMP:20260420T040745
CREATED:20240312T165641Z
LAST-MODIFIED:20240312T165641Z
UID:32110-1711386000-1711393200@calendar.brainerd.com
SUMMARY:Epilepsy Advocates: Seizure Recognition and First Aid Certification
DESCRIPTION:The Seizure Recognition and First Aid Certification course formally educates the public on the Epilepsy Foundation’s approved procedures for recognizing and responding to someone having a seizure. \nThis course aims to increase the knowledge\, skill\, and confidence in applying seizure first aid. Local support group\, Epilepsy Advocates\, will be presenting the information and you are encouraged to bring your laptop or smartphone to complete on-demand training and receive certificate. \nTraining Link; https://learn.epilepsy.com/courses/seizure-first-aid-cert-ondemand \nTraveling for this event? Find Brainerd Lakes Area Lodging
URL:https://calendar.brainerd.com/event/epilepsy-advocates-seizure-recognition-and-first-aid-certification/
LOCATION:Essentia Health’s St. Joseph’s Medical Center\, 523 N. 3rd Street\, Brainerd\, MN\, 56401\, United States
GEO:46.361656;-94.205733
X-APPLE-STRUCTURED-LOCATION;VALUE=URI;X-ADDRESS=Essentia Health’s St. Joseph’s Medical Center 523 N. 3rd Street Brainerd MN 56401 United States;X-APPLE-RADIUS=500;X-TITLE=523 N. 3rd Street:geo:-94.205733,46.361656
END:VEVENT
BEGIN:VEVENT
DTSTART;TZID=America/Chicago:20240219T170000
DTEND;TZID=America/Chicago:20240219T190000
DTSTAMP:20260420T040745
CREATED:20240202T205055Z
LAST-MODIFIED:20240202T205055Z
UID:31764-1708362000-1708369200@calendar.brainerd.com
SUMMARY:Epilepsy and seizure disorder meeting
DESCRIPTION:Meeting for friends and family of people impacted with epilepsy and seizure disorders. Offers information\, awareness\, friendly discussions\, and support along with games for the kids. \nTraveling for this event? Find Brainerd Lakes Area Lodging
URL:https://calendar.brainerd.com/event/epilepsy-and-seizure-disorder-meeting/
LOCATION:Essentia Health’s St. Joseph’s Medical Center\, 523 N. 3rd Street\, Brainerd\, MN\, 56401\, United States
GEO:46.361656;-94.205733
X-APPLE-STRUCTURED-LOCATION;VALUE=URI;X-ADDRESS=Essentia Health’s St. Joseph’s Medical Center 523 N. 3rd Street Brainerd MN 56401 United States;X-APPLE-RADIUS=500;X-TITLE=523 N. 3rd Street:geo:-94.205733,46.361656
END:VEVENT
BEGIN:VEVENT
DTSTART;TZID=America/Chicago:20231031T160000
DTEND;TZID=America/Chicago:20231031T210000
DTSTAMP:20260420T040745
CREATED:20231020T191046Z
LAST-MODIFIED:20231020T191046Z
UID:30854-1698768000-1698786000@calendar.brainerd.com
SUMMARY:Halloween Party - Essentia health
DESCRIPTION:Looking for a family friendly event on Halloween? Get out your Halloween costumes and join us in the Essentia health parking lot on Halloween night for music\, candy\, inflatables and mental health information. We’ve got great full-sized candy treats for the kids! 4-9 pm. Weather permitting. \nTraveling for this event? Find Brainerd Lakes Area Lodging
URL:https://calendar.brainerd.com/event/halloween-party-essentia-health/
LOCATION:Essentia Health’s St. Joseph’s Medical Center\, 523 N. 3rd Street\, Brainerd\, MN\, 56401\, United States
GEO:46.361656;-94.205733
X-APPLE-STRUCTURED-LOCATION;VALUE=URI;X-ADDRESS=Essentia Health’s St. Joseph’s Medical Center 523 N. 3rd Street Brainerd MN 56401 United States;X-APPLE-RADIUS=500;X-TITLE=523 N. 3rd Street:geo:-94.205733,46.361656
END:VEVENT
BEGIN:VEVENT
DTSTART;TZID=America/Chicago:20230520T130000
DTEND;TZID=America/Chicago:20230520T170000
DTSTAMP:20260420T040745
CREATED:20230517T173259Z
LAST-MODIFIED:20230517T173259Z
UID:29398-1684587600-1684602000@calendar.brainerd.com
SUMMARY:3rd Annual Walk of Hope
DESCRIPTION:Walk for suicide prevention and awareness walk for recover from addiction. In the USA\, suicides are up 30% over last year over last year and over 300 overdoses occur per day. \nThis year’s walk will start at the Brainerd Medical Center on S. 6th Street and end in Crow Wing State Park. Bring attention and hope to those who need it. If you have been touched by suicide or addiction \, come walk with us. You may bring a sign to carry that expresses your feelings. The walk on Saturday is just under 5 miles to the Wild Rice Depot at the junction of old and new hwy 371. There will be shuttle rides for those who wish to walk only part of the way taking people back to the start or to the end of the walk. \nDonations to the Seth Lane Schardin Foundation may be made at the Brainerdcommunityaction.org page under community partners. The foundations work is outlined the facebook page along with the story of who Conroy Scott is. \nTraveling for this event? Find Brainerd Lakes Area Lodging
URL:https://calendar.brainerd.com/event/3rd-annual-walk-of-hope/
LOCATION:Essentia Health’s St. Joseph’s Medical Center\, 523 N. 3rd Street\, Brainerd\, MN\, 56401\, United States
GEO:46.361656;-94.205733
X-APPLE-STRUCTURED-LOCATION;VALUE=URI;X-ADDRESS=Essentia Health’s St. Joseph’s Medical Center 523 N. 3rd Street Brainerd MN 56401 United States;X-APPLE-RADIUS=500;X-TITLE=523 N. 3rd Street:geo:-94.205733,46.361656
END:VEVENT
BEGIN:VEVENT
DTSTART;TZID=America/Chicago:20221031T160000
DTEND;TZID=America/Chicago:20221031T210000
DTSTAMP:20260420T040745
CREATED:20221024T172539Z
LAST-MODIFIED:20221024T172539Z
UID:27643-1667232000-1667250000@calendar.brainerd.com
SUMMARY:Halloween Party - St. Joseph's Medical Center
DESCRIPTION:Looking for a family friendly event on Halloween? Get out your Halloween costumes and join us in the Essentia health parking lot on Halloween night for music\, candy\, inflatables and mental health information. We’ve got great treats for the kids! 4-9 pm. Weather permitting. \nTraveling for this event? Find Brainerd Lakes Area Lodging
URL:https://calendar.brainerd.com/event/halloween-party-st-josephs-medical-center/
LOCATION:Essentia Health’s St. Joseph’s Medical Center\, 523 N. 3rd Street\, Brainerd\, MN\, 56401\, United States
GEO:46.361656;-94.205733
X-APPLE-STRUCTURED-LOCATION;VALUE=URI;X-ADDRESS=Essentia Health’s St. Joseph’s Medical Center 523 N. 3rd Street Brainerd MN 56401 United States;X-APPLE-RADIUS=500;X-TITLE=523 N. 3rd Street:geo:-94.205733,46.361656
END:VEVENT
END:VCALENDAR