BEGIN:VCALENDAR
VERSION:2.0
PRODID:-//Events Calendar - ECPv6.15.20//NONSGML v1.0//EN
CALSCALE:GREGORIAN
METHOD:PUBLISH
X-ORIGINAL-URL:https://calendar.brainerd.com
X-WR-CALDESC:Events for Events Calendar
REFRESH-INTERVAL;VALUE=DURATION:PT1H
X-Robots-Tag:noindex
X-PUBLISHED-TTL:PT1H
BEGIN:VTIMEZONE
TZID:America/Chicago
BEGIN:DAYLIGHT
TZOFFSETFROM:-0600
TZOFFSETTO:-0500
TZNAME:CDT
DTSTART:20190310T080000
END:DAYLIGHT
BEGIN:STANDARD
TZOFFSETFROM:-0500
TZOFFSETTO:-0600
TZNAME:CST
DTSTART:20191103T070000
END:STANDARD
BEGIN:DAYLIGHT
TZOFFSETFROM:-0600
TZOFFSETTO:-0500
TZNAME:CDT
DTSTART:20200308T080000
END:DAYLIGHT
BEGIN:STANDARD
TZOFFSETFROM:-0500
TZOFFSETTO:-0600
TZNAME:CST
DTSTART:20201101T070000
END:STANDARD
BEGIN:DAYLIGHT
TZOFFSETFROM:-0600
TZOFFSETTO:-0500
TZNAME:CDT
DTSTART:20210314T080000
END:DAYLIGHT
BEGIN:STANDARD
TZOFFSETFROM:-0500
TZOFFSETTO:-0600
TZNAME:CST
DTSTART:20211107T070000
END:STANDARD
BEGIN:DAYLIGHT
TZOFFSETFROM:-0600
TZOFFSETTO:-0500
TZNAME:CDT
DTSTART:20220313T080000
END:DAYLIGHT
BEGIN:STANDARD
TZOFFSETFROM:-0500
TZOFFSETTO:-0600
TZNAME:CST
DTSTART:20221106T070000
END:STANDARD
END:VTIMEZONE
BEGIN:VEVENT
DTSTART;TZID=America/Chicago:20210729T180000
DTEND;TZID=America/Chicago:20210729T210000
DTSTAMP:20260420T090648
CREATED:20210728T141848Z
LAST-MODIFIED:20210728T141848Z
UID:24510-1627581600-1627592400@calendar.brainerd.com
SUMMARY:Drastic 5K + NoK
DESCRIPTION:Run is on Thursday\, July 29th @ 6:00 pm. Start and finish line will be @ Drastic Measures Brewing in Wadena\, Mn. \nTickets per person are $25 for 5K + NoK. All ages are welcome. \nNo K tickets are for those that want the swag\, but don’t want to run for their beer. \nCheck in starts at 5:30 pm\, run starts @ 6:00 pm sharp. Event is NOT timed. \nPlease bring a valid ID-wristbands will be distributed @ check in. \nRegister by July 5th to guarantee shirt size. \nSwag bags include; a special edition glass\, one pint of beer a shirt and more! \nPrizes given for first Male/Female to finish.\nTraveling for this event? Find Brainerd Lakes Area Lodging
URL:https://calendar.brainerd.com/event/drastic-5k-nok/
LOCATION:Drastic Measures Brewing\, 101 Jefferson Street\, Wadena\, MN\, 56482\, United States
GEO:46.4428019;-95.1362837
X-APPLE-STRUCTURED-LOCATION;VALUE=URI;X-ADDRESS=Drastic Measures Brewing 101 Jefferson Street Wadena MN 56482 United States;X-APPLE-RADIUS=500;X-TITLE=101 Jefferson Street:geo:-95.1362837,46.4428019
END:VEVENT
BEGIN:VEVENT
DTSTART;TZID=America/Chicago:20200214T190000
DTEND;TZID=America/Chicago:20200214T203000
DTSTAMP:20260420T090648
CREATED:20200121T171553Z
LAST-MODIFIED:20200131T185451Z
UID:22509-1581706800-1581712200@calendar.brainerd.com
SUMMARY:Valentine's Day Beer Dinner - Drastic Measures Brewing
DESCRIPTION:Drastic food by Eats-N-Ales paired with Drastic Beer. Tickets are $55 / plate (one person). Each ticket gets four courses\, four 10 oz beers and one special edition glass to take home! Seats are limited to 30\, so buy your tickets now! Sales end 2/9/20 at midnight! \nView more Brainerd MN Events & Activities | Find Brainerd Resorts | Book your Brainerd Hotel
URL:https://calendar.brainerd.com/event/valentines-day-beer-dinner/
LOCATION:Drastic Measures Brewing\, 101 Jefferson Street\, Wadena\, MN\, 56482\, United States
GEO:46.4428019;-95.1362837
X-APPLE-STRUCTURED-LOCATION;VALUE=URI;X-ADDRESS=Drastic Measures Brewing 101 Jefferson Street Wadena MN 56482 United States;X-APPLE-RADIUS=500;X-TITLE=101 Jefferson Street:geo:-95.1362837,46.4428019
END:VEVENT
END:VCALENDAR