BEGIN:VCALENDAR
VERSION:2.0
PRODID:-//Events Calendar - ECPv6.15.20//NONSGML v1.0//EN
CALSCALE:GREGORIAN
METHOD:PUBLISH
X-WR-CALNAME:Events Calendar
X-ORIGINAL-URL:https://calendar.brainerd.com
X-WR-CALDESC:Events for Events Calendar
REFRESH-INTERVAL;VALUE=DURATION:PT1H
X-Robots-Tag:noindex
X-PUBLISHED-TTL:PT1H
BEGIN:VTIMEZONE
TZID:America/Chicago
BEGIN:DAYLIGHT
TZOFFSETFROM:-0600
TZOFFSETTO:-0500
TZNAME:CDT
DTSTART:20250309T080000
END:DAYLIGHT
BEGIN:STANDARD
TZOFFSETFROM:-0500
TZOFFSETTO:-0600
TZNAME:CST
DTSTART:20251102T070000
END:STANDARD
BEGIN:DAYLIGHT
TZOFFSETFROM:-0600
TZOFFSETTO:-0500
TZNAME:CDT
DTSTART:20260308T080000
END:DAYLIGHT
BEGIN:STANDARD
TZOFFSETFROM:-0500
TZOFFSETTO:-0600
TZNAME:CST
DTSTART:20261101T070000
END:STANDARD
BEGIN:DAYLIGHT
TZOFFSETFROM:-0600
TZOFFSETTO:-0500
TZNAME:CDT
DTSTART:20270314T080000
END:DAYLIGHT
BEGIN:STANDARD
TZOFFSETFROM:-0500
TZOFFSETTO:-0600
TZNAME:CST
DTSTART:20271107T070000
END:STANDARD
END:VTIMEZONE
BEGIN:VEVENT
DTSTART;TZID=America/Chicago:20260331T150000
DTEND;TZID=America/Chicago:20260331T210000
DTSTAMP:20260420T081743
CREATED:20260309T163312Z
LAST-MODIFIED:20260309T163312Z
UID:43704-1774969200-1774990800@calendar.brainerd.com
SUMMARY:DQ Donation Day for Mounted Eagles
DESCRIPTION:Join us at Dairy Queen of Pequot Lakes for our annual DQ Donation Day. This DQ franchise will be busy helping Mounted Eagles by donating a portion of their proceeds to our organization. A % of all food sales between 3pm and 9pm on Tuesday\, April 1st\, will be donated to our organization.  \nCome out to eat and enjoy a DQ Treat! \nView more Brainerd MN Events & Activities | Find Brainerd Resorts | Book your Brainerd Hotel
URL:https://calendar.brainerd.com/event/dq-donation-day-for-mounted-eagles/
LOCATION:Dairy Queen of Pequot Lakes\, 30799 Patriot Ave\, Pequot Lakes\, 56472\, United States
END:VEVENT
END:VCALENDAR