BEGIN:VCALENDAR
VERSION:2.0
PRODID:-//Events Calendar - ECPv6.15.20//NONSGML v1.0//EN
CALSCALE:GREGORIAN
METHOD:PUBLISH
X-ORIGINAL-URL:https://calendar.brainerd.com
X-WR-CALDESC:Events for Events Calendar
REFRESH-INTERVAL;VALUE=DURATION:PT1H
X-Robots-Tag:noindex
X-PUBLISHED-TTL:PT1H
BEGIN:VTIMEZONE
TZID:America/Chicago
BEGIN:DAYLIGHT
TZOFFSETFROM:-0600
TZOFFSETTO:-0500
TZNAME:CDT
DTSTART:20190310T080000
END:DAYLIGHT
BEGIN:STANDARD
TZOFFSETFROM:-0500
TZOFFSETTO:-0600
TZNAME:CST
DTSTART:20191103T070000
END:STANDARD
BEGIN:DAYLIGHT
TZOFFSETFROM:-0600
TZOFFSETTO:-0500
TZNAME:CDT
DTSTART:20200308T080000
END:DAYLIGHT
BEGIN:STANDARD
TZOFFSETFROM:-0500
TZOFFSETTO:-0600
TZNAME:CST
DTSTART:20201101T070000
END:STANDARD
BEGIN:DAYLIGHT
TZOFFSETFROM:-0600
TZOFFSETTO:-0500
TZNAME:CDT
DTSTART:20210314T080000
END:DAYLIGHT
BEGIN:STANDARD
TZOFFSETFROM:-0500
TZOFFSETTO:-0600
TZNAME:CST
DTSTART:20211107T070000
END:STANDARD
BEGIN:DAYLIGHT
TZOFFSETFROM:-0600
TZOFFSETTO:-0500
TZNAME:CDT
DTSTART:20220313T080000
END:DAYLIGHT
BEGIN:STANDARD
TZOFFSETFROM:-0500
TZOFFSETTO:-0600
TZNAME:CST
DTSTART:20221106T070000
END:STANDARD
BEGIN:DAYLIGHT
TZOFFSETFROM:-0600
TZOFFSETTO:-0500
TZNAME:CDT
DTSTART:20230312T080000
END:DAYLIGHT
BEGIN:STANDARD
TZOFFSETFROM:-0500
TZOFFSETTO:-0600
TZNAME:CST
DTSTART:20231105T070000
END:STANDARD
BEGIN:DAYLIGHT
TZOFFSETFROM:-0600
TZOFFSETTO:-0500
TZNAME:CDT
DTSTART:20240310T080000
END:DAYLIGHT
BEGIN:STANDARD
TZOFFSETFROM:-0500
TZOFFSETTO:-0600
TZNAME:CST
DTSTART:20241103T070000
END:STANDARD
BEGIN:DAYLIGHT
TZOFFSETFROM:-0600
TZOFFSETTO:-0500
TZNAME:CDT
DTSTART:20250309T080000
END:DAYLIGHT
BEGIN:STANDARD
TZOFFSETFROM:-0500
TZOFFSETTO:-0600
TZNAME:CST
DTSTART:20251102T070000
END:STANDARD
END:VTIMEZONE
BEGIN:VEVENT
DTSTART;TZID=America/Chicago:20241231T180000
DTEND;TZID=America/Chicago:20241231T220000
DTSTAMP:20260420T012809
CREATED:20241217T203328Z
LAST-MODIFIED:20241217T203328Z
UID:40006-1735668000-1735682400@calendar.brainerd.com
SUMMARY:New Years Eve Pajama Party at Cuyuna Brewing
DESCRIPTION:🎉 New Year’s Eve Pajama Party at Cuyuna Brewing! 🎉\nRing in the New Year in your coziest\, comfiest attire—because this year\, we’re all about chill vibes and good times! Slip into your favorite pajamas\, grab your fluffiest slippers\, and join us for the ultimate slumber party-inspired celebration.\n🍿 Complimentary Popcorn Bar – Build your dream bowl of popcorn with all the toppings you can imagine!\n📺 80’s Slumber Party Movies – Classic flicks playing all night to transport you back in time.\n✨ Laid-back fun – Great beer\, great company\, and all the cozy feels to start your 2025 off right!\nGet $1 off your first pint if you wear pajamas!\nNo need to dress up—come as you are and let’s toast to the New Year in total comfort. Pajamas encouraged\, good vibes required! \nView more Brainerd MN Events & Activities | Find Brainerd Resorts | Book your Brainerd Hotel
URL:https://calendar.brainerd.com/event/new-years-eve-pajama-party-at-cuyuna-brewing/
LOCATION:Cuyuna Brewing Company\, 1 Main St.\, Crosby\, MN\, 56441
GEO:46.482691;-93.952038
X-APPLE-STRUCTURED-LOCATION;VALUE=URI;X-ADDRESS=Cuyuna Brewing Company 1 Main St. Crosby MN 56441;X-APPLE-RADIUS=500;X-TITLE=1 Main St.:geo:-93.952038,46.482691
END:VEVENT
BEGIN:VEVENT
DTSTART;TZID=America/Chicago:20240921T110000
DTEND;TZID=America/Chicago:20240921T230000
DTSTAMP:20260420T012809
CREATED:20240918T184829Z
LAST-MODIFIED:20240918T184829Z
UID:39044-1726916400-1726959600@calendar.brainerd.com
SUMMARY:Oktoberfest at Cuyuna Brewing
DESCRIPTION:Get ready to raise your steins and join us for the most epic Oktoberfest celebration in town! 🎉🍂\n🍺 ONE LITER DIMPLED GLASS STEINS WITH PEWTER LOGO BADGES GO ON SALE STARTING THURSDAY\, 9/19! For $45 get a 1L Glass Stein with unique pewter badge which includes the first fill. USE the stein ALL weekend long with fills costing the price of a pint! Bring back EVERY year for Oktoberfest for pint price fills!\n🍺 German Beers on Tap: Sip and savor a variety of classic German brews – from crisp Pilsners to hazy Hefeweizens. Our taps will be flowing with a selection that’ll make you feel like you are in Germany!\n🥨 Delicious German Food (Times of availability TBD): Feast on mouthwatering German fare offered right on site by Iron Range Eatery! Get ready to taste some Bavarian cuisine that pairs perfectly with our beers.\n🎶 Live German Music by the Jerry & Joyce Dance Band (3-6PM): Party the afternoon away with lively German tunes and traditional polkas that will have you feeling like you’re right in the heart of Munich.\n👗 Dress Up: Don your best lederhosen or dirndl and join in the fun!\nWhether you’re a beer lover\, a foodie\, or just looking for a great time\, our Oktoberfest is the place to be. Bring your friends\, your family\, and your festive spirit!\nLet’s make this Oktoberfest legendary together! Prost! 🍻💙 \nView more Brainerd MN Events & Activities | Find Brainerd Resorts | Book your Brainerd Hotel
URL:https://calendar.brainerd.com/event/oktoberfest-at-cuyuna-brewing/
LOCATION:Cuyuna Brewing Company\, 1 Main St.\, Crosby\, MN\, 56441
GEO:46.482691;-93.952038
X-APPLE-STRUCTURED-LOCATION;VALUE=URI;X-ADDRESS=Cuyuna Brewing Company 1 Main St. Crosby MN 56441;X-APPLE-RADIUS=500;X-TITLE=1 Main St.:geo:-93.952038,46.482691
END:VEVENT
BEGIN:VEVENT
DTSTART;TZID=America/Chicago:20231231T170000
DTEND;TZID=America/Chicago:20231231T170000
DTSTAMP:20260420T012809
CREATED:20231229T204855Z
LAST-MODIFIED:20231229T204855Z
UID:31449-1704042000-1704042000@calendar.brainerd.com
SUMMARY:New Years Eve Party at Cuyuna Brewing Company
DESCRIPTION:Get FANCY with us on New Year’s Eve! We have an expanded license for this evening so we will be able to offer champagne and other cocktails to help us ring in the New Year! Our theme is fancy flights so mix and match our cocktail specials\, seltzer and beer tasters to create your own fancy flight. Dos Guys will be performing from 6-9pm. Wear whatever makes you feel fancy – your redneck best or an old prom dress?! And come ready for fun! \nTraveling for this event? Find Brainerd Lakes Area Lodging
URL:https://calendar.brainerd.com/event/new-years-eve-party-at-cuyuna-brewing-company/
LOCATION:Cuyuna Brewing Company\, 1 Main St.\, Crosby\, MN\, 56441
GEO:46.482691;-93.952038
X-APPLE-STRUCTURED-LOCATION;VALUE=URI;X-ADDRESS=Cuyuna Brewing Company 1 Main St. Crosby MN 56441;X-APPLE-RADIUS=500;X-TITLE=1 Main St.:geo:-93.952038,46.482691
END:VEVENT
BEGIN:VEVENT
DTSTART;TZID=America/Chicago:20221029T160000
DTEND;TZID=America/Chicago:20221029T220000
DTSTAMP:20260420T012809
CREATED:20221017T171156Z
LAST-MODIFIED:20221019T182139Z
UID:27583-1667059200-1667080800@calendar.brainerd.com
SUMMARY:Candy and Beer Pairing Party - Cuyuna Brewing Company
DESCRIPTION:Join us for our annual candy and beer pairing where we strategically pair each beer with a specific Halloween candy. Order a pint or flight and we’ll match the candy for you. Candy is free! We will also have live music by Common Men from 6-8pm and if you wear a costume you get $1 off your first beer! \nTraveling for this event? Find Brainerd Lakes Area Lodging
URL:https://calendar.brainerd.com/event/halloween-party-at-cuyuna-brewing-company/
LOCATION:Cuyuna Brewing Company\, 1 Main St.\, Crosby\, MN\, 56441
GEO:46.482691;-93.952038
X-APPLE-STRUCTURED-LOCATION;VALUE=URI;X-ADDRESS=Cuyuna Brewing Company 1 Main St. Crosby MN 56441;X-APPLE-RADIUS=500;X-TITLE=1 Main St.:geo:-93.952038,46.482691
END:VEVENT
BEGIN:VEVENT
DTSTART;TZID=America/Chicago:20220129T120000
DTEND;TZID=America/Chicago:20220129T220000
DTSTAMP:20260420T012809
CREATED:20220120T195740Z
LAST-MODIFIED:20220120T195740Z
UID:25083-1643457600-1643493600@calendar.brainerd.com
SUMMARY:Cuyuna Brewing Company 5th Anniversary Party
DESCRIPTION:Join us as we celebrate an amazing 5 years of existence! Live music schedule:\n1-3 PM Amanda Standalone\n3:30-5:30 PM Tobias Jansen\n6-8 PM Bruce Archer\nGive aways all day long. Cupcakes\, burritos and beer. Special beer release and merchandise too! \nTraveling for this event? Find Brainerd Lakes Area Lodging
URL:https://calendar.brainerd.com/event/cuyuna-brewing-company-5th-anniversary-party/
LOCATION:Cuyuna Brewing Company\, 1 Main St.\, Crosby\, MN\, 56441
GEO:46.482691;-93.952038
X-APPLE-STRUCTURED-LOCATION;VALUE=URI;X-ADDRESS=Cuyuna Brewing Company 1 Main St. Crosby MN 56441;X-APPLE-RADIUS=500;X-TITLE=1 Main St.:geo:-93.952038,46.482691
END:VEVENT
BEGIN:VEVENT
DTSTART;TZID=America/Chicago:20200725T180000
DTEND;TZID=America/Chicago:20200725T200000
DTSTAMP:20260420T012809
CREATED:20200710T143631Z
LAST-MODIFIED:20200710T143631Z
UID:23393-1595700000-1595707200@calendar.brainerd.com
SUMMARY:Common Men at Cuyuna Brewery
DESCRIPTION:We are excited to start playing some gigs again! Come hear our unique set of covers on Saturday\, July 25\, from 6-8 at the Cuyuna Brewery in Crosby! \nTraveling for this event? Find Brainerd Lakes Area Lodging
URL:https://calendar.brainerd.com/event/common-men-at-cuyuna-brewery/
LOCATION:Cuyuna Brewing Company\, 1 Main St.\, Crosby\, MN\, 56441
GEO:46.482691;-93.952038
X-APPLE-STRUCTURED-LOCATION;VALUE=URI;X-ADDRESS=Cuyuna Brewing Company 1 Main St. Crosby MN 56441;X-APPLE-RADIUS=500;X-TITLE=1 Main St.:geo:-93.952038,46.482691
END:VEVENT
BEGIN:VEVENT
DTSTART;TZID=America/Chicago:20200208T150000
DTEND;TZID=America/Chicago:20200208T220000
DTSTAMP:20260420T012809
CREATED:20200204T141053Z
LAST-MODIFIED:20200204T141053Z
UID:22608-1581174000-1581199200@calendar.brainerd.com
SUMMARY:Whiteout After Party
DESCRIPTION:Everyone is welcome to come party with us after the Whiteout Race! We’ll have live music by Dos Guys from 4-7pm\, food by Mixed Company\, and of course delicious beer. See you then! \nView more Brainerd MN Events & Activities | Find Brainerd Resorts | Book your Brainerd Hotel
URL:https://calendar.brainerd.com/event/whiteout-after-party/
LOCATION:Cuyuna Brewing Company\, 1 Main St.\, Crosby\, MN\, 56441
GEO:46.482691;-93.952038
X-APPLE-STRUCTURED-LOCATION;VALUE=URI;X-ADDRESS=Cuyuna Brewing Company 1 Main St. Crosby MN 56441;X-APPLE-RADIUS=500;X-TITLE=1 Main St.:geo:-93.952038,46.482691
END:VEVENT
END:VCALENDAR