BEGIN:VCALENDAR
VERSION:2.0
PRODID:-//Events Calendar - ECPv6.15.20//NONSGML v1.0//EN
CALSCALE:GREGORIAN
METHOD:PUBLISH
X-ORIGINAL-URL:https://calendar.brainerd.com
X-WR-CALDESC:Events for Events Calendar
REFRESH-INTERVAL;VALUE=DURATION:PT1H
X-Robots-Tag:noindex
X-PUBLISHED-TTL:PT1H
BEGIN:VTIMEZONE
TZID:America/Chicago
BEGIN:DAYLIGHT
TZOFFSETFROM:-0600
TZOFFSETTO:-0500
TZNAME:CDT
DTSTART:20210314T080000
END:DAYLIGHT
BEGIN:STANDARD
TZOFFSETFROM:-0500
TZOFFSETTO:-0600
TZNAME:CST
DTSTART:20211107T070000
END:STANDARD
BEGIN:DAYLIGHT
TZOFFSETFROM:-0600
TZOFFSETTO:-0500
TZNAME:CDT
DTSTART:20220313T080000
END:DAYLIGHT
BEGIN:STANDARD
TZOFFSETFROM:-0500
TZOFFSETTO:-0600
TZNAME:CST
DTSTART:20221106T070000
END:STANDARD
BEGIN:DAYLIGHT
TZOFFSETFROM:-0600
TZOFFSETTO:-0500
TZNAME:CDT
DTSTART:20230312T080000
END:DAYLIGHT
BEGIN:STANDARD
TZOFFSETFROM:-0500
TZOFFSETTO:-0600
TZNAME:CST
DTSTART:20231105T070000
END:STANDARD
BEGIN:DAYLIGHT
TZOFFSETFROM:-0600
TZOFFSETTO:-0500
TZNAME:CDT
DTSTART:20240310T080000
END:DAYLIGHT
BEGIN:STANDARD
TZOFFSETFROM:-0500
TZOFFSETTO:-0600
TZNAME:CST
DTSTART:20241103T070000
END:STANDARD
END:VTIMEZONE
BEGIN:VEVENT
DTSTART;TZID=America/Chicago:20231031T153000
DTEND;TZID=America/Chicago:20231031T183000
DTSTAMP:20260420T063909
CREATED:20231004T183306Z
LAST-MODIFIED:20231004T183306Z
UID:30720-1698766200-1698777000@calendar.brainerd.com
SUMMARY:Trunk or Treat with the Crow Wing County Sheriff’s Office
DESCRIPTION:This free\, family event will take place in the Crow Wing County Public Parking Lot on the corner of Laurel & S. 4th Street. Look for the flashing lights! \nTrick or treat while enjoying displays from: \n\nRecreation Division\nTactical Team\nMounted Patrol\nK9 Team\nBomb Team\nSquad Cars\nDrone Team\n\nTraveling for this event? Find Brainerd Lakes Area Lodging
URL:https://calendar.brainerd.com/event/trunk-or-treat-with-the-crow-wing-county-sheriffs-office/
LOCATION:Crow Wing County Judicial Center\, 213 Laurel St\, Brainerd\, MN\, 56401\, United States
GEO:46.3562603;-94.2058485
X-APPLE-STRUCTURED-LOCATION;VALUE=URI;X-ADDRESS=Crow Wing County Judicial Center 213 Laurel St Brainerd MN 56401 United States;X-APPLE-RADIUS=500;X-TITLE=213 Laurel St:geo:-94.2058485,46.3562603
END:VEVENT
BEGIN:VEVENT
DTSTART;TZID=America/Chicago:20220521T080000
DTEND;TZID=America/Chicago:20220521T160000
DTSTAMP:20260420T063909
CREATED:20220512T201309Z
LAST-MODIFIED:20220512T201309Z
UID:26131-1653120000-1653148800@calendar.brainerd.com
SUMMARY:Thrash the Trash
DESCRIPTION:On May 21st\, the Lakes Area Skatepark and the City of Brainerd are putting on a citywide cleanup! Drop off your trash and the crew will help you unload. Donations to the skatepark encouraged. Please show proof of Brainerd residency. \nWhere: Crow Wing County Judicial Center\, 213 Laurel St\, Brainerd\, MN 56401 \nNo Fees: \nHousehold garbage\, appliances\, electronics\, compost and yard debris. \nLandfill Fees: \n$7 fee for automobile tires and furniture. \n$30 fee for mattresses and sofa sleepers. \nWhat’s not accepted? \nOil\, antifreeze\, batteries\, scrap metal\, propane tanks\, household hazardous waste\, recycling\, industrial solid waste\, tractor/semi/large equipment tires or asbestos. \nTraveling for this event? Find Brainerd Lakes Area Lodging
URL:https://calendar.brainerd.com/event/thrash-the-trash/
LOCATION:Crow Wing County Judicial Center\, 213 Laurel St\, Brainerd\, MN\, 56401\, United States
GEO:46.3562603;-94.2058485
X-APPLE-STRUCTURED-LOCATION;VALUE=URI;X-ADDRESS=Crow Wing County Judicial Center 213 Laurel St Brainerd MN 56401 United States;X-APPLE-RADIUS=500;X-TITLE=213 Laurel St:geo:-94.2058485,46.3562603
END:VEVENT
END:VCALENDAR