BEGIN:VCALENDAR
VERSION:2.0
PRODID:-//Events Calendar - ECPv6.15.20//NONSGML v1.0//EN
CALSCALE:GREGORIAN
METHOD:PUBLISH
X-WR-CALNAME:Events Calendar
X-ORIGINAL-URL:https://calendar.brainerd.com
X-WR-CALDESC:Events for Events Calendar
REFRESH-INTERVAL;VALUE=DURATION:PT1H
X-Robots-Tag:noindex
X-PUBLISHED-TTL:PT1H
BEGIN:VTIMEZONE
TZID:America/Chicago
BEGIN:DAYLIGHT
TZOFFSETFROM:-0600
TZOFFSETTO:-0500
TZNAME:CDT
DTSTART:20210314T080000
END:DAYLIGHT
BEGIN:STANDARD
TZOFFSETFROM:-0500
TZOFFSETTO:-0600
TZNAME:CST
DTSTART:20211107T070000
END:STANDARD
BEGIN:DAYLIGHT
TZOFFSETFROM:-0600
TZOFFSETTO:-0500
TZNAME:CDT
DTSTART:20220313T080000
END:DAYLIGHT
BEGIN:STANDARD
TZOFFSETFROM:-0500
TZOFFSETTO:-0600
TZNAME:CST
DTSTART:20221106T070000
END:STANDARD
BEGIN:DAYLIGHT
TZOFFSETFROM:-0600
TZOFFSETTO:-0500
TZNAME:CDT
DTSTART:20230312T080000
END:DAYLIGHT
BEGIN:STANDARD
TZOFFSETFROM:-0500
TZOFFSETTO:-0600
TZNAME:CST
DTSTART:20231105T070000
END:STANDARD
END:VTIMEZONE
BEGIN:VEVENT
DTSTART;TZID=America/Chicago:20220702T220000
DTEND;TZID=America/Chicago:20220702T223000
DTSTAMP:20260420T083237
CREATED:20220502T163126Z
LAST-MODIFIED:20220502T163126Z
UID:26024-1656799200-1656801000@calendar.brainerd.com
SUMMARY:Fireworks - Crosslake
DESCRIPTION:Fireworks Display over Sand Island at dusk 2022 marks the 52nd year the community of Crosslake has been celebrating Americas’ freedom with a fantastic fireworks display. Join us on the water or from the shores of Cross Lake at dusk on Saturday\, July 2\, 2022 to view the display launched from Sand Island. \nTraveling for this event? Find Brainerd Lakes Area Lodging
URL:https://calendar.brainerd.com/event/fireworks-crosslake-3/
LOCATION:Crosslake Campground\, 35507 County Road 66\, Cross Lake\, MN\, 56442\, United States
GEO:46.6715019;-94.110957
X-APPLE-STRUCTURED-LOCATION;VALUE=URI;X-ADDRESS=Crosslake Campground 35507 County Road 66 Cross Lake MN 56442 United States;X-APPLE-RADIUS=500;X-TITLE=35507 County Road 66:geo:-94.110957,46.6715019
END:VEVENT
END:VCALENDAR