BEGIN:VCALENDAR
VERSION:2.0
PRODID:-//Events Calendar - ECPv6.15.20//NONSGML v1.0//EN
CALSCALE:GREGORIAN
METHOD:PUBLISH
X-WR-CALNAME:Events Calendar
X-ORIGINAL-URL:https://calendar.brainerd.com
X-WR-CALDESC:Events for Events Calendar
REFRESH-INTERVAL;VALUE=DURATION:PT1H
X-Robots-Tag:noindex
X-PUBLISHED-TTL:PT1H
BEGIN:VTIMEZONE
TZID:America/Chicago
BEGIN:DAYLIGHT
TZOFFSETFROM:-0600
TZOFFSETTO:-0500
TZNAME:CDT
DTSTART:20230312T080000
END:DAYLIGHT
BEGIN:STANDARD
TZOFFSETFROM:-0500
TZOFFSETTO:-0600
TZNAME:CST
DTSTART:20231105T070000
END:STANDARD
BEGIN:DAYLIGHT
TZOFFSETFROM:-0600
TZOFFSETTO:-0500
TZNAME:CDT
DTSTART:20240310T080000
END:DAYLIGHT
BEGIN:STANDARD
TZOFFSETFROM:-0500
TZOFFSETTO:-0600
TZNAME:CST
DTSTART:20241103T070000
END:STANDARD
BEGIN:DAYLIGHT
TZOFFSETFROM:-0600
TZOFFSETTO:-0500
TZNAME:CDT
DTSTART:20250309T080000
END:DAYLIGHT
BEGIN:STANDARD
TZOFFSETFROM:-0500
TZOFFSETTO:-0600
TZNAME:CST
DTSTART:20251102T070000
END:STANDARD
END:VTIMEZONE
BEGIN:VEVENT
DTSTART;TZID=America/Chicago:20241115T090000
DTEND;TZID=America/Chicago:20241115T180000
DTSTAMP:20260420T141148
CREATED:20241108T213004Z
LAST-MODIFIED:20241108T213004Z
UID:39629-1731661200-1731693600@calendar.brainerd.com
SUMMARY:Christmas Showcase at Common Goods in Crosslake\, Baxter\, & Crosby
DESCRIPTION:Common Goods invites the community to join in its annual Christmas Showcase\, set for 9 a.m. to 6 p.m. Nov. 15-16. During the event\, customers can enjoy treats\, Christmas music\, door prizes\, and new holiday displays at all three Common Goods locations in Baxter\, Crosslake and Crosby. \nDoor Prizes: Participants can pick up a Christmas passport at any of the three locations and get it validated during the two-day event by visiting all three stores to be entered into a drawing to win a $100 Common Goods gift certificate. \nCommon Goods Locations: \nCrosslake: 35562 Co Rd 66\, Crosslake\, MN 56442 \nBaxter: 17140 MN-371\, Brainerd\, MN 56401 \nCrosby: 27 W Main St\, Crosby\, MN 56441 \nNOTE: All three locations will be closed on Nov. 14 to prepare for the Christmas Showcase. \nView more Brainerd MN Events & Activities | Find Brainerd Resorts | Book your Brainerd Hotel
URL:https://calendar.brainerd.com/event/christmas-showcase-at-common-goods-in-crosslake-baxter-crosby/
LOCATION:Common Goods – Baxter\, 17140 State Hwy 371\, Brainerd\, MN\, 56401\, United States
END:VEVENT
BEGIN:VEVENT
DTSTART;TZID=America/Chicago:20240614T090000
DTEND;TZID=America/Chicago:20240614T180000
DTSTAMP:20260420T141148
CREATED:20240612T204436Z
LAST-MODIFIED:20240612T204436Z
UID:32936-1718355600-1718388000@calendar.brainerd.com
SUMMARY:Grand Opening Celebration for New Baxter Common Goods
DESCRIPTION:Join us on June 14th from 9am-6pm for our Grand Opening Celebration at our new Baxter Common Goods location! Just a mile and a half north on 371 from our previous location\, our new store is something you do not want to miss out on. A free prize will be given to the first 25 customers\, complimentary refreshments\, giveaways\, and Benny’s Hotdogs and Lemonade will be available. Don’t miss out on the fun! \nTraveling for this event? Find Brainerd Lakes Area Lodging
URL:https://calendar.brainerd.com/event/grand-opening-celebration-for-new-baxter-common-goods/
LOCATION:Common Goods – Baxter\, 17140 State Hwy 371\, Brainerd\, MN\, 56401\, United States
END:VEVENT
END:VCALENDAR