BEGIN:VCALENDAR
VERSION:2.0
PRODID:-//Events Calendar - ECPv6.15.20//NONSGML v1.0//EN
CALSCALE:GREGORIAN
METHOD:PUBLISH
X-WR-CALNAME:Events Calendar
X-ORIGINAL-URL:https://calendar.brainerd.com
X-WR-CALDESC:Events for Events Calendar
REFRESH-INTERVAL;VALUE=DURATION:PT1H
X-Robots-Tag:noindex
X-PUBLISHED-TTL:PT1H
BEGIN:VTIMEZONE
TZID:America/Chicago
BEGIN:DAYLIGHT
TZOFFSETFROM:-0600
TZOFFSETTO:-0500
TZNAME:CDT
DTSTART:20210314T080000
END:DAYLIGHT
BEGIN:STANDARD
TZOFFSETFROM:-0500
TZOFFSETTO:-0600
TZNAME:CST
DTSTART:20211107T070000
END:STANDARD
BEGIN:DAYLIGHT
TZOFFSETFROM:-0600
TZOFFSETTO:-0500
TZNAME:CDT
DTSTART:20220313T080000
END:DAYLIGHT
BEGIN:STANDARD
TZOFFSETFROM:-0500
TZOFFSETTO:-0600
TZNAME:CST
DTSTART:20221106T070000
END:STANDARD
BEGIN:DAYLIGHT
TZOFFSETFROM:-0600
TZOFFSETTO:-0500
TZNAME:CDT
DTSTART:20230312T080000
END:DAYLIGHT
BEGIN:STANDARD
TZOFFSETFROM:-0500
TZOFFSETTO:-0600
TZNAME:CST
DTSTART:20231105T070000
END:STANDARD
BEGIN:DAYLIGHT
TZOFFSETFROM:-0600
TZOFFSETTO:-0500
TZNAME:CDT
DTSTART:20240310T080000
END:DAYLIGHT
BEGIN:STANDARD
TZOFFSETFROM:-0500
TZOFFSETTO:-0600
TZNAME:CST
DTSTART:20241103T070000
END:STANDARD
BEGIN:DAYLIGHT
TZOFFSETFROM:-0600
TZOFFSETTO:-0500
TZNAME:CDT
DTSTART:20250309T080000
END:DAYLIGHT
BEGIN:STANDARD
TZOFFSETFROM:-0500
TZOFFSETTO:-0600
TZNAME:CST
DTSTART:20251102T070000
END:STANDARD
END:VTIMEZONE
BEGIN:VEVENT
DTSTART;TZID=America/Chicago:20240703T120000
DTEND;TZID=America/Chicago:20240703T120000
DTSTAMP:20260421T012639
CREATED:20240408T203851Z
LAST-MODIFIED:20240408T203851Z
UID:32342-1720008000-1720008000@calendar.brainerd.com
SUMMARY:Nisswa Freedom Days
DESCRIPTION:Join us for patriotic fun in Nisswa!\nEnjoy great shopping\, food\, live music and more fun all day!\nSchedule of events: *subject to change – more to come \n1:00pm\nTurtle Race Registration (Turtle Track)\n2:00pm\nTurtle Races (Turtle Track)\n2:00pm-6:00pm\nMusic at The Pickle Factory\n7:00pm\nParade (Main Street)\n8:00pm-9:30pm\nKid’s Carnival (Main Street)\n8:00pm-Midnight\nMusic by Sugar Buzz (The Pickle Factory)\nDusk\nFIREWORKS! (Nisswa Community Center) \nTraveling for this event? Find Brainerd Lakes Area Lodging
URL:https://calendar.brainerd.com/event/nisswa-freedom-days-2/
LOCATION:City of Nisswa\, Nisswa\, MN\, 56468\, United States
GEO:46.5205224;-94.2886089
END:VEVENT
BEGIN:VEVENT
DTSTART;TZID=America/Chicago:20240106T080000
DTEND;TZID=America/Chicago:20240107T160000
DTSTAMP:20260421T012639
CREATED:20230911T203425Z
LAST-MODIFIED:20230911T203425Z
UID:30516-1704528000-1704643200@calendar.brainerd.com
SUMMARY:Nisswa 100
DESCRIPTION:2024 will be the third year for the Nisswa 100 but the course will change\, for 2024 Nisswa\, MN will take over the duties of the opening round of the season and feature a 10-11 mile plowed lake race \nMessage from the Nisswa race group- Nisswa 2024 we expect our best event yet. We are moving out of the woods and onto the lake for the opening round of the series. With a great location close to lodging and dining it will be a family favorite. The course will be designed by past cross country legends and is sure to test the skills of the racers. You can expect a challenging lake course with high speeds and tight corners. We look forward to welcoming everyone back to the Brainerd lakes area for 2024. \nAnnouncer and Pit Radio will be broadcast on 88.1 FM locally. \nNisswa 100 online registration Opens Dec 1\, 2023 \nTraveling for this event? Find Brainerd Lakes Area Lodging
URL:https://calendar.brainerd.com/event/nisswa-100/
LOCATION:City of Nisswa\, Nisswa\, MN\, 56468\, United States
GEO:46.5205224;-94.2886089
END:VEVENT
BEGIN:VEVENT
DTSTART;TZID=America/Chicago:20230218T120000
DTEND;TZID=America/Chicago:20230218T123000
DTSTAMP:20260421T012639
CREATED:20230118T204636Z
LAST-MODIFIED:20230118T204636Z
UID:28392-1676721600-1676723400@calendar.brainerd.com
SUMMARY:Nisswa Winter Jubilee Parade
DESCRIPTION:Come one\, come all\, who doesn’t love a parade! Show your love of all things winter and Minnesota and join us as we support the hardy souls that bring the parade to life! Cheer for your favorite\, prizes will be awarded for 1st\, 2nd & 3rd place courtesy of the Nisswa Lion’s. \nWant to join in the parade? Promote your group\, business\, love for Nisswa\, or just show us your mad float skills! This year with the support of our outstanding community we will be judging 1st ($150) 2nd ($100) and 3rd ($75) place! Spread the word and make this the best winter parade around! \nEmail for a parade form: NisswaJubilee@gmail.com. \nWE LOVE OUR NISSWA LIONS!\nNisswa Lions Club \nTraveling for this event? Find Brainerd Lakes Area Lodging
URL:https://calendar.brainerd.com/event/nisswa-winter-jubilee-parade/
LOCATION:City of Nisswa\, Nisswa\, MN\, 56468\, United States
GEO:46.5205224;-94.2886089
END:VEVENT
BEGIN:VEVENT
DTSTART;TZID=America/Chicago:20230218T110000
DTEND;TZID=America/Chicago:20230218T160000
DTSTAMP:20260421T012639
CREATED:20230116T202753Z
LAST-MODIFIED:20230116T202753Z
UID:28387-1676718000-1676736000@calendar.brainerd.com
SUMMARY:Nisswa Jubilee Medallion Hunt
DESCRIPTION:Bring your brightest and best to crack the clues! Clues will be posted here and around town on Saturday. \nBorders for the hunt: Our northern boundary will include the Nisswa American Legion property\, south to the round about\, we are including the new Nisswa Lake Park (access under the bridge) in our west boundary\, and the east boundary is Church Street. NOTE\, the medallion will not be hidden on private property! \nClues at 11 am Main Street Ale House 1:30 pm Nisswa American Legion 4:00 pm Big Axe Brewing \nTraveling for this event? Find Brainerd Lakes Area Lodging
URL:https://calendar.brainerd.com/event/nisswa-jubilee-medallion-hunt/
LOCATION:City of Nisswa\, Nisswa\, MN\, 56468\, United States
GEO:46.5205224;-94.2886089
END:VEVENT
BEGIN:VEVENT
DTSTART;TZID=America/Chicago:20221125T160000
DTEND;TZID=America/Chicago:20221125T200000
DTSTAMP:20260421T012639
CREATED:20220119T205715Z
LAST-MODIFIED:20221012T161643Z
UID:25075-1669392000-1669406400@calendar.brainerd.com
SUMMARY:Nisswa City of Lights
DESCRIPTION:If you’re looking for a holiday tradition\, bundle up the kids and head to Downtown Nisswa on November 25 for our City of Lights celebration! We will embrace the holiday season with dazzling lights that will adorn trees\, fences\, and buildings in beautiful Downtown Nisswa. The annual event begins in the afternoon with cozy horse-drawn wagon rides\, photo opportunity with live reindeer\, storytelling\, delicious food merchants\, warm bonfires\, hot cider and mini donuts and strolling holiday carolers. The littles can share their wishes with Santa and the entire family can enjoy fireworks that will illuminate the crisp winter sky. \nTraveling for this event? Find Brainerd Lakes Area Lodging
URL:https://calendar.brainerd.com/event/nisswa-city-of-lights-3/
LOCATION:City of Nisswa\, Nisswa\, MN\, 56468\, United States
GEO:46.5205224;-94.2886089
END:VEVENT
BEGIN:VEVENT
DTSTART;VALUE=DATE:20220429
DTEND;VALUE=DATE:20220502
DTSTAMP:20260421T012639
CREATED:20220126T204328Z
LAST-MODIFIED:20220126T204328Z
UID:25220-1651201200-1651373999@calendar.brainerd.com
SUMMARY:Brainerd Jaycees Run for the Lakes
DESCRIPTION:Our 15th annual Brainerd Jaycees Run for the Lakes will be held IN PERSON \nTraveling for this event? Find Brainerd Lakes Area Lodging
URL:https://calendar.brainerd.com/event/brainerd-jaycees-run-for-the-lakes/
LOCATION:City of Nisswa\, Nisswa\, MN\, 56468\, United States
GEO:46.5205224;-94.2886089
END:VEVENT
END:VCALENDAR