BEGIN:VCALENDAR
VERSION:2.0
PRODID:-//Events Calendar - ECPv6.15.20//NONSGML v1.0//EN
CALSCALE:GREGORIAN
METHOD:PUBLISH
X-WR-CALNAME:Events Calendar
X-ORIGINAL-URL:https://calendar.brainerd.com
X-WR-CALDESC:Events for Events Calendar
REFRESH-INTERVAL;VALUE=DURATION:PT1H
X-Robots-Tag:noindex
X-PUBLISHED-TTL:PT1H
BEGIN:VTIMEZONE
TZID:America/Chicago
BEGIN:DAYLIGHT
TZOFFSETFROM:-0600
TZOFFSETTO:-0500
TZNAME:CDT
DTSTART:20210314T080000
END:DAYLIGHT
BEGIN:STANDARD
TZOFFSETFROM:-0500
TZOFFSETTO:-0600
TZNAME:CST
DTSTART:20211107T070000
END:STANDARD
BEGIN:DAYLIGHT
TZOFFSETFROM:-0600
TZOFFSETTO:-0500
TZNAME:CDT
DTSTART:20220313T080000
END:DAYLIGHT
BEGIN:STANDARD
TZOFFSETFROM:-0500
TZOFFSETTO:-0600
TZNAME:CST
DTSTART:20221106T070000
END:STANDARD
BEGIN:DAYLIGHT
TZOFFSETFROM:-0600
TZOFFSETTO:-0500
TZNAME:CDT
DTSTART:20230312T080000
END:DAYLIGHT
BEGIN:STANDARD
TZOFFSETFROM:-0500
TZOFFSETTO:-0600
TZNAME:CST
DTSTART:20231105T070000
END:STANDARD
BEGIN:DAYLIGHT
TZOFFSETFROM:-0600
TZOFFSETTO:-0500
TZNAME:CDT
DTSTART:20240310T080000
END:DAYLIGHT
BEGIN:STANDARD
TZOFFSETFROM:-0500
TZOFFSETTO:-0600
TZNAME:CST
DTSTART:20241103T070000
END:STANDARD
BEGIN:DAYLIGHT
TZOFFSETFROM:-0600
TZOFFSETTO:-0500
TZNAME:CDT
DTSTART:20250309T080000
END:DAYLIGHT
BEGIN:STANDARD
TZOFFSETFROM:-0500
TZOFFSETTO:-0600
TZNAME:CST
DTSTART:20251102T070000
END:STANDARD
BEGIN:DAYLIGHT
TZOFFSETFROM:-0600
TZOFFSETTO:-0500
TZNAME:CDT
DTSTART:20260308T080000
END:DAYLIGHT
BEGIN:STANDARD
TZOFFSETFROM:-0500
TZOFFSETTO:-0600
TZNAME:CST
DTSTART:20261101T070000
END:STANDARD
END:VTIMEZONE
BEGIN:VEVENT
DTSTART;TZID=America/Chicago:20250426T120000
DTEND;TZID=America/Chicago:20250426T133000
DTSTAMP:20260420T150540
CREATED:20250423T212136Z
LAST-MODIFIED:20250423T212136Z
UID:41434-1745668800-1745674200@calendar.brainerd.com
SUMMARY:Frank Weber Book Signing Event
DESCRIPTION:Saturday\, April 26\, 2025\, Forensic Psychologist & True Crime author Frank F. Weber will be signing books at CatTales Books & Gifts from 11:00 a.m. to 1:30 p.m. Stop in to get questions answered on forensic work and the writing of true crime mysteries. Frank’s newest books\, Scandal of Vandals\, and his 2025 release\, The Sun\, are available at the CatTales. Scandal of Vandals is based on a Minnesota mystery that was once touted as “the crime of the century.” A prominent Twin Cities attorney was accused of hiring a hitman to kill his wife. Scandal of Vandals” by novelist and forensic psychologist Frank F. Weber is an original\, compelling\, and memorable thriller of a read from start to finish. A work of exceptional literary elegance\, “Scandal of Vandals”is especially and unreservedly recommended for community and college/university collections. Carl Logan\, Midwest Book Review The Sun involves an appeal and the fallout of the same case. CatTales Books & Gifts is located at: 609 Laurel Street\, Brainerd\, Minnesota\, 56401. \nView more Brainerd MN Events & Activities | Find Brainerd Resorts | Book your Brainerd Hotel
URL:https://calendar.brainerd.com/event/frank-weber-book-signing-event/
LOCATION:CatTale’s Books and Gifts\, 609 Laurel Street\, Brainerd\, MN\, 56401\, United States
GEO:46.3558123;-94.2000408
X-APPLE-STRUCTURED-LOCATION;VALUE=URI;X-ADDRESS=CatTale’s Books and Gifts 609 Laurel Street Brainerd MN 56401 United States;X-APPLE-RADIUS=500;X-TITLE=609 Laurel Street:geo:-94.2000408,46.3558123
END:VEVENT
BEGIN:VEVENT
DTSTART;TZID=America/Chicago:20231222T160000
DTEND;TZID=America/Chicago:20231222T180000
DTSTAMP:20260420T150540
CREATED:20231219T214653Z
LAST-MODIFIED:20231219T214653Z
UID:31366-1703260800-1703268000@calendar.brainerd.com
SUMMARY:Photos with Santa at CatTale’s Books & Gifts
DESCRIPTION:Fridays & Saturdays through Christmas. \n\nFridays = 4-6 pm\nSaturdays=11am-2pm\n\nTraveling for this event? Find Brainerd Lakes Area Lodging
URL:https://calendar.brainerd.com/event/photos-with-santa-at-cattales-books-gifts-3/
LOCATION:CatTale’s Books and Gifts\, 609 Laurel Street\, Brainerd\, MN\, 56401\, United States
GEO:46.3558123;-94.2000408
X-APPLE-STRUCTURED-LOCATION;VALUE=URI;X-ADDRESS=CatTale’s Books and Gifts 609 Laurel Street Brainerd MN 56401 United States;X-APPLE-RADIUS=500;X-TITLE=609 Laurel Street:geo:-94.2000408,46.3558123
END:VEVENT
BEGIN:VEVENT
DTSTART;TZID=America/Chicago:20231215T160000
DTEND;TZID=America/Chicago:20231215T180000
DTSTAMP:20260420T150540
CREATED:20231211T212533Z
LAST-MODIFIED:20231211T212533Z
UID:31299-1702656000-1702663200@calendar.brainerd.com
SUMMARY:Photos with Santa at CatTale’s Books & Gifts
DESCRIPTION:Fridays & Saturdays through Christmas. \n\nFridays = 4-6 pm\nSaturdays=11am-2pm\n\nTraveling for this event? Find Brainerd Lakes Area Lodging
URL:https://calendar.brainerd.com/event/photos-with-santa-at-cattales-books-gifts-2/
LOCATION:CatTale’s Books and Gifts\, 609 Laurel Street\, Brainerd\, MN\, 56401\, United States
GEO:46.3558123;-94.2000408
X-APPLE-STRUCTURED-LOCATION;VALUE=URI;X-ADDRESS=CatTale’s Books and Gifts 609 Laurel Street Brainerd MN 56401 United States;X-APPLE-RADIUS=500;X-TITLE=609 Laurel Street:geo:-94.2000408,46.3558123
END:VEVENT
BEGIN:VEVENT
DTSTART;TZID=America/Chicago:20231201T160000
DTEND;TZID=America/Chicago:20231201T180000
DTSTAMP:20260420T150540
CREATED:20231127T213145Z
LAST-MODIFIED:20231127T213145Z
UID:31137-1701446400-1701453600@calendar.brainerd.com
SUMMARY:Photos with Santa at CatTale’s Books & Gifts
DESCRIPTION:Fridays & Saturdays through Christmas. \n\nFridays = 4-6 pm\nSaturdays=11am-2pm\n\nTraveling for this event? Find Brainerd Lakes Area Lodging
URL:https://calendar.brainerd.com/event/photos-with-santa-at-cattales-books-gifts/
LOCATION:CatTale’s Books and Gifts\, 609 Laurel Street\, Brainerd\, MN\, 56401\, United States
GEO:46.3558123;-94.2000408
X-APPLE-STRUCTURED-LOCATION;VALUE=URI;X-ADDRESS=CatTale’s Books and Gifts 609 Laurel Street Brainerd MN 56401 United States;X-APPLE-RADIUS=500;X-TITLE=609 Laurel Street:geo:-94.2000408,46.3558123
END:VEVENT
BEGIN:VEVENT
DTSTART;TZID=America/Chicago:20221223T160000
DTEND;TZID=America/Chicago:20221223T180000
DTSTAMP:20260420T150540
CREATED:20221208T171152Z
LAST-MODIFIED:20221208T171152Z
UID:28000-1671811200-1671818400@calendar.brainerd.com
SUMMARY:Santa in Downtown Brainerd
DESCRIPTION:It’s that time of year! Come get your photo with Santa in downtown Brainerd at CatTale’s Books & Gifts! \n    4×6 photo=$15\n    Digital file=$20 \nPersonal photography only allowed if purchase is made. \nTraveling for this event? Find Brainerd Lakes Area Lodging
URL:https://calendar.brainerd.com/event/santa-in-downtown-brainerd-5/
LOCATION:CatTale’s Books and Gifts\, 609 Laurel Street\, Brainerd\, MN\, 56401\, United States
GEO:46.3558123;-94.2000408
X-APPLE-STRUCTURED-LOCATION;VALUE=URI;X-ADDRESS=CatTale’s Books and Gifts 609 Laurel Street Brainerd MN 56401 United States;X-APPLE-RADIUS=500;X-TITLE=609 Laurel Street:geo:-94.2000408,46.3558123
END:VEVENT
BEGIN:VEVENT
DTSTART;TZID=America/Chicago:20221217T120000
DTEND;TZID=America/Chicago:20221217T150000
DTSTAMP:20260420T150540
CREATED:20221208T171126Z
LAST-MODIFIED:20221208T171126Z
UID:27999-1671278400-1671289200@calendar.brainerd.com
SUMMARY:Santa in Downtown Brainerd
DESCRIPTION:It’s that time of year! Come get your photo with Santa in downtown Brainerd at CatTale’s Books & Gifts! \n    4×6 photo=$15\n    Digital file=$20 \nPersonal photography only allowed if purchase is made. \n    12/23/22\, 4-6 pm \nTraveling for this event? Find Brainerd Lakes Area Lodging
URL:https://calendar.brainerd.com/event/santa-in-downtown-brainerd-4/
LOCATION:CatTale’s Books and Gifts\, 609 Laurel Street\, Brainerd\, MN\, 56401\, United States
GEO:46.3558123;-94.2000408
X-APPLE-STRUCTURED-LOCATION;VALUE=URI;X-ADDRESS=CatTale’s Books and Gifts 609 Laurel Street Brainerd MN 56401 United States;X-APPLE-RADIUS=500;X-TITLE=609 Laurel Street:geo:-94.2000408,46.3558123
END:VEVENT
BEGIN:VEVENT
DTSTART;TZID=America/Chicago:20221216T160000
DTEND;TZID=America/Chicago:20221216T180000
DTSTAMP:20260420T150540
CREATED:20221208T171057Z
LAST-MODIFIED:20221208T171057Z
UID:27998-1671206400-1671213600@calendar.brainerd.com
SUMMARY:Santa in Downtown Brainerd
DESCRIPTION:It’s that time of year! Come get your photo with Santa in downtown Brainerd at CatTale’s Books & Gifts! \n    4×6 photo=$15\n    Digital file=$20 \nPersonal photography only allowed if purchase is made. \n    12/17/22\, 12-3 pm\n    12/23/22\, 4-6 pm \nTraveling for this event? Find Brainerd Lakes Area Lodging
URL:https://calendar.brainerd.com/event/santa-in-downtown-brainerd-3/
LOCATION:CatTale’s Books and Gifts\, 609 Laurel Street\, Brainerd\, MN\, 56401\, United States
GEO:46.3558123;-94.2000408
X-APPLE-STRUCTURED-LOCATION;VALUE=URI;X-ADDRESS=CatTale’s Books and Gifts 609 Laurel Street Brainerd MN 56401 United States;X-APPLE-RADIUS=500;X-TITLE=609 Laurel Street:geo:-94.2000408,46.3558123
END:VEVENT
BEGIN:VEVENT
DTSTART;TZID=America/Chicago:20221202T160000
DTEND;TZID=America/Chicago:20221202T190000
DTSTAMP:20260420T150540
CREATED:20221130T174817Z
LAST-MODIFIED:20221130T174817Z
UID:27903-1669996800-1670007600@calendar.brainerd.com
SUMMARY:Santa in Downtown Brainerd
DESCRIPTION:It’s that time of year! Come get your photo with Santa in downtown Brainerd at CatTale’s Books & Gifts! \n\n4×6 photo=$15\nDigital file=$20\n\nPersonal photography only allowed if purchase is made. \n\n12/9/22\, 4-6 pm\n12/10/22\, 12-3 pm\n12/16/22\, 4-6 pm\n12/17/22\, 12-3 pm\n12/23/22\, 4-6 pm\n\nTraveling for this event? Find Brainerd Lakes Area Lodging
URL:https://calendar.brainerd.com/event/santa-in-downtown-brainerd-2/
LOCATION:CatTale’s Books and Gifts\, 609 Laurel Street\, Brainerd\, MN\, 56401\, United States
GEO:46.3558123;-94.2000408
X-APPLE-STRUCTURED-LOCATION;VALUE=URI;X-ADDRESS=CatTale’s Books and Gifts 609 Laurel Street Brainerd MN 56401 United States;X-APPLE-RADIUS=500;X-TITLE=609 Laurel Street:geo:-94.2000408,46.3558123
END:VEVENT
BEGIN:VEVENT
DTSTART;TZID=America/Chicago:20220624T150000
DTEND;TZID=America/Chicago:20220624T180000
DTSTAMP:20260420T150540
CREATED:20220622T172228Z
LAST-MODIFIED:20220622T172228Z
UID:26456-1656082800-1656093600@calendar.brainerd.com
SUMMARY:Aura Photography at CatTale’s Books & Gifts
DESCRIPTION:Come and visit Jena at CatTales’s Books & Gifts from to get a picture and interpretation of your Aura!\n$60 for a 20-minute session that includes the reading\, the photo\, a lovely color description folder and a digital photo / report.\nFor reservations\, they must be prepaid ahead of time to secure your spot!\nTraveling for this event? Find Brainerd Lakes Area Lodging
URL:https://calendar.brainerd.com/event/aura-photography-at-cattales-books-gifts/
LOCATION:CatTale’s Books and Gifts\, 609 Laurel Street\, Brainerd\, MN\, 56401\, United States
GEO:46.3558123;-94.2000408
X-APPLE-STRUCTURED-LOCATION;VALUE=URI;X-ADDRESS=CatTale’s Books and Gifts 609 Laurel Street Brainerd MN 56401 United States;X-APPLE-RADIUS=500;X-TITLE=609 Laurel Street:geo:-94.2000408,46.3558123
END:VEVENT
BEGIN:VEVENT
DTSTART;TZID=America/Chicago:20220610T110000
DTEND;TZID=America/Chicago:20220610T130000
DTSTAMP:20260420T150540
CREATED:20220609T175959Z
LAST-MODIFIED:20220609T175959Z
UID:26301-1654858800-1654866000@calendar.brainerd.com
SUMMARY:Jeanne Cooney Book Signing at Cattale’s
DESCRIPTION:Jeanne Cooney\, humorist and author\, will sign copies of her latest book\, “It’s Murder\, Dontcha Know\,” at Cattale’s books and gifts in Downtown Brainerd\, Minnesota on Friday\, June 10 from 11:00 a.m. to 2:00 p.m. \nTraveling for this event? Find Brainerd Lakes Area Lodging
URL:https://calendar.brainerd.com/event/jeanne-cooney-book-signing-at-cattales/
LOCATION:CatTale’s Books and Gifts\, 609 Laurel Street\, Brainerd\, MN\, 56401\, United States
GEO:46.3558123;-94.2000408
X-APPLE-STRUCTURED-LOCATION;VALUE=URI;X-ADDRESS=CatTale’s Books and Gifts 609 Laurel Street Brainerd MN 56401 United States;X-APPLE-RADIUS=500;X-TITLE=609 Laurel Street:geo:-94.2000408,46.3558123
END:VEVENT
BEGIN:VEVENT
DTSTART;TZID=America/Chicago:20220528T110000
DTEND;TZID=America/Chicago:20220528T150000
DTSTAMP:20260420T150540
CREATED:20220526T163104Z
LAST-MODIFIED:20220526T163104Z
UID:26227-1653735600-1653750000@calendar.brainerd.com
SUMMARY:Frank Weber Book Event at CatTale’s Books & Gifts
DESCRIPTION:Forensic Psychologist and True Crime Mystery Author\, Frank F. Weber will be at CatTales Books & Gifts in Brainerd signing his newest book Black and Blue. Black and Blue is a thrilling mystery based on the murder of a police officer’s 19-year-old fiancé in Minneapolis. “I feel Black and Blue is my best book to date. I took a chance and offered this book for a highly respected Kirkus review before I had finalized the book as I wanted to see what they thought of it”. The Kirkus review of Black and Blue stated: “Weber largely succeeds at demonstrating how issues of race and policing are intricately related.” It is my longest book\, but it needed to be this length to create an intense mystery with the true crime story. \nTraveling for this event? Find Brainerd Lakes Area Lodging
URL:https://calendar.brainerd.com/event/frank-weber-book-event-at-cattales-books-gifts/
LOCATION:CatTale’s Books and Gifts\, 609 Laurel Street\, Brainerd\, MN\, 56401\, United States
GEO:46.3558123;-94.2000408
X-APPLE-STRUCTURED-LOCATION;VALUE=URI;X-ADDRESS=CatTale’s Books and Gifts 609 Laurel Street Brainerd MN 56401 United States;X-APPLE-RADIUS=500;X-TITLE=609 Laurel Street:geo:-94.2000408,46.3558123
END:VEVENT
BEGIN:VEVENT
DTSTART;TZID=America/Chicago:20220512T100000
DTEND;TZID=America/Chicago:20220525T170000
DTSTAMP:20260420T150540
CREATED:20220520T164240Z
LAST-MODIFIED:20220520T164240Z
UID:26170-1652349600-1653498000@calendar.brainerd.com
SUMMARY:Spring Crystal Sale at CatTale's Books & Gifts
DESCRIPTION:Select crystals and stones on sale for as low as $1! New specimens will be added daily as we do a little spring cleaning around the shop! \nTraveling for this event? Find Brainerd Lakes Area Lodging
URL:https://calendar.brainerd.com/event/spring-crystal-sale-at-cattales-books-gifts/
LOCATION:CatTale’s Books and Gifts\, 609 Laurel Street\, Brainerd\, MN\, 56401\, United States
GEO:46.3558123;-94.2000408
X-APPLE-STRUCTURED-LOCATION;VALUE=URI;X-ADDRESS=CatTale’s Books and Gifts 609 Laurel Street Brainerd MN 56401 United States;X-APPLE-RADIUS=500;X-TITLE=609 Laurel Street:geo:-94.2000408,46.3558123
END:VEVENT
BEGIN:VEVENT
DTSTART;TZID=America/Chicago:20220226T130000
DTEND;TZID=America/Chicago:20220226T160000
DTSTAMP:20260420T150540
CREATED:20220225T185343Z
LAST-MODIFIED:20220225T185343Z
UID:25624-1645880400-1645891200@calendar.brainerd.com
SUMMARY:Tarot Readings at CatTale’s Books & Gifts
DESCRIPTION:Walk-ins welcome!\n$25 for up to the first 20 minutes\, and $1 a minute after for longer readings.\nTraveling for this event? Find Brainerd Lakes Area Lodging
URL:https://calendar.brainerd.com/event/tarot-readings-at-cattales-books-gifts-2/
LOCATION:CatTale’s Books and Gifts\, 609 Laurel Street\, Brainerd\, MN\, 56401\, United States
GEO:46.3558123;-94.2000408
X-APPLE-STRUCTURED-LOCATION;VALUE=URI;X-ADDRESS=CatTale’s Books and Gifts 609 Laurel Street Brainerd MN 56401 United States;X-APPLE-RADIUS=500;X-TITLE=609 Laurel Street:geo:-94.2000408,46.3558123
END:VEVENT
BEGIN:VEVENT
DTSTART;TZID=America/Chicago:20220219T130000
DTEND;TZID=America/Chicago:20220219T160000
DTSTAMP:20260420T150540
CREATED:20220218T194637Z
LAST-MODIFIED:20220218T194637Z
UID:25541-1645275600-1645286400@calendar.brainerd.com
SUMMARY:Tarot Readings at CatTale’s Books & Gifts
DESCRIPTION:Walk-ins welcome!\n$25 for up to the first 20 minutes\, and $1 a minute after for longer readings.\nTraveling for this event? Find Brainerd Lakes Area Lodging
URL:https://calendar.brainerd.com/event/tarot-readings-at-cattales-books-gifts/
LOCATION:CatTale’s Books and Gifts\, 609 Laurel Street\, Brainerd\, MN\, 56401\, United States
GEO:46.3558123;-94.2000408
X-APPLE-STRUCTURED-LOCATION;VALUE=URI;X-ADDRESS=CatTale’s Books and Gifts 609 Laurel Street Brainerd MN 56401 United States;X-APPLE-RADIUS=500;X-TITLE=609 Laurel Street:geo:-94.2000408,46.3558123
END:VEVENT
END:VCALENDAR