BEGIN:VCALENDAR
VERSION:2.0
PRODID:-//Events Calendar - ECPv6.15.20//NONSGML v1.0//EN
CALSCALE:GREGORIAN
METHOD:PUBLISH
X-WR-CALNAME:Events Calendar
X-ORIGINAL-URL:https://calendar.brainerd.com
X-WR-CALDESC:Events for Events Calendar
REFRESH-INTERVAL;VALUE=DURATION:PT1H
X-Robots-Tag:noindex
X-PUBLISHED-TTL:PT1H
BEGIN:VTIMEZONE
TZID:America/Chicago
BEGIN:DAYLIGHT
TZOFFSETFROM:-0600
TZOFFSETTO:-0500
TZNAME:CDT
DTSTART:20210314T080000
END:DAYLIGHT
BEGIN:STANDARD
TZOFFSETFROM:-0500
TZOFFSETTO:-0600
TZNAME:CST
DTSTART:20211107T070000
END:STANDARD
BEGIN:DAYLIGHT
TZOFFSETFROM:-0600
TZOFFSETTO:-0500
TZNAME:CDT
DTSTART:20220313T080000
END:DAYLIGHT
BEGIN:STANDARD
TZOFFSETFROM:-0500
TZOFFSETTO:-0600
TZNAME:CST
DTSTART:20221106T070000
END:STANDARD
BEGIN:DAYLIGHT
TZOFFSETFROM:-0600
TZOFFSETTO:-0500
TZNAME:CDT
DTSTART:20230312T080000
END:DAYLIGHT
BEGIN:STANDARD
TZOFFSETFROM:-0500
TZOFFSETTO:-0600
TZNAME:CST
DTSTART:20231105T070000
END:STANDARD
END:VTIMEZONE
BEGIN:VEVENT
DTSTART;TZID=America/Chicago:20221121T180000
DTEND;TZID=America/Chicago:20221121T210000
DTSTAMP:20260420T143325
CREATED:20221108T210644Z
LAST-MODIFIED:20221108T210644Z
UID:27779-1669053600-1669064400@calendar.brainerd.com
SUMMARY:Texas Hold’em Poker Tournament at Brick House Pizza
DESCRIPTION:Every Third Monday we have a FREE Texas Hold’em tournament at Brick House Pizza in Brainerd!\nGame starts promptly at 6. You don’t have to shuffle or deal. Our volunteer dealers will do all that for you. They will even help you along the way if you’re an up-and-coming player. If they’re slinging ya some good cards\, feel free to buy ‘em a pint. Prizes for 1st\, 2nd & 3rd! Arrive early to make sure you get a seat.\nSo come on out\, have a pint and play some cards! \nTraveling for this event? Find Brainerd Lakes Area Lodging
URL:https://calendar.brainerd.com/event/texas-holdem-poker-tournament-at-brick-house-pizza-4/
LOCATION:Brick House Pizza\, Bread & Bagel\, 302 Washington St\, Brainerd\, MN\, 56401
GEO:46.3578575;-94.2050037
X-APPLE-STRUCTURED-LOCATION;VALUE=URI;X-ADDRESS=Brick House Pizza Bread & Bagel 302 Washington St Brainerd MN 56401;X-APPLE-RADIUS=500;X-TITLE=302 Washington St:geo:-94.2050037,46.3578575
END:VEVENT
BEGIN:VEVENT
DTSTART;TZID=America/Chicago:20221017T180000
DTEND;TZID=America/Chicago:20221017T210000
DTSTAMP:20260420T143325
CREATED:20220920T175452Z
LAST-MODIFIED:20220920T175452Z
UID:27408-1666029600-1666040400@calendar.brainerd.com
SUMMARY:Texas Hold’em Poker Tournament at Brick House Pizza
DESCRIPTION:Every Third Monday we have a FREE Texas Hold’em tournament at Brick House Pizza in Brainerd! \nGame starts promptly at 6. You don’t have to shuffle or deal. Our volunteer dealers will do all that for you. They will even help you along the way if you’re an up-and-coming player. If they’re slinging ya some good cards\, feel free to buy ‘em a pint. Prizes for 1st\, 2nd & 3rd! Arrive early to make sure you get a seat. \nSo come on out\, have a pint and play some cards! \nTraveling for this event? Find Brainerd Lakes Area Lodging
URL:https://calendar.brainerd.com/event/texas-holdem-poker-tournament-at-brick-house-pizza-3/
LOCATION:Brick House Pizza\, Bread & Bagel\, 302 Washington St\, Brainerd\, MN\, 56401
GEO:46.3578575;-94.2050037
X-APPLE-STRUCTURED-LOCATION;VALUE=URI;X-ADDRESS=Brick House Pizza Bread & Bagel 302 Washington St Brainerd MN 56401;X-APPLE-RADIUS=500;X-TITLE=302 Washington St:geo:-94.2050037,46.3578575
END:VEVENT
BEGIN:VEVENT
DTSTART;TZID=America/Chicago:20220815T180000
DTEND;TZID=America/Chicago:20220815T210000
DTSTAMP:20260420T143325
CREATED:20220615T163625Z
LAST-MODIFIED:20220615T163625Z
UID:26424-1660586400-1660597200@calendar.brainerd.com
SUMMARY:Texas Hold’em Poker Tournament at Brick House Pizza
DESCRIPTION:Every Third Monday we have a FREE Texas Hold’em tournament at Brick House Pizza in Brainerd!\n\nGame starts promptly at 6. You don’t have to shuffle or deal. Our volunteer dealers will do all that for you. They will even help you along the way if you’re an up-and-coming player. If they’re slinging ya some good cards\, feel free to buy ‘em a pint. Prizes for 1st\, 2nd & 3rd! Arrive early to make sure you get a seat.\n\nSo come on out\, have a pint and play some cards!\nTraveling for this event? Find Brainerd Lakes Area Lodging
URL:https://calendar.brainerd.com/event/texas-holdem-poker-tournament-at-brick-house-pizza-2/
LOCATION:Brick House Pizza\, Bread & Bagel\, 302 Washington St\, Brainerd\, MN\, 56401
GEO:46.3578575;-94.2050037
X-APPLE-STRUCTURED-LOCATION;VALUE=URI;X-ADDRESS=Brick House Pizza Bread & Bagel 302 Washington St Brainerd MN 56401;X-APPLE-RADIUS=500;X-TITLE=302 Washington St:geo:-94.2050037,46.3578575
END:VEVENT
BEGIN:VEVENT
DTSTART;TZID=America/Chicago:20220730T100000
DTEND;TZID=America/Chicago:20220730T210000
DTSTAMP:20260420T143325
CREATED:20220727T174056Z
LAST-MODIFIED:20220727T174056Z
UID:26627-1659175200-1659214800@calendar.brainerd.com
SUMMARY:National Cheesecake Day Fundraiser
DESCRIPTION:The UGLY Cheesecake Company will be selling a slice of cheesecake for a FREE WILL DONATION on July 30th. 100% of funds raised will be to support Lakes Area Pregnancy Support Center! Come join us for a slice of goodness! \nTraveling for this event? Find Brainerd Lakes Area Lodging
URL:https://calendar.brainerd.com/event/national-cheesecake-day-fundraiser/
LOCATION:Brick House Pizza\, Bread & Bagel\, 302 Washington St\, Brainerd\, MN\, 56401
GEO:46.3578575;-94.2050037
X-APPLE-STRUCTURED-LOCATION;VALUE=URI;X-ADDRESS=Brick House Pizza Bread & Bagel 302 Washington St Brainerd MN 56401;X-APPLE-RADIUS=500;X-TITLE=302 Washington St:geo:-94.2050037,46.3578575
END:VEVENT
BEGIN:VEVENT
DTSTART;TZID=America/Chicago:20220124T180000
DTEND;TZID=America/Chicago:20220124T210000
DTSTAMP:20260420T143325
CREATED:20220124T204438Z
LAST-MODIFIED:20220124T204438Z
UID:25114-1643047200-1643058000@calendar.brainerd.com
SUMMARY:Texas Hold’em Poker Tournament at Brick House Pizza
DESCRIPTION:Every Third Monday we have a FREE Texas Hold’em tournament at Brick House Pizza in Brainerd!\n\nGame starts promptly at 6!\n\nYou don’t have to shuffle or deal! Our volunteer dealers will do all that for you! They will even help you along the way if you’re an up-and-coming player! If they’re slinging ya some good cards\, feel free to buy ‘em a pint!\n\nPrizes for   and !\n\nArrive early to make sure you get a seat!\nSo come on out\, have a pint and play some cards! \nTraveling for this event? Find Brainerd Lakes Area Lodging
URL:https://calendar.brainerd.com/event/texas-holdem-poker-tournament-at-brick-house-pizza/
LOCATION:Brick House Pizza\, Bread & Bagel\, 302 Washington St\, Brainerd\, MN\, 56401
GEO:46.3578575;-94.2050037
X-APPLE-STRUCTURED-LOCATION;VALUE=URI;X-ADDRESS=Brick House Pizza Bread & Bagel 302 Washington St Brainerd MN 56401;X-APPLE-RADIUS=500;X-TITLE=302 Washington St:geo:-94.2050037,46.3578575
END:VEVENT
END:VCALENDAR