BEGIN:VCALENDAR
VERSION:2.0
PRODID:-//Events Calendar - ECPv6.15.20//NONSGML v1.0//EN
CALSCALE:GREGORIAN
METHOD:PUBLISH
X-WR-CALNAME:Events Calendar
X-ORIGINAL-URL:https://calendar.brainerd.com
X-WR-CALDESC:Events for Events Calendar
REFRESH-INTERVAL;VALUE=DURATION:PT1H
X-Robots-Tag:noindex
X-PUBLISHED-TTL:PT1H
BEGIN:VTIMEZONE
TZID:America/Chicago
BEGIN:DAYLIGHT
TZOFFSETFROM:-0600
TZOFFSETTO:-0500
TZNAME:CDT
DTSTART:20190310T080000
END:DAYLIGHT
BEGIN:STANDARD
TZOFFSETFROM:-0500
TZOFFSETTO:-0600
TZNAME:CST
DTSTART:20191103T070000
END:STANDARD
BEGIN:DAYLIGHT
TZOFFSETFROM:-0600
TZOFFSETTO:-0500
TZNAME:CDT
DTSTART:20200308T080000
END:DAYLIGHT
BEGIN:STANDARD
TZOFFSETFROM:-0500
TZOFFSETTO:-0600
TZNAME:CST
DTSTART:20201101T070000
END:STANDARD
BEGIN:DAYLIGHT
TZOFFSETFROM:-0600
TZOFFSETTO:-0500
TZNAME:CDT
DTSTART:20210314T080000
END:DAYLIGHT
BEGIN:STANDARD
TZOFFSETFROM:-0500
TZOFFSETTO:-0600
TZNAME:CST
DTSTART:20211107T070000
END:STANDARD
BEGIN:DAYLIGHT
TZOFFSETFROM:-0600
TZOFFSETTO:-0500
TZNAME:CDT
DTSTART:20220313T080000
END:DAYLIGHT
BEGIN:STANDARD
TZOFFSETFROM:-0500
TZOFFSETTO:-0600
TZNAME:CST
DTSTART:20221106T070000
END:STANDARD
BEGIN:DAYLIGHT
TZOFFSETFROM:-0600
TZOFFSETTO:-0500
TZNAME:CDT
DTSTART:20230312T080000
END:DAYLIGHT
BEGIN:STANDARD
TZOFFSETFROM:-0500
TZOFFSETTO:-0600
TZNAME:CST
DTSTART:20231105T070000
END:STANDARD
BEGIN:DAYLIGHT
TZOFFSETFROM:-0600
TZOFFSETTO:-0500
TZNAME:CDT
DTSTART:20240310T080000
END:DAYLIGHT
BEGIN:STANDARD
TZOFFSETFROM:-0500
TZOFFSETTO:-0600
TZNAME:CST
DTSTART:20241103T070000
END:STANDARD
BEGIN:DAYLIGHT
TZOFFSETFROM:-0600
TZOFFSETTO:-0500
TZNAME:CDT
DTSTART:20250309T080000
END:DAYLIGHT
BEGIN:STANDARD
TZOFFSETFROM:-0500
TZOFFSETTO:-0600
TZNAME:CST
DTSTART:20251102T070000
END:STANDARD
BEGIN:DAYLIGHT
TZOFFSETFROM:-0600
TZOFFSETTO:-0500
TZNAME:CDT
DTSTART:20260308T080000
END:DAYLIGHT
BEGIN:STANDARD
TZOFFSETFROM:-0500
TZOFFSETTO:-0600
TZNAME:CST
DTSTART:20261101T070000
END:STANDARD
END:VTIMEZONE
BEGIN:VEVENT
DTSTART;TZID=America/Chicago:20250511T093000
DTEND;TZID=America/Chicago:20250511T133000
DTSTAMP:20260423T162844
CREATED:20250508T201051Z
LAST-MODIFIED:20250508T201051Z
UID:41587-1746955800-1746970200@calendar.brainerd.com
SUMMARY:Mother's Day Brunch - Black Bear Lodge & Saloon
DESCRIPTION:Celebrate Mother’s Day in style at Black Bear Lodge & Saloon with a delicious brunch buffet on Sunday\, May 11th\, 2025\, with seating from 9:30 AM to 1:30 PM. The buffet features everything from prime rib and seafood boil to Belgian waffles\, caramel rolls\, and fresh fruit. It’s $38 for adults and $15 for kids ages 5–12. Reservations are recommended for groups of five or more—call 218.828.8400 to save your spot. \nView more Brainerd MN Events & Activities | Find Brainerd Resorts | Book your Brainerd Hotel
URL:https://calendar.brainerd.com/event/mothers-day-brunch-black-bear-lodge-saloon/
LOCATION:Black Bear Lodge and Saloon\, 14829 Edgewood Drive North\, Baxter\, MN\, 56425\, United States
GEO:46.3671703;-94.2449129
X-APPLE-STRUCTURED-LOCATION;VALUE=URI;X-ADDRESS=Black Bear Lodge and Saloon 14829 Edgewood Drive North Baxter MN 56425 United States;X-APPLE-RADIUS=500;X-TITLE=14829 Edgewood Drive North:geo:-94.2449129,46.3671703
END:VEVENT
BEGIN:VEVENT
DTSTART;TZID=America/Chicago:20250420T093000
DTEND;TZID=America/Chicago:20250420T133000
DTSTAMP:20260423T162844
CREATED:20250410T181826Z
LAST-MODIFIED:20250410T181826Z
UID:41227-1745141400-1745155800@calendar.brainerd.com
SUMMARY:Easter Brunch Buffet - Black Bear Lodge
DESCRIPTION:View more Brainerd MN Events & Activities | Find Brainerd Resorts | Book your Brainerd Hotel
URL:https://calendar.brainerd.com/event/easter-brunch-buffet-black-bear-lodge/
LOCATION:Black Bear Lodge and Saloon\, 14829 Edgewood Drive North\, Baxter\, MN\, 56425\, United States
GEO:46.3671703;-94.2449129
X-APPLE-STRUCTURED-LOCATION;VALUE=URI;X-ADDRESS=Black Bear Lodge and Saloon 14829 Edgewood Drive North Baxter MN 56425 United States;X-APPLE-RADIUS=500;X-TITLE=14829 Edgewood Drive North:geo:-94.2449129,46.3671703
END:VEVENT
BEGIN:VEVENT
DTSTART;TZID=America/Chicago:20230514T093000
DTEND;TZID=America/Chicago:20230514T150000
DTSTAMP:20260423T162844
CREATED:20230508T191751Z
LAST-MODIFIED:20230508T191751Z
UID:29327-1684056600-1684076400@calendar.brainerd.com
SUMMARY:Mother’s Day Brunch Buffet – Black Bear Lodge & Saloon
DESCRIPTION:Mother’s Day Brunch Buffet at Black Bear Lodge & Saloon \nMay 14\, 2023 \nSeating 9:30-3:00 \n$30 Adults | $14 Children 4-12yrs \nReservations taken for groups of 5 or more. Call 218.828.8400 \nTraveling for this event? Find Brainerd Lakes Area Lodging
URL:https://calendar.brainerd.com/event/mothers-day-brunch-buffet-black-bear-lodge-saloon/
LOCATION:Black Bear Lodge and Saloon\, 14829 Edgewood Drive North\, Baxter\, MN\, 56425\, United States
GEO:46.3671703;-94.2449129
X-APPLE-STRUCTURED-LOCATION;VALUE=URI;X-ADDRESS=Black Bear Lodge and Saloon 14829 Edgewood Drive North Baxter MN 56425 United States;X-APPLE-RADIUS=500;X-TITLE=14829 Edgewood Drive North:geo:-94.2449129,46.3671703
END:VEVENT
BEGIN:VEVENT
DTSTART;TZID=America/Chicago:20230409T093000
DTEND;TZID=America/Chicago:20230409T133000
DTSTAMP:20260423T162844
CREATED:20230328T202928Z
LAST-MODIFIED:20230328T202928Z
UID:29008-1681032600-1681047000@calendar.brainerd.com
SUMMARY:Easter Brunch Buffet at Black Bear Lodge & Saloon
DESCRIPTION:Adults – $25.99\nChildren 4-12 – $13.99\nReservations for groups of 5 or more. \nTraveling for this event? Find Brainerd Lakes Area Lodging
URL:https://calendar.brainerd.com/event/easter-brunch-buffet-at-black-bear-lodge-saloon-2/
LOCATION:Black Bear Lodge and Saloon\, 14829 Edgewood Drive North\, Baxter\, MN\, 56425\, United States
GEO:46.3671703;-94.2449129
X-APPLE-STRUCTURED-LOCATION;VALUE=URI;X-ADDRESS=Black Bear Lodge and Saloon 14829 Edgewood Drive North Baxter MN 56425 United States;X-APPLE-RADIUS=500;X-TITLE=14829 Edgewood Drive North:geo:-94.2449129,46.3671703
END:VEVENT
BEGIN:VEVENT
DTSTART;TZID=America/Chicago:20220508T093000
DTEND;TZID=America/Chicago:20220508T133000
DTSTAMP:20260423T162844
CREATED:20220427T190610Z
LAST-MODIFIED:20220427T190610Z
UID:26008-1652002200-1652016600@calendar.brainerd.com
SUMMARY:Mother's Day Brunch Buffet Black Bear Lodge
DESCRIPTION:May 8th\, 2022\nSeating 9:30AM-1:30PM\nRegular Menu Starts at 4pm \nTraveling for this event? Find Brainerd Lakes Area Lodging
URL:https://calendar.brainerd.com/event/mothers-day-brunch-buffet-black-bear-lodge/
LOCATION:Black Bear Lodge and Saloon\, 14829 Edgewood Drive North\, Baxter\, MN\, 56425\, United States
GEO:46.3671703;-94.2449129
X-APPLE-STRUCTURED-LOCATION;VALUE=URI;X-ADDRESS=Black Bear Lodge and Saloon 14829 Edgewood Drive North Baxter MN 56425 United States;X-APPLE-RADIUS=500;X-TITLE=14829 Edgewood Drive North:geo:-94.2449129,46.3671703
END:VEVENT
BEGIN:VEVENT
DTSTART;TZID=America/Chicago:20220417T093000
DTEND;TZID=America/Chicago:20220417T133000
DTSTAMP:20260423T162844
CREATED:20220330T172720Z
LAST-MODIFIED:20220330T172720Z
UID:25800-1650187800-1650202200@calendar.brainerd.com
SUMMARY:Easter Brunch Buffet at Black Bear Lodge & Saloon
DESCRIPTION:Celebrate at Black Bear Lodge & Saloon. \nSeating from 9:30 am-1:30 pm. Reservations available for groups of 5 or more. \n$23.99 – adults\, $12.99 – children aged 4-12. \nTraveling for this event? Find Brainerd Lakes Area Lodging
URL:https://calendar.brainerd.com/event/easter-brunch-buffet-at-black-bear-lodge-saloon/
LOCATION:Black Bear Lodge and Saloon\, 14829 Edgewood Drive North\, Baxter\, MN\, 56425\, United States
GEO:46.3671703;-94.2449129
X-APPLE-STRUCTURED-LOCATION;VALUE=URI;X-ADDRESS=Black Bear Lodge and Saloon 14829 Edgewood Drive North Baxter MN 56425 United States;X-APPLE-RADIUS=500;X-TITLE=14829 Edgewood Drive North:geo:-94.2449129,46.3671703
END:VEVENT
BEGIN:VEVENT
DTSTART;TZID=America/Chicago:20210509T093000
DTEND;TZID=America/Chicago:20210509T133000
DTSTAMP:20260423T162844
CREATED:20210430T143204Z
LAST-MODIFIED:20210430T143204Z
UID:24238-1620552600-1620567000@calendar.brainerd.com
SUMMARY:Mother's Day Buffet - Black Bear Lodge
DESCRIPTION:Traveling for this event? Find Brainerd Lakes Area Lodging
URL:https://calendar.brainerd.com/event/mothers-day-buffet-black-bear-lodge/
LOCATION:Black Bear Lodge and Saloon\, 14829 Edgewood Drive North\, Baxter\, MN\, 56425\, United States
GEO:46.3671703;-94.2449129
X-APPLE-STRUCTURED-LOCATION;VALUE=URI;X-ADDRESS=Black Bear Lodge and Saloon 14829 Edgewood Drive North Baxter MN 56425 United States;X-APPLE-RADIUS=500;X-TITLE=14829 Edgewood Drive North:geo:-94.2449129,46.3671703
END:VEVENT
BEGIN:VEVENT
DTSTART;TZID=America/Chicago:20210404T093000
DTEND;TZID=America/Chicago:20210404T133000
DTSTAMP:20260423T162844
CREATED:20210326T123324Z
LAST-MODIFIED:20210326T123542Z
UID:24040-1617528600-1617543000@calendar.brainerd.com
SUMMARY:Easter Brunch Buffet - Black Bear
DESCRIPTION:Traveling for this event? Find Brainerd Lakes Area Lodging
URL:https://calendar.brainerd.com/event/easter-brunch-buffet-black-bear/
LOCATION:Black Bear Lodge and Saloon\, 14829 Edgewood Drive North\, Baxter\, MN\, 56425\, United States
GEO:46.3671703;-94.2449129
X-APPLE-STRUCTURED-LOCATION;VALUE=URI;X-ADDRESS=Black Bear Lodge and Saloon 14829 Edgewood Drive North Baxter MN 56425 United States;X-APPLE-RADIUS=500;X-TITLE=14829 Edgewood Drive North:geo:-94.2449129,46.3671703
END:VEVENT
BEGIN:VEVENT
DTSTART;TZID=America/Chicago:20200510T120000
DTEND;TZID=America/Chicago:20200510T150000
DTSTAMP:20260423T162844
CREATED:20200501T133616Z
LAST-MODIFIED:20200501T134830Z
UID:23251-1589112000-1589122800@calendar.brainerd.com
SUMMARY:Mother's Day Take Out Meal - Black Bear Lodge
DESCRIPTION:A Special Mother’s Day Meal will be Available for Pickup at Black Bear Lodge on Sunday\, May 10th  (Order by Friday\, May 8th) \n \n  Order your Mother’s Day Meal \nTraveling for this event? Find Brainerd Lakes Area Lodging
URL:https://calendar.brainerd.com/event/mothers-day-take-out-meal-black-bear-lodge/
LOCATION:Black Bear Lodge and Saloon\, 14829 Edgewood Drive North\, Baxter\, MN\, 56425\, United States
GEO:46.3671703;-94.2449129
X-APPLE-STRUCTURED-LOCATION;VALUE=URI;X-ADDRESS=Black Bear Lodge and Saloon 14829 Edgewood Drive North Baxter MN 56425 United States;X-APPLE-RADIUS=500;X-TITLE=14829 Edgewood Drive North:geo:-94.2449129,46.3671703
END:VEVENT
BEGIN:VEVENT
DTSTART;VALUE=DATE:20200214
DTEND;VALUE=DATE:20200217
DTSTAMP:20260423T162844
CREATED:20200213T181421Z
LAST-MODIFIED:20200213T181421Z
UID:22878-1581649200-1581821999@calendar.brainerd.com
SUMMARY:Valentine's Day Specials - Black Bear Lodge
DESCRIPTION:These Valentine’s Day Specials are available at Black Bear Lodge on February 14th & 15th\, 2020 \n\nPrime Rib & Lobster – $37.99\nSteak & Lobster – $37.99\nCrab Ravioli in Lobster champagne Sauce – $23.99\n\nTraveling for this event? Find Brainerd Lakes Area Lodging
URL:https://calendar.brainerd.com/event/valentines-day-specials-black-bear-lodge/
LOCATION:Black Bear Lodge and Saloon\, 14829 Edgewood Drive North\, Baxter\, MN\, 56425\, United States
GEO:46.3671703;-94.2449129
X-APPLE-STRUCTURED-LOCATION;VALUE=URI;X-ADDRESS=Black Bear Lodge and Saloon 14829 Edgewood Drive North Baxter MN 56425 United States;X-APPLE-RADIUS=500;X-TITLE=14829 Edgewood Drive North:geo:-94.2449129,46.3671703
END:VEVENT
END:VCALENDAR