BEGIN:VCALENDAR
VERSION:2.0
PRODID:-//Events Calendar - ECPv6.15.20//NONSGML v1.0//EN
CALSCALE:GREGORIAN
METHOD:PUBLISH
X-WR-CALNAME:Events Calendar
X-ORIGINAL-URL:https://calendar.brainerd.com
X-WR-CALDESC:Events for Events Calendar
REFRESH-INTERVAL;VALUE=DURATION:PT1H
X-Robots-Tag:noindex
X-PUBLISHED-TTL:PT1H
BEGIN:VTIMEZONE
TZID:America/Chicago
BEGIN:DAYLIGHT
TZOFFSETFROM:-0600
TZOFFSETTO:-0500
TZNAME:CDT
DTSTART:20200308T080000
END:DAYLIGHT
BEGIN:STANDARD
TZOFFSETFROM:-0500
TZOFFSETTO:-0600
TZNAME:CST
DTSTART:20201101T070000
END:STANDARD
BEGIN:DAYLIGHT
TZOFFSETFROM:-0600
TZOFFSETTO:-0500
TZNAME:CDT
DTSTART:20210314T080000
END:DAYLIGHT
BEGIN:STANDARD
TZOFFSETFROM:-0500
TZOFFSETTO:-0600
TZNAME:CST
DTSTART:20211107T070000
END:STANDARD
BEGIN:DAYLIGHT
TZOFFSETFROM:-0600
TZOFFSETTO:-0500
TZNAME:CDT
DTSTART:20220313T080000
END:DAYLIGHT
BEGIN:STANDARD
TZOFFSETFROM:-0500
TZOFFSETTO:-0600
TZNAME:CST
DTSTART:20221106T070000
END:STANDARD
BEGIN:DAYLIGHT
TZOFFSETFROM:-0600
TZOFFSETTO:-0500
TZNAME:CDT
DTSTART:20230312T080000
END:DAYLIGHT
BEGIN:STANDARD
TZOFFSETFROM:-0500
TZOFFSETTO:-0600
TZNAME:CST
DTSTART:20231105T070000
END:STANDARD
BEGIN:DAYLIGHT
TZOFFSETFROM:-0600
TZOFFSETTO:-0500
TZNAME:CDT
DTSTART:20240310T080000
END:DAYLIGHT
BEGIN:STANDARD
TZOFFSETFROM:-0500
TZOFFSETTO:-0600
TZNAME:CST
DTSTART:20241103T070000
END:STANDARD
BEGIN:DAYLIGHT
TZOFFSETFROM:-0600
TZOFFSETTO:-0500
TZNAME:CDT
DTSTART:20250309T080000
END:DAYLIGHT
BEGIN:STANDARD
TZOFFSETFROM:-0500
TZOFFSETTO:-0600
TZNAME:CST
DTSTART:20251102T070000
END:STANDARD
END:VTIMEZONE
BEGIN:VEVENT
DTSTART;TZID=America/Chicago:20240110T110000
DTEND;TZID=America/Chicago:20240110T160000
DTSTAMP:20260420T051928
CREATED:20240108T221824Z
LAST-MODIFIED:20240108T221824Z
UID:31502-1704884400-1704902400@calendar.brainerd.com
SUMMARY:Beautiful Salvage Boutique Moving Sale
DESCRIPTION:Come Shop our Moving Sale! So many awesome deals\, almost at ‘garage sale’ prices!\nThe doors will open at 11 am on Wednesday\, January 10th! 15175 Edgewood Drive N\, Baxter MN \nTraveling for this event? Find Brainerd Lakes Area Lodging
URL:https://calendar.brainerd.com/event/beautiful-salvage-boutique-moving-sale/
LOCATION:Beautiful Salvage Boutique\, 15175 Edgewood Drive\, Baxter\, MN\, 56401\, United States
GEO:46.3718322;-94.2455997
X-APPLE-STRUCTURED-LOCATION;VALUE=URI;X-ADDRESS=Beautiful Salvage Boutique 15175 Edgewood Drive Baxter MN 56401 United States;X-APPLE-RADIUS=500;X-TITLE=15175 Edgewood Drive:geo:-94.2455997,46.3718322
END:VEVENT
BEGIN:VEVENT
DTSTART;TZID=America/Chicago:20231018T110000
DTEND;TZID=America/Chicago:20231018T160000
DTSTAMP:20260420T051928
CREATED:20231017T202316Z
LAST-MODIFIED:20231017T202316Z
UID:30815-1697626800-1697644800@calendar.brainerd.com
SUMMARY:Fall Blowout Sale at Beautiful Salvage
DESCRIPTION:Come shop fun fall décor discounts and more! We are getting ready to make space for the next season and need all home décor to go!\n🍁Five buck sale on selected items!!\n🍁All Fall and Halloween Décor 50% off\n🍁10%off all other items\nBeautiful Salvage Boutique is located in the Grizzly Center kitty corner from Grizzly’s Restaurant and the last store down from Caribou Coffee in Baxter. \nTraveling for this event? Find Brainerd Lakes Area Lodging
URL:https://calendar.brainerd.com/event/fall-blowout-sale-at-beautiful-salvage/2023-10-18/
LOCATION:Beautiful Salvage Boutique\, 15175 Edgewood Drive\, Baxter\, MN\, 56401\, United States
GEO:46.3718322;-94.2455997
X-APPLE-STRUCTURED-LOCATION;VALUE=URI;X-ADDRESS=Beautiful Salvage Boutique 15175 Edgewood Drive Baxter MN 56401 United States;X-APPLE-RADIUS=500;X-TITLE=15175 Edgewood Drive:geo:-94.2455997,46.3718322
END:VEVENT
BEGIN:VEVENT
DTSTART;VALUE=DATE:20220818
DTEND;VALUE=DATE:20220822
DTSTAMP:20260420T051928
CREATED:20220818T170453Z
LAST-MODIFIED:20220818T170453Z
UID:26765-1660791600-1661050799@calendar.brainerd.com
SUMMARY:‘Buckets of Sunshine’ Boutique Sale
DESCRIPTION:Come Shop the ‘Buckets of Sunshine’ Beautiful Salvage Boutique Event. We are holding on to the last days of summer for as long as we can! The store is packed full of fun upcycled treasures\, repurposed décor\, handmade jewelry\, clothing and more. Just show up to enter our drawing for a Beautiful Salvage gift. \nLocated in the Grizzly Center kitty corner from Grizzly’s Restaurant last store down from Caribou Coffee. 15175 Edgewood Drive N Baxter \nThursday 11-3\nFriday 11-4\nSaturday 11-4 \nTraveling for this event? Find Brainerd Lakes Area Lodging
URL:https://calendar.brainerd.com/event/buckets-of-sunshine-boutique-sale/
LOCATION:Beautiful Salvage Boutique\, 15175 Edgewood Drive\, Baxter\, MN\, 56401\, United States
GEO:46.3718322;-94.2455997
X-APPLE-STRUCTURED-LOCATION;VALUE=URI;X-ADDRESS=Beautiful Salvage Boutique 15175 Edgewood Drive Baxter MN 56401 United States;X-APPLE-RADIUS=500;X-TITLE=15175 Edgewood Drive:geo:-94.2455997,46.3718322
END:VEVENT
BEGIN:VEVENT
DTSTART;VALUE=DATE:20220721
DTEND;VALUE=DATE:20220725
DTSTAMP:20260420T051928
CREATED:20220713T172743Z
LAST-MODIFIED:20220713T172743Z
UID:26564-1658372400-1658631599@calendar.brainerd.com
SUMMARY:‘Set to Sail’ Beautiful Salvage Boutique Event
DESCRIPTION:Come Shop at the Beautiful Salvage Boutique! There are so many unique repurposed items\, handcrafted treasures\, jewelry\, clothing\, décor and more!\nOpen throughout the month of July with a ‘Set to Sail’ theme.\nThursdays 11am-3pm\nFriday 10am-4pm\nSaturday 10am-4pm\nLocated in the Grizzly Center kitty corner from Grizzly’s Restaurant last store down from Caribou Coffee. 15175 Edgewood Drive N Baxter \nTraveling for this event? Find Brainerd Lakes Area Lodging
URL:https://calendar.brainerd.com/event/set-to-sail-beautiful-salvage-boutique-event/
LOCATION:Beautiful Salvage Boutique\, 15175 Edgewood Drive\, Baxter\, MN\, 56401\, United States
GEO:46.3718322;-94.2455997
X-APPLE-STRUCTURED-LOCATION;VALUE=URI;X-ADDRESS=Beautiful Salvage Boutique 15175 Edgewood Drive Baxter MN 56401 United States;X-APPLE-RADIUS=500;X-TITLE=15175 Edgewood Drive:geo:-94.2455997,46.3718322
END:VEVENT
BEGIN:VEVENT
DTSTART;TZID=America/Chicago:20220527T100000
DTEND;TZID=America/Chicago:20220528T160000
DTSTAMP:20260420T051928
CREATED:20220526T163255Z
LAST-MODIFIED:20220526T163255Z
UID:26229-1653645600-1653753600@calendar.brainerd.com
SUMMARY:Beautiful Salvage Memorial Spring Clean Out Event
DESCRIPTION:Come shop the Memorial Spring Clean Out Event! 20% off store wide (some exceptions may apply). Making room for amazing summer inventory!!! Prices are already good but will be even better these two days! Handmade and found home decor\, upcycled furnishings\, jewelry\, clothing and more! \nBeautiful Salvage Boutique located in the Grizzly Center kitty corner from Grizzly’s Restaurant last store down from Caribou Coffee. 15175 Edgewood Drive N Baxter\, MN \nTraveling for this event? Find Brainerd Lakes Area Lodging
URL:https://calendar.brainerd.com/event/beautiful-salvage-memorial-spring-clean-out-event/
LOCATION:Beautiful Salvage Boutique\, 15175 Edgewood Drive\, Baxter\, MN\, 56401\, United States
GEO:46.3718322;-94.2455997
X-APPLE-STRUCTURED-LOCATION;VALUE=URI;X-ADDRESS=Beautiful Salvage Boutique 15175 Edgewood Drive Baxter MN 56401 United States;X-APPLE-RADIUS=500;X-TITLE=15175 Edgewood Drive:geo:-94.2455997,46.3718322
END:VEVENT
BEGIN:VEVENT
DTSTART;TZID=America/Chicago:20220421T100000
DTEND;TZID=America/Chicago:20220423T160000
DTSTAMP:20260420T051928
CREATED:20220408T201757Z
LAST-MODIFIED:20220408T201757Z
UID:25875-1650535200-1650729600@calendar.brainerd.com
SUMMARY:Beautiful Salvage Boutique Sale
DESCRIPTION:Come Celebrate Earth Day With Us! Shop for upcycled furnishings décor\, inspiration and more! There are so many fun unique and one-of-a-kind items waiting for a new home. The Beautiful Salvage Boutique is located in the Grizzly Center\, kitty corner from Grizzly’s Restaurant and is the last store down from Caribou Coffee. \nEvent Open April 21st\, 22nd\, & 23rd; 10am-4pm \nTraveling for this event? Find Brainerd Lakes Area Lodging
URL:https://calendar.brainerd.com/event/beautiful-salvage-boutique-sale/
LOCATION:Beautiful Salvage Boutique\, 15175 Edgewood Drive\, Baxter\, MN\, 56401\, United States
GEO:46.3718322;-94.2455997
X-APPLE-STRUCTURED-LOCATION;VALUE=URI;X-ADDRESS=Beautiful Salvage Boutique 15175 Edgewood Drive Baxter MN 56401 United States;X-APPLE-RADIUS=500;X-TITLE=15175 Edgewood Drive:geo:-94.2455997,46.3718322
END:VEVENT
BEGIN:VEVENT
DTSTART;TZID=America/Chicago:20220217T100000
DTEND;TZID=America/Chicago:20220219T160000
DTSTAMP:20260420T051928
CREATED:20220218T190801Z
LAST-MODIFIED:20220218T190801Z
UID:25498-1645092000-1645286400@calendar.brainerd.com
SUMMARY:Beautiful Salvage Boutique Sale ‘Dreaming of an Enchanted Spring’
DESCRIPTION:Come Shop the Beautiful Salvage Boutique! ‘Dreaming of an Enchanted Spring’ is this month’s theme. The boutique will be stocked with new inventory that will put a Spring in your step. Upcycled furniture\, jewelry\, clothing\, décor and more!  \n\nLocated in the Grizzly Center\, kitty corner from Grizzly’s Restaurant\, last store down from Caribou Coffee.\nTraveling for this event? Find Brainerd Lakes Area Lodging
URL:https://calendar.brainerd.com/event/beautiful-salvage-boutique-sale-dreaming-of-an-enchanted-spring/
LOCATION:Beautiful Salvage Boutique\, 15175 Edgewood Drive\, Baxter\, MN\, 56401\, United States
GEO:46.3718322;-94.2455997
X-APPLE-STRUCTURED-LOCATION;VALUE=URI;X-ADDRESS=Beautiful Salvage Boutique 15175 Edgewood Drive Baxter MN 56401 United States;X-APPLE-RADIUS=500;X-TITLE=15175 Edgewood Drive:geo:-94.2455997,46.3718322
END:VEVENT
BEGIN:VEVENT
DTSTART;TZID=America/Chicago:20211111T100000
DTEND;TZID=America/Chicago:20211111T160000
DTSTAMP:20260420T051928
CREATED:20211102T144631Z
LAST-MODIFIED:20211102T144631Z
UID:24816-1636624800-1636646400@calendar.brainerd.com
SUMMARY:Beautiful Salvage Christmas Boutique
DESCRIPTION:Come shop the Beautiful Salvage Christmas Boutique! The boutique is packed full of fun decor for the holidays. Get your holiday shopping done with upcycled decor\, beautiful furniture\, jewelry\, clothing\, holiday arrangements\, and more! \nTraveling for this event? Find Brainerd Lakes Area Lodging
URL:https://calendar.brainerd.com/event/beautiful-salvage-christmas-boutique/
LOCATION:Beautiful Salvage Boutique\, 15175 Edgewood Drive\, Baxter\, MN\, 56401\, United States
GEO:46.3718322;-94.2455997
X-APPLE-STRUCTURED-LOCATION;VALUE=URI;X-ADDRESS=Beautiful Salvage Boutique 15175 Edgewood Drive Baxter MN 56401 United States;X-APPLE-RADIUS=500;X-TITLE=15175 Edgewood Drive:geo:-94.2455997,46.3718322
END:VEVENT
END:VCALENDAR