BEGIN:VCALENDAR
VERSION:2.0
PRODID:-//Events Calendar - ECPv6.15.20//NONSGML v1.0//EN
CALSCALE:GREGORIAN
METHOD:PUBLISH
X-ORIGINAL-URL:https://calendar.brainerd.com
X-WR-CALDESC:Events for Events Calendar
REFRESH-INTERVAL;VALUE=DURATION:PT1H
X-Robots-Tag:noindex
X-PUBLISHED-TTL:PT1H
BEGIN:VTIMEZONE
TZID:America/Chicago
BEGIN:DAYLIGHT
TZOFFSETFROM:-0600
TZOFFSETTO:-0500
TZNAME:CDT
DTSTART:20220313T080000
END:DAYLIGHT
BEGIN:STANDARD
TZOFFSETFROM:-0500
TZOFFSETTO:-0600
TZNAME:CST
DTSTART:20221106T070000
END:STANDARD
BEGIN:DAYLIGHT
TZOFFSETFROM:-0600
TZOFFSETTO:-0500
TZNAME:CDT
DTSTART:20230312T080000
END:DAYLIGHT
BEGIN:STANDARD
TZOFFSETFROM:-0500
TZOFFSETTO:-0600
TZNAME:CST
DTSTART:20231105T070000
END:STANDARD
BEGIN:DAYLIGHT
TZOFFSETFROM:-0600
TZOFFSETTO:-0500
TZNAME:CDT
DTSTART:20240310T080000
END:DAYLIGHT
BEGIN:STANDARD
TZOFFSETFROM:-0500
TZOFFSETTO:-0600
TZNAME:CST
DTSTART:20241103T070000
END:STANDARD
END:VTIMEZONE
BEGIN:VEVENT
DTSTART;TZID=America/Chicago:20231213T190000
DTEND;TZID=America/Chicago:20231213T200000
DTSTAMP:20260421T032440
CREATED:20230913T193843Z
LAST-MODIFIED:20230913T193843Z
UID:30542-1702494000-1702497600@calendar.brainerd.com
SUMMARY:Trivia at the Backus American Legion
DESCRIPTION:Trivia at the Backus American Legion \nTraveling for this event? Find Brainerd Lakes Area Lodging
URL:https://calendar.brainerd.com/event/trivia-at-the-backus-american-legion/
LOCATION:Backus American Legion\, 426 Wren Trail NW\, Backus\, MN\, 56435\, United States
GEO:46.8217464;-94.5010307
X-APPLE-STRUCTURED-LOCATION;VALUE=URI;X-ADDRESS=Backus American Legion 426 Wren Trail NW Backus MN 56435 United States;X-APPLE-RADIUS=500;X-TITLE=426 Wren Trail NW:geo:-94.5010307,46.8217464
END:VEVENT
END:VCALENDAR