BEGIN:VCALENDAR
VERSION:2.0
PRODID:-//Events Calendar - ECPv6.15.20//NONSGML v1.0//EN
CALSCALE:GREGORIAN
METHOD:PUBLISH
X-WR-CALNAME:Events Calendar
X-ORIGINAL-URL:https://calendar.brainerd.com
X-WR-CALDESC:Events for Events Calendar
REFRESH-INTERVAL;VALUE=DURATION:PT1H
X-Robots-Tag:noindex
X-PUBLISHED-TTL:PT1H
BEGIN:VTIMEZONE
TZID:America/Chicago
BEGIN:DAYLIGHT
TZOFFSETFROM:-0600
TZOFFSETTO:-0500
TZNAME:CDT
DTSTART:20190310T080000
END:DAYLIGHT
BEGIN:STANDARD
TZOFFSETFROM:-0500
TZOFFSETTO:-0600
TZNAME:CST
DTSTART:20191103T070000
END:STANDARD
BEGIN:DAYLIGHT
TZOFFSETFROM:-0600
TZOFFSETTO:-0500
TZNAME:CDT
DTSTART:20200308T080000
END:DAYLIGHT
BEGIN:STANDARD
TZOFFSETFROM:-0500
TZOFFSETTO:-0600
TZNAME:CST
DTSTART:20201101T070000
END:STANDARD
BEGIN:DAYLIGHT
TZOFFSETFROM:-0600
TZOFFSETTO:-0500
TZNAME:CDT
DTSTART:20210314T080000
END:DAYLIGHT
BEGIN:STANDARD
TZOFFSETFROM:-0500
TZOFFSETTO:-0600
TZNAME:CST
DTSTART:20211107T070000
END:STANDARD
BEGIN:DAYLIGHT
TZOFFSETFROM:-0600
TZOFFSETTO:-0500
TZNAME:CDT
DTSTART:20220313T080000
END:DAYLIGHT
BEGIN:STANDARD
TZOFFSETFROM:-0500
TZOFFSETTO:-0600
TZNAME:CST
DTSTART:20221106T070000
END:STANDARD
BEGIN:DAYLIGHT
TZOFFSETFROM:-0600
TZOFFSETTO:-0500
TZNAME:CDT
DTSTART:20230312T080000
END:DAYLIGHT
BEGIN:STANDARD
TZOFFSETFROM:-0500
TZOFFSETTO:-0600
TZNAME:CST
DTSTART:20231105T070000
END:STANDARD
BEGIN:DAYLIGHT
TZOFFSETFROM:-0600
TZOFFSETTO:-0500
TZNAME:CDT
DTSTART:20240310T080000
END:DAYLIGHT
BEGIN:STANDARD
TZOFFSETFROM:-0500
TZOFFSETTO:-0600
TZNAME:CST
DTSTART:20241103T070000
END:STANDARD
END:VTIMEZONE
BEGIN:VEVENT
DTSTART;TZID=America/Chicago:20230715T163000
DTEND;TZID=America/Chicago:20230715T180000
DTSTAMP:20260421T024626
CREATED:20230404T155207Z
LAST-MODIFIED:20230404T155207Z
UID:29107-1689438600-1689444000@calendar.brainerd.com
SUMMARY:Andy's Seafood Raffle Saturday
DESCRIPTION:Visit Andy’s Bar & Grill for a weekly Seafood Raffle! \nTraveling for this event? Find Brainerd Lakes Area Lodging
URL:https://calendar.brainerd.com/event/andys-seafood-raffle-saturday/
LOCATION:Andy’s Bar and Grill Crosslake\, 35453 County Road 3\, Crosslake\, MN\, 56442\, United States
GEO:46.669316;-94.108494
X-APPLE-STRUCTURED-LOCATION;VALUE=URI;X-ADDRESS=Andy’s Bar and Grill Crosslake 35453 County Road 3 Crosslake MN 56442 United States;X-APPLE-RADIUS=500;X-TITLE=35453 County Road 3:geo:-94.108494,46.669316
END:VEVENT
BEGIN:VEVENT
DTSTART;TZID=America/Chicago:20200320T180000
DTEND;TZID=America/Chicago:20200320T210000
DTSTAMP:20260421T024626
CREATED:20200312T183334Z
LAST-MODIFIED:20200312T183334Z
UID:23046-1584727200-1584738000@calendar.brainerd.com
SUMMARY:St. Patrick's Day Raffle Drawing
DESCRIPTION:2020 St. Patrick’s Day Celebration Raffle Tickets go on sale March 6\, 2020. Purchase your $6 ticket and receive a free Lucky Lanyard valid for deals and discounts all over Crosslake on March 13 & 14\, 2020. Winning raffle tickets will be drawn and more than $6\,000 in prizes courtesy of Crosslake merchants will be awarded on Friday\, March 20\, 2020 at Emerald Sponsor location Andy’s Bar & Grill. \nJoin in the Lucky Leprechaun fun! \nSCHEDULE:\n6:00 pm – Food & Drink Specials\n6:45 pm – Best of Parade Awards\n7:00 pm – Raffle Ticket Winners are announced \nTraveling for this event? Find Brainerd Lakes Area Lodging
URL:https://calendar.brainerd.com/event/st-patricks-day-raffle-drawing/
LOCATION:Andy’s Bar and Grill Crosslake\, 35453 County Road 3\, Crosslake\, MN\, 56442\, United States
GEO:46.669316;-94.108494
X-APPLE-STRUCTURED-LOCATION;VALUE=URI;X-ADDRESS=Andy’s Bar and Grill Crosslake 35453 County Road 3 Crosslake MN 56442 United States;X-APPLE-RADIUS=500;X-TITLE=35453 County Road 3:geo:-94.108494,46.669316
END:VEVENT
END:VCALENDAR