BEGIN:VCALENDAR
VERSION:2.0
PRODID:-//Events Calendar - ECPv6.15.20//NONSGML v1.0//EN
CALSCALE:GREGORIAN
METHOD:PUBLISH
X-ORIGINAL-URL:https://calendar.brainerd.com
X-WR-CALDESC:Events for Events Calendar
REFRESH-INTERVAL;VALUE=DURATION:PT1H
X-Robots-Tag:noindex
X-PUBLISHED-TTL:PT1H
BEGIN:VTIMEZONE
TZID:America/Chicago
BEGIN:DAYLIGHT
TZOFFSETFROM:-0600
TZOFFSETTO:-0500
TZNAME:CDT
DTSTART:20210314T080000
END:DAYLIGHT
BEGIN:STANDARD
TZOFFSETFROM:-0500
TZOFFSETTO:-0600
TZNAME:CST
DTSTART:20211107T070000
END:STANDARD
BEGIN:DAYLIGHT
TZOFFSETFROM:-0600
TZOFFSETTO:-0500
TZNAME:CDT
DTSTART:20220313T080000
END:DAYLIGHT
BEGIN:STANDARD
TZOFFSETFROM:-0500
TZOFFSETTO:-0600
TZNAME:CST
DTSTART:20221106T070000
END:STANDARD
BEGIN:DAYLIGHT
TZOFFSETFROM:-0600
TZOFFSETTO:-0500
TZNAME:CDT
DTSTART:20230312T080000
END:DAYLIGHT
BEGIN:STANDARD
TZOFFSETFROM:-0500
TZOFFSETTO:-0600
TZNAME:CST
DTSTART:20231105T070000
END:STANDARD
BEGIN:DAYLIGHT
TZOFFSETFROM:-0600
TZOFFSETTO:-0500
TZNAME:CDT
DTSTART:20240310T080000
END:DAYLIGHT
BEGIN:STANDARD
TZOFFSETFROM:-0500
TZOFFSETTO:-0600
TZNAME:CST
DTSTART:20241103T070000
END:STANDARD
BEGIN:DAYLIGHT
TZOFFSETFROM:-0600
TZOFFSETTO:-0500
TZNAME:CDT
DTSTART:20250309T080000
END:DAYLIGHT
BEGIN:STANDARD
TZOFFSETFROM:-0500
TZOFFSETTO:-0600
TZNAME:CST
DTSTART:20251102T070000
END:STANDARD
END:VTIMEZONE
BEGIN:VEVENT
DTSTART;TZID=America/Chicago:20240428T140000
DTEND;TZID=America/Chicago:20240428T170000
DTSTAMP:20260420T151329
CREATED:20240424T173937Z
LAST-MODIFIED:20240424T173937Z
UID:32511-1714312800-1714323600@calendar.brainerd.com
SUMMARY:Bingo Knights @ All Saints Gathering Space
DESCRIPTION:Join us for a fun-filled Sunday afternoon at the Knights of Columbus Annual Bingo events this April! Get ready to shout “BINGO!” as we gather for an exciting round of games. Whether you’re a seasoned bingo player or looking to try your luck for the first time\, everyone is welcome to join in on the fun.\nOur games are held every Sunday in April. For just $1.00 per card per round\, you can participate in the excitement and stand a chance to win with pots offering 50% or more. We haven’t forgotten about our young bingo enthusiasts. Kids’ cards and special prizes are also available\, ensuring that the whole family can enjoy the festivities together.\nSt. Francis Social Hall- April 7th\, April 21st\nAll Saints Gathering Space- April 14th\, April 28th\nStay up to date on all our events brainerdcatholic.org \nTraveling for this event? Find Brainerd Lakes Area Lodging
URL:https://calendar.brainerd.com/event/bingo-knights-all-saints-gathering-space/
LOCATION:All Saints Catholic Church\, 16898 Carlson Lake Road\, Brainerd\, MN\, 56401\, United States
GEO:46.396437;-94.294297
X-APPLE-STRUCTURED-LOCATION;VALUE=URI;X-ADDRESS=All Saints Catholic Church 16898 Carlson Lake Road Brainerd MN 56401 United States;X-APPLE-RADIUS=500;X-TITLE=16898 Carlson Lake Road:geo:-94.294297,46.396437
END:VEVENT
BEGIN:VEVENT
DTSTART;TZID=America/Chicago:20231104T090000
DTEND;TZID=America/Chicago:20231104T150000
DTSTAMP:20260420T151329
CREATED:20231101T171748Z
LAST-MODIFIED:20231101T171748Z
UID:30946-1699088400-1699110000@calendar.brainerd.com
SUMMARY:Artisan Fair at All Saints Catholic Church
DESCRIPTION:Make our 3rd Annual All Saints Artisan Fair a huge success! Items for sale will be crafted by our parishioners and available for sale Saturday November 4th from 9 am to 3 pm at All Saints. \nTraveling for this event? Find Brainerd Lakes Area Lodging
URL:https://calendar.brainerd.com/event/artisan-fair-at-all-saints-catholic-church/
LOCATION:All Saints Catholic Church\, 16898 Carlson Lake Road\, Brainerd\, MN\, 56401\, United States
GEO:46.396437;-94.294297
X-APPLE-STRUCTURED-LOCATION;VALUE=URI;X-ADDRESS=All Saints Catholic Church 16898 Carlson Lake Road Brainerd MN 56401 United States;X-APPLE-RADIUS=500;X-TITLE=16898 Carlson Lake Road:geo:-94.294297,46.396437
END:VEVENT
BEGIN:VEVENT
DTSTART;TZID=America/Chicago:20221105T080000
DTEND;TZID=America/Chicago:20221105T140000
DTSTAMP:20260420T151329
CREATED:20221031T183218Z
LAST-MODIFIED:20221031T183218Z
UID:27716-1667635200-1667656800@calendar.brainerd.com
SUMMARY:2nd Annual All Saints Artisan Fair at All Saints Catholic Church
DESCRIPTION:Please help make our 2nd Annual All Saints Artisan Fair a huge success! The proceeds will be used to send the High School students of All Saints to Steubenville next summer.\nItems for sale will be crafted by our parishioners and available for sale Saturday\, November 5 from 8 am to 2 pm. The bake shop/pantry items will also be available after Masses that same weekend. \nTraveling for this event? Find Brainerd Lakes Area Lodging
URL:https://calendar.brainerd.com/event/2nd-annual-all-saints-artisan-fair-at-all-saints-catholic-church/
LOCATION:All Saints Catholic Church\, 16898 Carlson Lake Road\, Brainerd\, MN\, 56401\, United States
GEO:46.396437;-94.294297
X-APPLE-STRUCTURED-LOCATION;VALUE=URI;X-ADDRESS=All Saints Catholic Church 16898 Carlson Lake Road Brainerd MN 56401 United States;X-APPLE-RADIUS=500;X-TITLE=16898 Carlson Lake Road:geo:-94.294297,46.396437
END:VEVENT
END:VCALENDAR