BEGIN:VCALENDAR
VERSION:2.0
PRODID:-//Events Calendar - ECPv6.15.20//NONSGML v1.0//EN
CALSCALE:GREGORIAN
METHOD:PUBLISH
X-ORIGINAL-URL:https://calendar.brainerd.com
X-WR-CALDESC:Events for Events Calendar
REFRESH-INTERVAL;VALUE=DURATION:PT1H
X-Robots-Tag:noindex
X-PUBLISHED-TTL:PT1H
BEGIN:VTIMEZONE
TZID:America/Chicago
BEGIN:DAYLIGHT
TZOFFSETFROM:-0600
TZOFFSETTO:-0500
TZNAME:CDT
DTSTART:20190310T080000
END:DAYLIGHT
BEGIN:STANDARD
TZOFFSETFROM:-0500
TZOFFSETTO:-0600
TZNAME:CST
DTSTART:20191103T070000
END:STANDARD
BEGIN:DAYLIGHT
TZOFFSETFROM:-0600
TZOFFSETTO:-0500
TZNAME:CDT
DTSTART:20200308T080000
END:DAYLIGHT
BEGIN:STANDARD
TZOFFSETFROM:-0500
TZOFFSETTO:-0600
TZNAME:CST
DTSTART:20201101T070000
END:STANDARD
BEGIN:DAYLIGHT
TZOFFSETFROM:-0600
TZOFFSETTO:-0500
TZNAME:CDT
DTSTART:20210314T080000
END:DAYLIGHT
BEGIN:STANDARD
TZOFFSETFROM:-0500
TZOFFSETTO:-0600
TZNAME:CST
DTSTART:20211107T070000
END:STANDARD
END:VTIMEZONE
BEGIN:VEVENT
DTSTART;TZID=America/Chicago:20200201T170000
DTEND;TZID=America/Chicago:20200201T203000
DTSTAMP:20260420T194142
CREATED:20200111T013453Z
LAST-MODIFIED:20200111T013453Z
UID:22411-1580576400-1580589000@calendar.brainerd.com
SUMMARY:The Big Event at Cragun's
DESCRIPTION:BE BOLD – LET YOUR SCHOOL PRIDE GLOW! We invite you to join us at the 7th Annual Big Event! Funds raised will help to enhance opportunities for quality academics\, arts\, activities and athletics for the students of the Brainerd Public Schools. TICKETS ON SALE NOW: bigevent20.givesmart.com \nVIP guests are invited to arrive at 5pm to enjoy the VIP Lounge and the General Admission folks are invited to join the fun starting at 5:30pm. During our VIP Social Hour you can browse through the SILENT AUCTION tables\, join in on the RAFFLES\, play some GAMES while checking out our 4A GRANT DEMONSTRATIONS! A delicious plated meal will be served about 7pm. Program to follow. Keep the fun going when you join us in the Legacy Grille for the AFTER-PARTY! \nThe online auction will open at 10am on Tuesday\, January 28th and closes at 8:30pm on Saturday\, February 1\, 2020. bigevent20.givesmart.com \nView more Brainerd MN Events & Activities | Find Brainerd Resorts | Book your Brainerd Hotel
URL:https://calendar.brainerd.com/event/the-big-event-at-craguns/
LOCATION:Cragun’s Legacy Courses & Grille\, 11496 E Gull Lake Drive\, Brainerd\, MN\, 56401\, United States
ORGANIZER;CN="Brainerd Public Schools Foundation":MAILTO:karmaracemanagement@gmail.com 
GEO:46.3854843;-94.346468
X-APPLE-STRUCTURED-LOCATION;VALUE=URI;X-ADDRESS=Cragun’s Legacy Courses & Grille 11496 E Gull Lake Drive Brainerd MN 56401 United States;X-APPLE-RADIUS=500;X-TITLE=11496 E Gull Lake Drive:geo:-94.346468,46.3854843
END:VEVENT
END:VCALENDAR