BEGIN:VCALENDAR
VERSION:2.0
PRODID:-//Events Calendar - ECPv6.15.20//NONSGML v1.0//EN
CALSCALE:GREGORIAN
METHOD:PUBLISH
X-ORIGINAL-URL:https://calendar.brainerd.com
X-WR-CALDESC:Events for Events Calendar
REFRESH-INTERVAL;VALUE=DURATION:PT1H
X-Robots-Tag:noindex
X-PUBLISHED-TTL:PT1H
BEGIN:VTIMEZONE
TZID:America/Chicago
BEGIN:DAYLIGHT
TZOFFSETFROM:-0600
TZOFFSETTO:-0500
TZNAME:CDT
DTSTART:20240310T080000
END:DAYLIGHT
BEGIN:STANDARD
TZOFFSETFROM:-0500
TZOFFSETTO:-0600
TZNAME:CST
DTSTART:20241103T070000
END:STANDARD
BEGIN:DAYLIGHT
TZOFFSETFROM:-0600
TZOFFSETTO:-0500
TZNAME:CDT
DTSTART:20250309T080000
END:DAYLIGHT
BEGIN:STANDARD
TZOFFSETFROM:-0500
TZOFFSETTO:-0600
TZNAME:CST
DTSTART:20251102T070000
END:STANDARD
BEGIN:DAYLIGHT
TZOFFSETFROM:-0600
TZOFFSETTO:-0500
TZNAME:CDT
DTSTART:20260308T080000
END:DAYLIGHT
BEGIN:STANDARD
TZOFFSETFROM:-0500
TZOFFSETTO:-0600
TZNAME:CST
DTSTART:20261101T070000
END:STANDARD
END:VTIMEZONE
BEGIN:VEVENT
DTSTART;TZID=America/Chicago:20251110T190000
DTEND;TZID=America/Chicago:20251110T220000
DTSTAMP:20260422T153616
CREATED:20251020T191615Z
LAST-MODIFIED:20251020T191615Z
UID:43435-1762801200-1762812000@calendar.brainerd.com
SUMMARY:Ten November: The Wreck of the Edmund Fitzgerald
DESCRIPTION:The production\, TEN NOVEMBER\, recognizes the 50th year since one of the most dramatic and tragic maritime disasters on the Great Lakes. On November 10\, 1975\, the S.S. Edmund Fitzgerald sank during a storm in Lake Superior\, taking with it 29 men. Inspired by the Gordon Lightfoot song “The Wreck of the Edmond Fitzgerald\,” this docudrama is a compelling inquiry into the unanswered questions about that tragedy. The beautiful folk music will surely leave you captivated and adds such a lovely touch to the performance. \nBest enjoyed by ages 12 and up. All tickets $10.00 \nShowing: November 7-10 \nView more Brainerd MN Events & Activities | Find Brainerd Resorts | Book your Brainerd Hotel
URL:https://calendar.brainerd.com/event/ten-november-the-wreck-of-the-edmund-fitzgerald/2025-11-10/
LOCATION:Stage North Theatre\, 1001 Kingwood Street\, Brainerd\, MN\, 56401\, United States
ORGANIZER;CN="Stage North Theatre":MAILTO:gary@stagenorththeater.com
GEO:46.3598174;-94.1935398
X-APPLE-STRUCTURED-LOCATION;VALUE=URI;X-ADDRESS=Stage North Theatre 1001 Kingwood Street Brainerd MN 56401 United States;X-APPLE-RADIUS=500;X-TITLE=1001 Kingwood Street:geo:-94.1935398,46.3598174
END:VEVENT
BEGIN:VEVENT
DTSTART;TZID=America/Chicago:20251109T190000
DTEND;TZID=America/Chicago:20251109T220000
DTSTAMP:20260422T153616
CREATED:20251020T191615Z
LAST-MODIFIED:20251020T191615Z
UID:43434-1762714800-1762725600@calendar.brainerd.com
SUMMARY:Ten November: The Wreck of the Edmund Fitzgerald
DESCRIPTION:The production\, TEN NOVEMBER\, recognizes the 50th year since one of the most dramatic and tragic maritime disasters on the Great Lakes. On November 10\, 1975\, the S.S. Edmund Fitzgerald sank during a storm in Lake Superior\, taking with it 29 men. Inspired by the Gordon Lightfoot song “The Wreck of the Edmond Fitzgerald\,” this docudrama is a compelling inquiry into the unanswered questions about that tragedy. The beautiful folk music will surely leave you captivated and adds such a lovely touch to the performance. \nBest enjoyed by ages 12 and up. All tickets $10.00 \nShowing: November 7-10 \nView more Brainerd MN Events & Activities | Find Brainerd Resorts | Book your Brainerd Hotel
URL:https://calendar.brainerd.com/event/ten-november-the-wreck-of-the-edmund-fitzgerald/2025-11-09/
LOCATION:Stage North Theatre\, 1001 Kingwood Street\, Brainerd\, MN\, 56401\, United States
ORGANIZER;CN="Stage North Theatre":MAILTO:gary@stagenorththeater.com
GEO:46.3598174;-94.1935398
X-APPLE-STRUCTURED-LOCATION;VALUE=URI;X-ADDRESS=Stage North Theatre 1001 Kingwood Street Brainerd MN 56401 United States;X-APPLE-RADIUS=500;X-TITLE=1001 Kingwood Street:geo:-94.1935398,46.3598174
END:VEVENT
BEGIN:VEVENT
DTSTART;TZID=America/Chicago:20251108T190000
DTEND;TZID=America/Chicago:20251108T220000
DTSTAMP:20260422T153616
CREATED:20251020T191615Z
LAST-MODIFIED:20251020T191615Z
UID:43433-1762628400-1762639200@calendar.brainerd.com
SUMMARY:Ten November: The Wreck of the Edmund Fitzgerald
DESCRIPTION:The production\, TEN NOVEMBER\, recognizes the 50th year since one of the most dramatic and tragic maritime disasters on the Great Lakes. On November 10\, 1975\, the S.S. Edmund Fitzgerald sank during a storm in Lake Superior\, taking with it 29 men. Inspired by the Gordon Lightfoot song “The Wreck of the Edmond Fitzgerald\,” this docudrama is a compelling inquiry into the unanswered questions about that tragedy. The beautiful folk music will surely leave you captivated and adds such a lovely touch to the performance. \nBest enjoyed by ages 12 and up. All tickets $10.00 \nShowing: November 7-10 \nView more Brainerd MN Events & Activities | Find Brainerd Resorts | Book your Brainerd Hotel
URL:https://calendar.brainerd.com/event/ten-november-the-wreck-of-the-edmund-fitzgerald/2025-11-08/
LOCATION:Stage North Theatre\, 1001 Kingwood Street\, Brainerd\, MN\, 56401\, United States
ORGANIZER;CN="Stage North Theatre":MAILTO:gary@stagenorththeater.com
GEO:46.3598174;-94.1935398
X-APPLE-STRUCTURED-LOCATION;VALUE=URI;X-ADDRESS=Stage North Theatre 1001 Kingwood Street Brainerd MN 56401 United States;X-APPLE-RADIUS=500;X-TITLE=1001 Kingwood Street:geo:-94.1935398,46.3598174
END:VEVENT
BEGIN:VEVENT
DTSTART;TZID=America/Chicago:20251107T190000
DTEND;TZID=America/Chicago:20251107T220000
DTSTAMP:20260422T153616
CREATED:20251020T191615Z
LAST-MODIFIED:20251020T191615Z
UID:43430-1762542000-1762552800@calendar.brainerd.com
SUMMARY:Ten November: The Wreck of the Edmund Fitzgerald
DESCRIPTION:The production\, TEN NOVEMBER\, recognizes the 50th year since one of the most dramatic and tragic maritime disasters on the Great Lakes. On November 10\, 1975\, the S.S. Edmund Fitzgerald sank during a storm in Lake Superior\, taking with it 29 men. Inspired by the Gordon Lightfoot song “The Wreck of the Edmond Fitzgerald\,” this docudrama is a compelling inquiry into the unanswered questions about that tragedy. The beautiful folk music will surely leave you captivated and adds such a lovely touch to the performance. \nBest enjoyed by ages 12 and up. All tickets $10.00 \nShowing: November 7-10 \nView more Brainerd MN Events & Activities | Find Brainerd Resorts | Book your Brainerd Hotel
URL:https://calendar.brainerd.com/event/ten-november-the-wreck-of-the-edmund-fitzgerald/2025-11-07/
LOCATION:Stage North Theatre\, 1001 Kingwood Street\, Brainerd\, MN\, 56401\, United States
ORGANIZER;CN="Stage North Theatre":MAILTO:gary@stagenorththeater.com
GEO:46.3598174;-94.1935398
X-APPLE-STRUCTURED-LOCATION;VALUE=URI;X-ADDRESS=Stage North Theatre 1001 Kingwood Street Brainerd MN 56401 United States;X-APPLE-RADIUS=500;X-TITLE=1001 Kingwood Street:geo:-94.1935398,46.3598174
END:VEVENT
END:VCALENDAR