BEGIN:VCALENDAR
VERSION:2.0
PRODID:-//Events Calendar - ECPv6.15.20//NONSGML v1.0//EN
CALSCALE:GREGORIAN
METHOD:PUBLISH
X-WR-CALNAME:Events Calendar
X-ORIGINAL-URL:https://calendar.brainerd.com
X-WR-CALDESC:Events for Events Calendar
REFRESH-INTERVAL;VALUE=DURATION:PT1H
X-Robots-Tag:noindex
X-PUBLISHED-TTL:PT1H
BEGIN:VTIMEZONE
TZID:America/Chicago
BEGIN:DAYLIGHT
TZOFFSETFROM:-0600
TZOFFSETTO:-0500
TZNAME:CDT
DTSTART:20190310T080000
END:DAYLIGHT
BEGIN:STANDARD
TZOFFSETFROM:-0500
TZOFFSETTO:-0600
TZNAME:CST
DTSTART:20191103T070000
END:STANDARD
BEGIN:DAYLIGHT
TZOFFSETFROM:-0600
TZOFFSETTO:-0500
TZNAME:CDT
DTSTART:20200308T080000
END:DAYLIGHT
BEGIN:STANDARD
TZOFFSETFROM:-0500
TZOFFSETTO:-0600
TZNAME:CST
DTSTART:20201101T070000
END:STANDARD
BEGIN:DAYLIGHT
TZOFFSETFROM:-0600
TZOFFSETTO:-0500
TZNAME:CDT
DTSTART:20210314T080000
END:DAYLIGHT
BEGIN:STANDARD
TZOFFSETFROM:-0500
TZOFFSETTO:-0600
TZNAME:CST
DTSTART:20211107T070000
END:STANDARD
END:VTIMEZONE
BEGIN:VEVENT
DTSTART;TZID=America/Chicago:20200307T190000
DTEND;TZID=America/Chicago:20200307T220000
DTSTAMP:20260419T183518
CREATED:20191109T203206Z
LAST-MODIFIED:20191109T203206Z
UID:22175-1583607600-1583618400@calendar.brainerd.com
SUMMARY:Miss Nisswa Scholarship Pageant and Little Miss Nisswa Program
DESCRIPTION:Join us for the 48th Annual Miss Nisswa Scholarship Pageant and 29th Annual Little Miss Nisswa Program. Girls 11th and 12 grade living within a 10 mile radius of Nisswa and those who attend Brainerd Senior High are eligible to enter this scholarship competition. Winners will receive up to $4\,000 in prizes and college scholarships. \nView more Brainerd MN Events & Activities | Find Brainerd Resorts | Book your Brainerd Hotel
URL:https://calendar.brainerd.com/event/miss-nisswa-scholarship-pageant-and-little-miss-nisswa-program/
LOCATION:Nisswa Elementary\, 5533 Lakers Lane\, Nisswa\, MN\, 56468\, United States
GEO:46.5205224;-94.2886089
X-APPLE-STRUCTURED-LOCATION;VALUE=URI;X-ADDRESS=Nisswa Elementary 5533 Lakers Lane Nisswa MN 56468 United States;X-APPLE-RADIUS=500;X-TITLE=5533 Lakers Lane:geo:-94.2886089,46.5205224
END:VEVENT
END:VCALENDAR