BEGIN:VCALENDAR
VERSION:2.0
PRODID:-//Events Calendar - ECPv6.15.20//NONSGML v1.0//EN
CALSCALE:GREGORIAN
METHOD:PUBLISH
X-ORIGINAL-URL:https://calendar.brainerd.com
X-WR-CALDESC:Events for Events Calendar
REFRESH-INTERVAL;VALUE=DURATION:PT1H
X-Robots-Tag:noindex
X-PUBLISHED-TTL:PT1H
BEGIN:VTIMEZONE
TZID:America/Chicago
BEGIN:DAYLIGHT
TZOFFSETFROM:-0600
TZOFFSETTO:-0500
TZNAME:CDT
DTSTART:20200308T080000
END:DAYLIGHT
BEGIN:STANDARD
TZOFFSETFROM:-0500
TZOFFSETTO:-0600
TZNAME:CST
DTSTART:20201101T070000
END:STANDARD
BEGIN:DAYLIGHT
TZOFFSETFROM:-0600
TZOFFSETTO:-0500
TZNAME:CDT
DTSTART:20210314T080000
END:DAYLIGHT
BEGIN:STANDARD
TZOFFSETFROM:-0500
TZOFFSETTO:-0600
TZNAME:CST
DTSTART:20211107T070000
END:STANDARD
BEGIN:DAYLIGHT
TZOFFSETFROM:-0600
TZOFFSETTO:-0500
TZNAME:CDT
DTSTART:20220313T080000
END:DAYLIGHT
BEGIN:STANDARD
TZOFFSETFROM:-0500
TZOFFSETTO:-0600
TZNAME:CST
DTSTART:20221106T070000
END:STANDARD
END:VTIMEZONE
BEGIN:VEVENT
DTSTART;TZID=America/Chicago:20210704T220000
DTEND;TZID=America/Chicago:20210704T223000
DTSTAMP:20260421T023940
CREATED:20210618T131632Z
LAST-MODIFIED:20210618T131632Z
UID:24404-1625436000-1625437800@calendar.brainerd.com
SUMMARY:Fireworks - Gull Lake
DESCRIPTION:Madden’s and Cragun’s on Gull Lake partner to provide fireworks starting around 10 p.m. You can watch from the East Gull Lake airport\, the Madden’s driving range on County Road 77\, or watch by boat on the south end of Gull Lake \nTraveling for this event? Find Brainerd Lakes Area Lodging
URL:https://calendar.brainerd.com/event/fireworks-gull-lake-2/
LOCATION:Gull Lake\, MN\, United States
ORGANIZER;CN="Madden's on Gull Lake":MAILTO:vacation@maddens.com
GEO:46.457331504;-94.353998584
END:VEVENT
END:VCALENDAR