BEGIN:VCALENDAR
VERSION:2.0
PRODID:-//Events Calendar - ECPv6.15.20//NONSGML v1.0//EN
CALSCALE:GREGORIAN
METHOD:PUBLISH
X-WR-CALNAME:Events Calendar
X-ORIGINAL-URL:https://calendar.brainerd.com
X-WR-CALDESC:Events for Events Calendar
REFRESH-INTERVAL;VALUE=DURATION:PT1H
X-Robots-Tag:noindex
X-PUBLISHED-TTL:PT1H
BEGIN:VTIMEZONE
TZID:America/Chicago
BEGIN:DAYLIGHT
TZOFFSETFROM:-0600
TZOFFSETTO:-0500
TZNAME:CDT
DTSTART:20200308T080000
END:DAYLIGHT
BEGIN:STANDARD
TZOFFSETFROM:-0500
TZOFFSETTO:-0600
TZNAME:CST
DTSTART:20201101T070000
END:STANDARD
BEGIN:DAYLIGHT
TZOFFSETFROM:-0600
TZOFFSETTO:-0500
TZNAME:CDT
DTSTART:20210314T080000
END:DAYLIGHT
BEGIN:STANDARD
TZOFFSETFROM:-0500
TZOFFSETTO:-0600
TZNAME:CST
DTSTART:20211107T070000
END:STANDARD
BEGIN:DAYLIGHT
TZOFFSETFROM:-0600
TZOFFSETTO:-0500
TZNAME:CDT
DTSTART:20220313T080000
END:DAYLIGHT
BEGIN:STANDARD
TZOFFSETFROM:-0500
TZOFFSETTO:-0600
TZNAME:CST
DTSTART:20221106T070000
END:STANDARD
END:VTIMEZONE
BEGIN:VEVENT
DTSTART;VALUE=DATE:20210220
DTEND;VALUE=DATE:20210302
DTSTAMP:20260420T034321
CREATED:20210114T184038Z
LAST-MODIFIED:20210114T184038Z
UID:23833-1613790000-1614567599@calendar.brainerd.com
SUMMARY:15th Annual Back to Basics
DESCRIPTION:Back to Basics is the premier sustainable living event of north-central Minnesota and our longest running event. One of the best parts of Back to Basics is the community of people around the event. This year\, due to the COVID-19 pandemic\, B2B is going virtual! Take in a virtual keynote presentations that are sure to inform and inspire. Stay connected by watching informative workshop presentations at your leisure from the comfort of your own home. Shop online from a variety of vendors offering services and locally made/grown goods of a sustainable nature. Build your resilience during these challenging times! \nTraveling for this event? Find Brainerd Lakes Area Lodging
URL:https://calendar.brainerd.com/event/15th-annual-back-to-basics/
LOCATION:Virtual Event\, MN\, United States
GEO:46.729553;-94.6858998
END:VEVENT
END:VCALENDAR